BEGIN:VCALENDAR
VERSION:2.0
PRODID:-//TR Riviera Theatre - ECPv6.15.13//NONSGML v1.0//EN
CALSCALE:GREGORIAN
METHOD:PUBLISH
X-ORIGINAL-URL:https://trriviera.com
X-WR-CALDESC:Events for TR Riviera Theatre
REFRESH-INTERVAL;VALUE=DURATION:PT1H
X-Robots-Tag:noindex
X-PUBLISHED-TTL:PT1H
BEGIN:VTIMEZONE
TZID:America/Detroit
BEGIN:DAYLIGHT
TZOFFSETFROM:-0500
TZOFFSETTO:-0400
TZNAME:EDT
DTSTART:20210314T070000
END:DAYLIGHT
BEGIN:STANDARD
TZOFFSETFROM:-0400
TZOFFSETTO:-0500
TZNAME:EST
DTSTART:20211107T060000
END:STANDARD
BEGIN:DAYLIGHT
TZOFFSETFROM:-0500
TZOFFSETTO:-0400
TZNAME:EDT
DTSTART:20220313T070000
END:DAYLIGHT
BEGIN:STANDARD
TZOFFSETFROM:-0400
TZOFFSETTO:-0500
TZNAME:EST
DTSTART:20221106T060000
END:STANDARD
BEGIN:DAYLIGHT
TZOFFSETFROM:-0500
TZOFFSETTO:-0400
TZNAME:EDT
DTSTART:20230312T070000
END:DAYLIGHT
BEGIN:STANDARD
TZOFFSETFROM:-0400
TZOFFSETTO:-0500
TZNAME:EST
DTSTART:20231105T060000
END:STANDARD
END:VTIMEZONE
BEGIN:VEVENT
DTSTART;VALUE=DATE:20221202
DTEND;VALUE=DATE:20221203
DTSTAMP:20260420T221303
CREATED:20221202T200614Z
LAST-MODIFIED:20221202T201746Z
UID:4200-1669939200-1670025599@trriviera.com
SUMMARY:Festive Fridays: Giving Friday
DESCRIPTION:Bring an unwrapped toy\, winter gear &/or a non-perishable food item to donate. Return on Sunday with a non-perishable food item to screen Polar Express at 2PM & 5PM
URL:https://trriviera.com/event/festive-fridays-giving-friday/
LOCATION:Downtown Area
CATEGORIES:DDA Event
ATTACH;FMTTYPE=image/jpeg:https://trriviera.com/wp-content/uploads/2022/12/317489537_568589281939453_1066956355024694268_n.jpg
END:VEVENT
BEGIN:VEVENT
DTSTART;TZID=America/Detroit:20221202T191500
DTEND;TZID=America/Detroit:20221202T204500
DTSTAMP:20260420T221303
CREATED:20221129T171859Z
LAST-MODIFIED:20221129T180047Z
UID:4147-1670008500-1670013900@trriviera.com
SUMMARY:Fawn River Premiere
DESCRIPTION:Fawn River Premiere (R) 90 mins \nAfter a small midwestern town is rocked after the discovery of a buried corpse near the local dam\, a detective and an alcoholic father must team up to locate a group of teens after they were last seen deep in the woods a few miles down river from where the body was found\, in a forbidden area locals only refer to as Purgatory!\nDirected by Johnathan Hart. Starring Sophie Bolen\, Jason London & Mavin Tramble. \nPurchase tx at: www.purplepass.com/fawnriverpremiere
URL:https://trriviera.com/event/fawn-river-premiere/
LOCATION:MI
CATEGORIES:Film
ATTACH;FMTTYPE=image/jpeg:https://trriviera.com/wp-content/uploads/2022/11/316125360_557109849754063_6595577799863025831_n.jpg
END:VEVENT
END:VCALENDAR