BEGIN:VCALENDAR
VERSION:2.0
PRODID:-//TR Riviera Theatre - ECPv6.15.13//NONSGML v1.0//EN
CALSCALE:GREGORIAN
METHOD:PUBLISH
X-WR-CALNAME:TR Riviera Theatre
X-ORIGINAL-URL:https://trriviera.com
X-WR-CALDESC:Events for TR Riviera Theatre
REFRESH-INTERVAL;VALUE=DURATION:PT1H
X-Robots-Tag:noindex
X-PUBLISHED-TTL:PT1H
BEGIN:VTIMEZONE
TZID:America/Detroit
BEGIN:DAYLIGHT
TZOFFSETFROM:-0500
TZOFFSETTO:-0400
TZNAME:EDT
DTSTART:20210314T070000
END:DAYLIGHT
BEGIN:STANDARD
TZOFFSETFROM:-0400
TZOFFSETTO:-0500
TZNAME:EST
DTSTART:20211107T060000
END:STANDARD
BEGIN:DAYLIGHT
TZOFFSETFROM:-0500
TZOFFSETTO:-0400
TZNAME:EDT
DTSTART:20220313T070000
END:DAYLIGHT
BEGIN:STANDARD
TZOFFSETFROM:-0400
TZOFFSETTO:-0500
TZNAME:EST
DTSTART:20221106T060000
END:STANDARD
BEGIN:DAYLIGHT
TZOFFSETFROM:-0500
TZOFFSETTO:-0400
TZNAME:EDT
DTSTART:20230312T070000
END:DAYLIGHT
BEGIN:STANDARD
TZOFFSETFROM:-0400
TZOFFSETTO:-0500
TZNAME:EST
DTSTART:20231105T060000
END:STANDARD
END:VTIMEZONE
BEGIN:VEVENT
DTSTART;VALUE=DATE:20221216
DTEND;VALUE=DATE:20221217
DTSTAMP:20260420T221109
CREATED:20221202T201411Z
LAST-MODIFIED:20221202T201746Z
UID:4207-1671148800-1671235199@trriviera.com
SUMMARY:Festive Fridays: Fugly Friday
DESCRIPTION:Pull out your favorite ugly sweater for a pub crawl. Live music at The Riv.
URL:https://trriviera.com/event/festive-fridays-fugly-friday/
LOCATION:Downtown Area
CATEGORIES:DDA Event
ATTACH;FMTTYPE=image/jpeg:https://trriviera.com/wp-content/uploads/2022/12/317489537_568589281939453_1066956355024694268_n.jpg
END:VEVENT
BEGIN:VEVENT
DTSTART;TZID=America/Detroit:20221216T190000
DTEND;TZID=America/Detroit:20221216T210000
DTSTAMP:20260420T221109
CREATED:20221202T200236Z
LAST-MODIFIED:20221202T201624Z
UID:4198-1671217200-1671224400@trriviera.com
SUMMARY:Fugly Christmas w/ Mark Higgins
DESCRIPTION:Unpack your favorite ugly Christmas sweater and stop out to listen to the music of Mark Higgins in the bar.
URL:https://trriviera.com/event/fugly-christmas-w-mark-higgins/
LOCATION:Riviera Theatre Auditorium\, 50 N. Main St.\, Three Rivers\, MI\, 49093\, United States
CATEGORIES:Music
ATTACH;FMTTYPE=image/jpeg:https://trriviera.com/wp-content/uploads/2022/12/317847001_570532801745101_5262813716368634296_n.jpg
END:VEVENT
END:VCALENDAR