BEGIN:VCALENDAR
VERSION:2.0
PRODID:-//TR Riviera Theatre - ECPv6.15.13//NONSGML v1.0//EN
CALSCALE:GREGORIAN
METHOD:PUBLISH
X-WR-CALNAME:TR Riviera Theatre
X-ORIGINAL-URL:https://trriviera.com
X-WR-CALDESC:Events for TR Riviera Theatre
REFRESH-INTERVAL;VALUE=DURATION:PT1H
X-Robots-Tag:noindex
X-PUBLISHED-TTL:PT1H
BEGIN:VTIMEZONE
TZID:America/Detroit
BEGIN:DAYLIGHT
TZOFFSETFROM:-0500
TZOFFSETTO:-0400
TZNAME:EDT
DTSTART:20210314T070000
END:DAYLIGHT
BEGIN:STANDARD
TZOFFSETFROM:-0400
TZOFFSETTO:-0500
TZNAME:EST
DTSTART:20211107T060000
END:STANDARD
BEGIN:DAYLIGHT
TZOFFSETFROM:-0500
TZOFFSETTO:-0400
TZNAME:EDT
DTSTART:20220313T070000
END:DAYLIGHT
BEGIN:STANDARD
TZOFFSETFROM:-0400
TZOFFSETTO:-0500
TZNAME:EST
DTSTART:20221106T060000
END:STANDARD
BEGIN:DAYLIGHT
TZOFFSETFROM:-0500
TZOFFSETTO:-0400
TZNAME:EDT
DTSTART:20230312T070000
END:DAYLIGHT
BEGIN:STANDARD
TZOFFSETFROM:-0400
TZOFFSETTO:-0500
TZNAME:EST
DTSTART:20231105T060000
END:STANDARD
END:VTIMEZONE
BEGIN:VEVENT
DTSTART;VALUE=DATE:20221223
DTEND;VALUE=DATE:20221224
DTSTAMP:20260420T221109
CREATED:20221202T201520Z
LAST-MODIFIED:20221202T201746Z
UID:4209-1671753600-1671839999@trriviera.com
SUMMARY:Festive Fridays: Final Friday
DESCRIPTION:Last minute shopping and a free screening of Elf at 7PM!
URL:https://trriviera.com/event/festive-fridays-final-friday/
LOCATION:Downtown Area
CATEGORIES:DDA Event
ATTACH;FMTTYPE=image/jpeg:https://trriviera.com/wp-content/uploads/2022/12/317489537_568589281939453_1066956355024694268_n.jpg
END:VEVENT
BEGIN:VEVENT
DTSTART;TZID=America/Detroit:20221223T190000
DTEND;TZID=America/Detroit:20221223T210000
DTSTAMP:20260420T221109
CREATED:20221129T173834Z
LAST-MODIFIED:20221129T175936Z
UID:4158-1671822000-1671829200@trriviera.com
SUMMARY:Elf
DESCRIPTION:Sunday\, December 23: 7pm\nFREE!\n\nWill Ferrell stars as Buddy\, an adult human who was raised by elves at the North Pole. When the news is finally broken to Buddy that he’s a not a real elf\, he decides to head to New York City to find his birth father—a man who is on Santa’s naughty list for being a heartless jerk\, and has no idea that Buddy was ever born. Buddy\, meanwhile\, experiences the delights of New York as only an “elf” can. Elf also stars Ed Asner\, James Caan\, Mary Steenburgen\, Zooey Deschanel\, and Bob Newhart.\n\n97 minutes / PG
URL:https://trriviera.com/event/elf/
LOCATION:Riviera Theatre Auditorium\, 50 N. Main St.\, Three Rivers\, MI\, 49093\, United States
CATEGORIES:Film
ATTACH;FMTTYPE=image/jpeg:https://trriviera.com/wp-content/uploads/2022/11/314446202_548018163996565_8484436472271849700_n.jpg
END:VEVENT
END:VCALENDAR