BEGIN:VCALENDAR
VERSION:2.0
PRODID:-//TR Riviera Theatre - ECPv6.15.13//NONSGML v1.0//EN
CALSCALE:GREGORIAN
METHOD:PUBLISH
X-WR-CALNAME:TR Riviera Theatre
X-ORIGINAL-URL:https://trriviera.com
X-WR-CALDESC:Events for TR Riviera Theatre
REFRESH-INTERVAL;VALUE=DURATION:PT1H
X-Robots-Tag:noindex
X-PUBLISHED-TTL:PT1H
BEGIN:VTIMEZONE
TZID:America/Detroit
BEGIN:DAYLIGHT
TZOFFSETFROM:-0500
TZOFFSETTO:-0400
TZNAME:EDT
DTSTART:20220313T070000
END:DAYLIGHT
BEGIN:STANDARD
TZOFFSETFROM:-0400
TZOFFSETTO:-0500
TZNAME:EST
DTSTART:20221106T060000
END:STANDARD
BEGIN:DAYLIGHT
TZOFFSETFROM:-0500
TZOFFSETTO:-0400
TZNAME:EDT
DTSTART:20230312T070000
END:DAYLIGHT
BEGIN:STANDARD
TZOFFSETFROM:-0400
TZOFFSETTO:-0500
TZNAME:EST
DTSTART:20231105T060000
END:STANDARD
BEGIN:DAYLIGHT
TZOFFSETFROM:-0500
TZOFFSETTO:-0400
TZNAME:EDT
DTSTART:20240310T070000
END:DAYLIGHT
BEGIN:STANDARD
TZOFFSETFROM:-0400
TZOFFSETTO:-0500
TZNAME:EST
DTSTART:20241103T060000
END:STANDARD
END:VTIMEZONE
BEGIN:VEVENT
DTSTART;TZID=America/Detroit:20230812T180000
DTEND;TZID=America/Detroit:20230812T235900
DTSTAMP:20260420T113632
CREATED:20230721T204613Z
LAST-MODIFIED:20230721T204613Z
UID:4508-1691863200-1691884740@trriviera.com
SUMMARY:TRHS Class of '88 - 35th class reunion
DESCRIPTION:Calling all TRHS Class of 1988\, please mark your calendar for our 35th class reunion! We have an exciting evening planned on Saturday\, August 12th\, we have booked the Riviera Theatre starting at 6pm and going to Midnight. If you have not been inside since the total renovation\, you will be in for a pleasant surprise. The Y Naut Band will be our entertainment for the night and they go on stage starting at 7pm. The band is led by our own Steve Bidelman\, and they have plenty of 80’s music and current hits lined up.\n\n\nWe have had a very generous classmate cover the cost of the theater and another cover the cost of the band! All you have to pay for is your drinks (there will be an open bar at the theater) and food (light snacks from theater and heavier food delivered during the night). I will send more info about the food once we get closer. The Riviera is huge and can hold nearly 300+ people. So…..feel free to bring a spouse\, friends\, or anyone else you would like. Please RSVP to the reunion Facebook page\, so I can get an accurate headcount for the theater. More to follow!\n\n\nCharley Barth\nClass of 88 President
URL:https://trriviera.com/event/trhs-class-of-88-35th-class-reunion/
LOCATION:Riviera Theatre Auditorium\, 50 N. Main St.\, Three Rivers\, MI\, 49093\, United States
ATTACH;FMTTYPE=image/jpeg:https://trriviera.com/wp-content/uploads/2023/07/305035966_743863030364863_972276988773490911_n.jpg
END:VEVENT
END:VCALENDAR