BEGIN:VCALENDAR
VERSION:2.0
PRODID:-//TR Riviera Theatre - ECPv6.15.13//NONSGML v1.0//EN
CALSCALE:GREGORIAN
METHOD:PUBLISH
X-WR-CALNAME:TR Riviera Theatre
X-ORIGINAL-URL:https://trriviera.com
X-WR-CALDESC:Events for TR Riviera Theatre
REFRESH-INTERVAL;VALUE=DURATION:PT1H
X-Robots-Tag:noindex
X-PUBLISHED-TTL:PT1H
BEGIN:VTIMEZONE
TZID:America/Detroit
BEGIN:DAYLIGHT
TZOFFSETFROM:-0500
TZOFFSETTO:-0400
TZNAME:EDT
DTSTART:20220313T070000
END:DAYLIGHT
BEGIN:STANDARD
TZOFFSETFROM:-0400
TZOFFSETTO:-0500
TZNAME:EST
DTSTART:20221106T060000
END:STANDARD
BEGIN:DAYLIGHT
TZOFFSETFROM:-0500
TZOFFSETTO:-0400
TZNAME:EDT
DTSTART:20230312T070000
END:DAYLIGHT
BEGIN:STANDARD
TZOFFSETFROM:-0400
TZOFFSETTO:-0500
TZNAME:EST
DTSTART:20231105T060000
END:STANDARD
BEGIN:DAYLIGHT
TZOFFSETFROM:-0500
TZOFFSETTO:-0400
TZNAME:EDT
DTSTART:20240310T070000
END:DAYLIGHT
BEGIN:STANDARD
TZOFFSETFROM:-0400
TZOFFSETTO:-0500
TZNAME:EST
DTSTART:20241103T060000
END:STANDARD
END:VTIMEZONE
BEGIN:VEVENT
DTSTART;TZID=America/Detroit:20231104T193000
DTEND;TZID=America/Detroit:20231104T210000
DTSTAMP:20260420T063738
CREATED:20231017T033300Z
LAST-MODIFIED:20231227T192346Z
UID:4539-1699126200-1699131600@trriviera.com
SUMMARY:Mick Kolassa
DESCRIPTION:Join us for an unforgettable night of soulful blues and heartwarming generosity as Mick Kolassa and the Endless Blues Band take the stage at the iconic Riviera Theatre & Bar on November 4th\, from 7:30 pm to 10:00 pm! \nGet ready to be swept away by the mesmerizing melodies and electrifying rhythms only Mick Kolassa and his talented band can deliver. Their music is a fusion of raw emotion\, expert musicianship\, and a deep love for the blues that will have you tapping your feet and swaying to the beat all night.\nBut this concert isn’t just about the music; it’s about making a difference in our community. We are proud to announce that all proceeds from this benefit concert will go directly to building the Three Rivers Promise\, a non-profit organization dedicated to providing post-secondary educational opportunities for future TRHS graduates. Tickets are $20 and grant you access to an incredible evening of blues and contribute to a brighter future for our local students.  Purchase tx at: https://www.purplepass.com/?fbclid=IwAR3VaKOH458KUSdbB0bJIoDAUvPj_rjzjBrj9ocJBDDMm1aTG1DWZ5SjJeI#268365/Riviera_Theatre-Mick_Kolassa_&_The_Endless_Blues_Band-Riviera_Theatre-November-04-2023.html. or stop by Lowry’s Book & More or the Riviera’s Ticket Booth!\n\nSo\, mark your calendars and grab your tickets now! Let’s unite as a community\, enjoy some soul-soothing music\, and support a cause close to our hearts. Join us on November 4th at the Riviera Theatre & Bar for a night of blues\, unity\, and making a positive impact on the lives of our future graduates. It’s a night you won’t want to miss!  #BluesForACause #ThreeRiversPromiseBenefitConcert\n“Michissippi Mick” Kolassa lives in Memphis but was born in Michigan and lived in Mississippi for nearly 30 years\, where he was given his nickname. He has performed the blues in legendary venues and numerous festivals across North America and Europe with both his solo & duo acoustic formats\, as well as with his full bands. \n 
URL:https://trriviera.com/event/mick-kolassa/
LOCATION:Riviera Theatre Auditorium\, 50 N. Main St.\, Three Rivers\, MI\, 49093\, United States
CATEGORIES:Music
ATTACH;FMTTYPE=image/jpeg:https://trriviera.com/wp-content/uploads/2023/10/poster-22.avif
ORGANIZER;CN="Three Rivers Promise":MAILTO:support@threeriverspromise.com
END:VEVENT
END:VCALENDAR