BEGIN:VCALENDAR
VERSION:2.0
PRODID:-//TR Riviera Theatre - ECPv6.15.13//NONSGML v1.0//EN
CALSCALE:GREGORIAN
METHOD:PUBLISH
X-WR-CALNAME:TR Riviera Theatre
X-ORIGINAL-URL:https://trriviera.com
X-WR-CALDESC:Events for TR Riviera Theatre
REFRESH-INTERVAL;VALUE=DURATION:PT1H
X-Robots-Tag:noindex
X-PUBLISHED-TTL:PT1H
BEGIN:VTIMEZONE
TZID:America/Detroit
BEGIN:DAYLIGHT
TZOFFSETFROM:-0500
TZOFFSETTO:-0400
TZNAME:EDT
DTSTART:20220313T070000
END:DAYLIGHT
BEGIN:STANDARD
TZOFFSETFROM:-0400
TZOFFSETTO:-0500
TZNAME:EST
DTSTART:20221106T060000
END:STANDARD
BEGIN:DAYLIGHT
TZOFFSETFROM:-0500
TZOFFSETTO:-0400
TZNAME:EDT
DTSTART:20230312T070000
END:DAYLIGHT
BEGIN:STANDARD
TZOFFSETFROM:-0400
TZOFFSETTO:-0500
TZNAME:EST
DTSTART:20231105T060000
END:STANDARD
BEGIN:DAYLIGHT
TZOFFSETFROM:-0500
TZOFFSETTO:-0400
TZNAME:EDT
DTSTART:20240310T070000
END:DAYLIGHT
BEGIN:STANDARD
TZOFFSETFROM:-0400
TZOFFSETTO:-0500
TZNAME:EST
DTSTART:20241103T060000
END:STANDARD
END:VTIMEZONE
BEGIN:VEVENT
DTSTART;TZID=America/Detroit:20231203T140000
DTEND;TZID=America/Detroit:20231203T154000
DTSTAMP:20260420T052109
CREATED:20231112T013734Z
LAST-MODIFIED:20231227T191037Z
UID:4616-1701612000-1701618000@trriviera.com
SUMMARY:The Polar Express
DESCRIPTION:Sunday\, December 3: 2 pm & 5 pm\nImmaculate Conception School is once again having its Family Movie Night to Fight Hunger in Three Rivers. Admission is canned goods or other non-perishable food items. All items collected are distributed by IC go to help those in need this holiday season. As always for this event\, pajamas & favorite blanket are encouraged\, hot cocoa & sleigh bells are provided\, and tickets will be punched by the “Tom Hanks” character!\nThis is the story of a young hero boy on Christmas Eve who boards on a powerful magical train that’s headed to the North Pole and Santa Claus’s home. What unfolds is an adventure which follows a doubting boy\, who takes an extraordinary train ride to the North Pole; during this ride\, he embarks on a journey of self-discovery which shows him that the wonder of life never fades for those who believe.\n100 minutes / Rated G\nAdmission is canned goods or other non-perishable food items.\nThere are no advance ticket options for this event as it is operated on a first come\, first served basis.\nInformation: Immaculate Conception Catholic School (269) 273-2085 or https://iccatholicschool.com
URL:https://trriviera.com/event/the-polar-express-2/
LOCATION:Riviera Theatre Auditorium\, 50 N. Main St.\, Three Rivers\, MI\, 49093\, United States
CATEGORIES:Film
ATTACH;FMTTYPE=image/jpeg:https://trriviera.com/wp-content/uploads/2023/11/314342731_547979830667065_6324721821635631222_n.jpg
END:VEVENT
BEGIN:VEVENT
DTSTART;TZID=America/Detroit:20231203T170000
DTEND;TZID=America/Detroit:20231203T184000
DTSTAMP:20260420T052109
CREATED:20231112T013920Z
LAST-MODIFIED:20231227T191514Z
UID:4619-1701622800-1701628800@trriviera.com
SUMMARY:The Polar Express
DESCRIPTION:Sunday\, December 3: 2 pm & 5 pm\nImmaculate Conception School is once again having its Family Movie Night to Fight Hunger in Three Rivers. Admission is canned goods or other non-perishable food items. All items collected are distributed by IC go to help those in need this holiday season. As always for this event\, pajamas & favorite blanket are encouraged\, hot cocoa & sleigh bells are provided\, and tickets will be punched by the “Tom Hanks” character!\nThis is the story of a young hero boy on Christmas Eve who boards on a powerful magical train that’s headed to the North Pole and Santa Claus’s home. What unfolds is an adventure which follows a doubting boy\, who takes an extraordinary train ride to the North Pole; during this ride\, he embarks on a journey of self-discovery which shows him that the wonder of life never fades for those who believe.\n100 minutes / Rated G\nAdmission is canned goods or other non-perishable food items.\nThere are no advance ticket options for this event as it is operated on a first come\, first served basis.\nInformation: Immaculate Conception Catholic School (269) 273-2085 or https://iccatholicschool.com
URL:https://trriviera.com/event/the-polar-express-3/
LOCATION:Riviera Theatre Auditorium\, 50 N. Main St.\, Three Rivers\, MI\, 49093\, United States
CATEGORIES:Film
ATTACH;FMTTYPE=image/jpeg:https://trriviera.com/wp-content/uploads/2023/11/314342731_547979830667065_6324721821635631222_n.jpg
END:VEVENT
END:VCALENDAR