BEGIN:VCALENDAR
VERSION:2.0
PRODID:-//TR Riviera Theatre - ECPv6.15.13//NONSGML v1.0//EN
CALSCALE:GREGORIAN
METHOD:PUBLISH
X-WR-CALNAME:TR Riviera Theatre
X-ORIGINAL-URL:https://trriviera.com
X-WR-CALDESC:Events for TR Riviera Theatre
REFRESH-INTERVAL;VALUE=DURATION:PT1H
X-Robots-Tag:noindex
X-PUBLISHED-TTL:PT1H
BEGIN:VTIMEZONE
TZID:America/Detroit
BEGIN:DAYLIGHT
TZOFFSETFROM:-0500
TZOFFSETTO:-0400
TZNAME:EDT
DTSTART:20220313T070000
END:DAYLIGHT
BEGIN:STANDARD
TZOFFSETFROM:-0400
TZOFFSETTO:-0500
TZNAME:EST
DTSTART:20221106T060000
END:STANDARD
BEGIN:DAYLIGHT
TZOFFSETFROM:-0500
TZOFFSETTO:-0400
TZNAME:EDT
DTSTART:20230312T070000
END:DAYLIGHT
BEGIN:STANDARD
TZOFFSETFROM:-0400
TZOFFSETTO:-0500
TZNAME:EST
DTSTART:20231105T060000
END:STANDARD
BEGIN:DAYLIGHT
TZOFFSETFROM:-0500
TZOFFSETTO:-0400
TZNAME:EDT
DTSTART:20240310T070000
END:DAYLIGHT
BEGIN:STANDARD
TZOFFSETFROM:-0400
TZOFFSETTO:-0500
TZNAME:EST
DTSTART:20241103T060000
END:STANDARD
END:VTIMEZONE
BEGIN:VEVENT
DTSTART;TZID=America/Detroit:20231209T160000
DTEND;TZID=America/Detroit:20231209T180000
DTSTAMP:20260420T024340
CREATED:20231127T230434Z
LAST-MODIFIED:20231227T191603Z
UID:4631-1702137600-1702144800@trriviera.com
SUMMARY:White Christmas
DESCRIPTION:After leaving the Army after W.W.II\, Bob Wallace and Phil Davis team up to become a top song-and-dance act. Davis plays matchmaker and introduces Wallace to a pair of beautiful sisters (Betty and Judy) who also have a song-and-dance act. When Betty and Judy travel to a Vermont lodge to perform a Christmas show\, Wallace and Davis follow\, only to find their former commander\, General Waverly\, is the lodge owner. A series of romantic mix-ups ensue as the performers try to help the General. English. 14 October 1954 (USA) Paramount Pictures. Runtime: 120 min.
URL:https://trriviera.com/event/white-christmas/
LOCATION:Riviera Theatre Auditorium\, 50 N. Main St.\, Three Rivers\, MI\, 49093\, United States
CATEGORIES:Film
ATTACH;FMTTYPE=image/png:https://trriviera.com/wp-content/uploads/2023/11/White-Christmas-3.jpg
END:VEVENT
BEGIN:VEVENT
DTSTART;TZID=America/Detroit:20231209T190000
DTEND;TZID=America/Detroit:20231209T210000
DTSTAMP:20260420T024340
CREATED:20231127T230823Z
LAST-MODIFIED:20231227T191006Z
UID:4634-1702148400-1702155600@trriviera.com
SUMMARY:White Christmas
DESCRIPTION:After leaving the Army after W.W.II\, Bob Wallace and Phil Davis team up to become a top song-and-dance act. Davis plays matchmaker and introduces Wallace to a pair of beautiful sisters (Betty and Judy) who also have a song-and-dance act. When Betty and Judy travel to a Vermont lodge to perform a Christmas show\, Wallace and Davis follow\, only to find their former commander\, General Waverly\, is the lodge owner. A series of romantic mix-ups ensue as the performers try to help the General. English. 14 October 1954 (USA) Paramount Pictures. Runtime: 120 min.
URL:https://trriviera.com/event/white-christmas-2/
LOCATION:Riviera Theatre Auditorium\, 50 N. Main St.\, Three Rivers\, MI\, 49093\, United States
CATEGORIES:Film
ATTACH;FMTTYPE=image/png:https://trriviera.com/wp-content/uploads/2023/11/White-Christmas-3.jpg
END:VEVENT
END:VCALENDAR