BEGIN:VCALENDAR
VERSION:2.0
PRODID:-//TR Riviera Theatre - ECPv6.15.13//NONSGML v1.0//EN
CALSCALE:GREGORIAN
METHOD:PUBLISH
X-ORIGINAL-URL:https://trriviera.com
X-WR-CALDESC:Events for TR Riviera Theatre
REFRESH-INTERVAL;VALUE=DURATION:PT1H
X-Robots-Tag:noindex
X-PUBLISHED-TTL:PT1H
BEGIN:VTIMEZONE
TZID:America/Detroit
BEGIN:DAYLIGHT
TZOFFSETFROM:-0500
TZOFFSETTO:-0400
TZNAME:EDT
DTSTART:20220313T070000
END:DAYLIGHT
BEGIN:STANDARD
TZOFFSETFROM:-0400
TZOFFSETTO:-0500
TZNAME:EST
DTSTART:20221106T060000
END:STANDARD
BEGIN:DAYLIGHT
TZOFFSETFROM:-0500
TZOFFSETTO:-0400
TZNAME:EDT
DTSTART:20230312T070000
END:DAYLIGHT
BEGIN:STANDARD
TZOFFSETFROM:-0400
TZOFFSETTO:-0500
TZNAME:EST
DTSTART:20231105T060000
END:STANDARD
BEGIN:DAYLIGHT
TZOFFSETFROM:-0500
TZOFFSETTO:-0400
TZNAME:EDT
DTSTART:20240310T070000
END:DAYLIGHT
BEGIN:STANDARD
TZOFFSETFROM:-0400
TZOFFSETTO:-0500
TZNAME:EST
DTSTART:20241103T060000
END:STANDARD
END:VTIMEZONE
BEGIN:VEVENT
DTSTART;TZID=America/Detroit:20231231T200000
DTEND;TZID=America/Detroit:20231231T235900
DTSTAMP:20260420T012331
CREATED:20231211T164726Z
LAST-MODIFIED:20231211T164726Z
UID:4648-1704052800-1704067140@trriviera.com
SUMMARY:Midnight on Main\, a New Year's Eve Celebration
DESCRIPTION:Join us in Historic Downtown Three Rivers to celebrate the end of 2023 and the beginning of the new year!! A live music showcase kicks off the evening followed by DJ Downtown and culminates with a countdown and lighted ball drop. Stop by the DDA table to accessorize your outfit with the perfect 2024 hats & horns and then to commemorate the night head on over to the Riviera lobby for our 2024 photo booth. Don’t forget\, Main Street is a social district if you want a little something extra to help keep you warm.
URL:https://trriviera.com/event/midnight-on-main-a-new-years-eve-celebration/
LOCATION:Downtown Area
CATEGORIES:DDA Event,Music
ATTACH;FMTTYPE=image/jpeg:https://trriviera.com/wp-content/uploads/2023/12/Midnight-on-Main-Poster.jpg
ORGANIZER;CN="Downtown Three Rivers":MAILTO:threeriversdda@gmail.com
END:VEVENT
END:VCALENDAR