BEGIN:VCALENDAR
VERSION:2.0
PRODID:-//TR Riviera Theatre - ECPv6.15.13//NONSGML v1.0//EN
CALSCALE:GREGORIAN
METHOD:PUBLISH
X-WR-CALNAME:TR Riviera Theatre
X-ORIGINAL-URL:https://trriviera.com
X-WR-CALDESC:Events for TR Riviera Theatre
REFRESH-INTERVAL;VALUE=DURATION:PT1H
X-Robots-Tag:noindex
X-PUBLISHED-TTL:PT1H
BEGIN:VTIMEZONE
TZID:America/Detroit
BEGIN:DAYLIGHT
TZOFFSETFROM:-0500
TZOFFSETTO:-0400
TZNAME:EDT
DTSTART:20230312T070000
END:DAYLIGHT
BEGIN:STANDARD
TZOFFSETFROM:-0400
TZOFFSETTO:-0500
TZNAME:EST
DTSTART:20231105T060000
END:STANDARD
BEGIN:DAYLIGHT
TZOFFSETFROM:-0500
TZOFFSETTO:-0400
TZNAME:EDT
DTSTART:20240310T070000
END:DAYLIGHT
BEGIN:STANDARD
TZOFFSETFROM:-0400
TZOFFSETTO:-0500
TZNAME:EST
DTSTART:20241103T060000
END:STANDARD
BEGIN:DAYLIGHT
TZOFFSETFROM:-0500
TZOFFSETTO:-0400
TZNAME:EDT
DTSTART:20250309T070000
END:DAYLIGHT
BEGIN:STANDARD
TZOFFSETFROM:-0400
TZOFFSETTO:-0500
TZNAME:EST
DTSTART:20251102T060000
END:STANDARD
END:VTIMEZONE
BEGIN:VEVENT
DTSTART;TZID=America/Detroit:20240127T190000
DTEND;TZID=America/Detroit:20240127T213000
DTSTAMP:20260420T024425
CREATED:20231227T183421Z
LAST-MODIFIED:20231227T184644Z
UID:4671-1706382000-1706391000@trriviera.com
SUMMARY:Djangophonique
DESCRIPTION:Djangophonique will take the stage in the Riviera Auditorium on January 27th at 7PM!! Tickets are available for $15.00 at www.purplepass.com/djangophonique. \nDjangophonique is an award winning project that delivers the infectious joy\, and expressive freedom that is at the heart of Django Reinhardt’s jazz manouche. With respect for the tradition and a fearless creativity that bends the conventions of the style\, Djangophonique is keeping the Hot Club revival alive and well. The result is a sound that’s unmistakable to fans of the music\, and alluring to the uninitiated—a sound that can bring the lively energy of a Parisian dance hall to the quietest listening room or captivate a buzzing festival audience with the aching nostalgia of a shimmering ballad. \nDjangophonique has been described as “…the cleanest\, most genuine manouche jazz that can be heard in Michigan” (Local Spins). With a second studio album and a full concert schedule in the works for 2024\, Djangophonique is poised to forge a connection with an expansive audience through the resonance of their artistry.
URL:https://trriviera.com/event/djangophonique/
LOCATION:Riviera Theatre Auditorium\, 50 N. Main St.\, Three Rivers\, MI\, 49093\, United States
CATEGORIES:Music
ATTACH;FMTTYPE=image/jpeg:https://trriviera.com/wp-content/uploads/2023/12/Screenshot-2023-12-27-at-1.29.52-PM.avif
END:VEVENT
END:VCALENDAR