BEGIN:VCALENDAR
VERSION:2.0
PRODID:-//TR Riviera Theatre - ECPv6.15.13//NONSGML v1.0//EN
CALSCALE:GREGORIAN
METHOD:PUBLISH
X-ORIGINAL-URL:https://trriviera.com
X-WR-CALDESC:Events for TR Riviera Theatre
REFRESH-INTERVAL;VALUE=DURATION:PT1H
X-Robots-Tag:noindex
X-PUBLISHED-TTL:PT1H
BEGIN:VTIMEZONE
TZID:America/Detroit
BEGIN:DAYLIGHT
TZOFFSETFROM:-0500
TZOFFSETTO:-0400
TZNAME:EDT
DTSTART:20230312T070000
END:DAYLIGHT
BEGIN:STANDARD
TZOFFSETFROM:-0400
TZOFFSETTO:-0500
TZNAME:EST
DTSTART:20231105T060000
END:STANDARD
BEGIN:DAYLIGHT
TZOFFSETFROM:-0500
TZOFFSETTO:-0400
TZNAME:EDT
DTSTART:20240310T070000
END:DAYLIGHT
BEGIN:STANDARD
TZOFFSETFROM:-0400
TZOFFSETTO:-0500
TZNAME:EST
DTSTART:20241103T060000
END:STANDARD
BEGIN:DAYLIGHT
TZOFFSETFROM:-0500
TZOFFSETTO:-0400
TZNAME:EDT
DTSTART:20250309T070000
END:DAYLIGHT
BEGIN:STANDARD
TZOFFSETFROM:-0400
TZOFFSETTO:-0500
TZNAME:EST
DTSTART:20251102T060000
END:STANDARD
END:VTIMEZONE
BEGIN:VEVENT
DTSTART;TZID=America/Detroit:20240224T163000
DTEND;TZID=America/Detroit:20240224T190000
DTSTAMP:20260419T234920
CREATED:20240130T204051Z
LAST-MODIFIED:20240130T204051Z
UID:4743-1708792200-1708801200@trriviera.com
SUMMARY:2024 Oscar Nominated Documentary Shorts
DESCRIPTION:For the 19th consecutive year\, ShortsTV presents the Oscar-Nominated Short Films\, opening on Feb. 16th. With all three categories offered – Animated\, Live Action and Documentary – this is your annual chance to predict the winners! A perennial hit with audiences around the country and the world\, don’t miss this year’s selection of shorts.\nThe running times below are estimates. \nDOCUMENTARY SHORTS (to be offered as one program of 139 minutes) \nIsland In Between – S. Leo Chiang and Jean Tsien\, 20 min.\, Taiwan (in English/Mandarin) \nNǎi Nai and Wài Pó– Sean Wang and Sam Davis\, 17 min.\, USA (in Mandarin) \nThe ABC’s of Book Banning – Sheila Nevins and Trish Adlesic\, 27 min.\, USA (in English) \nThe Last Repair Shop – Ben Proudfoot and Kris Bowers\, 39 min.\, USA (in English) \nThe Barber of Little Rock – John Hoffman and Christine Turner\, 35 min.\, USA (in English) \n \n  \n 
URL:https://trriviera.com/event/2024-oscar-nominated-documentary-shorts-2/
LOCATION:Riviera Theatre Auditorium\, 50 N. Main St.\, Three Rivers\, MI\, 49093\, United States
CATEGORIES:Film
ATTACH;FMTTYPE=image/jpeg:https://trriviera.com/wp-content/uploads/2024/01/2024_Oscar_Poster_V02_LR-scaled.jpg
END:VEVENT
BEGIN:VEVENT
DTSTART;TZID=America/Detroit:20240224T193000
DTEND;TZID=America/Detroit:20240224T214500
DTSTAMP:20260419T234920
CREATED:20240130T203736Z
LAST-MODIFIED:20240130T203736Z
UID:4739-1708803000-1708811100@trriviera.com
SUMMARY:2024 Oscar Nominated Live Action Shorts
DESCRIPTION:For the 19th consecutive year\, ShortsTV presents the Oscar-Nominated Short Films\, opening on Feb. 16th. With all three categories offered – Animated\, Live Action and Documentary – this is your annual chance to predict the winners! A perennial hit with audiences around the country and the world\, don’t miss this year’s selection of shorts.\nThe running times below are estimates. \nLIVE ACTION SHORTS (Estimated Running Time: 133 minutes) \nThe After – Misan Harriman and Nicky Bentham\, 18 min.\, UK (in English) \nRed\, White and Blue – Nazrin Choudhury and Sara McFarlane\, 23 min.\, USA (in English) \nKnight of Fortune – Lasse Lyskjær Noer and Christian Norlyk\, 25 min.\, Denmark (in Swedish/Danish) \nInvincible – Vincent René-Lortie and Samuel Caron\, 29 min.\, Canada (in French) \nThe Wonderful World of Henry Sugar – Wes Anderson and Steven Rales\, 37 min.\, US/UK (in English) \n \n  \n 
URL:https://trriviera.com/event/2024-oscar-nominated-live-action-shorts-3/
LOCATION:Riviera Theatre Auditorium\, 50 N. Main St.\, Three Rivers\, MI\, 49093\, United States
CATEGORIES:Film
ATTACH;FMTTYPE=image/jpeg:https://trriviera.com/wp-content/uploads/2024/01/2024_Oscar_Poster_V02_LR-scaled.jpg
END:VEVENT
END:VCALENDAR