BEGIN:VCALENDAR
VERSION:2.0
PRODID:-//TR Riviera Theatre - ECPv6.15.13//NONSGML v1.0//EN
CALSCALE:GREGORIAN
METHOD:PUBLISH
X-WR-CALNAME:TR Riviera Theatre
X-ORIGINAL-URL:https://trriviera.com
X-WR-CALDESC:Events for TR Riviera Theatre
REFRESH-INTERVAL;VALUE=DURATION:PT1H
X-Robots-Tag:noindex
X-PUBLISHED-TTL:PT1H
BEGIN:VTIMEZONE
TZID:America/Detroit
BEGIN:DAYLIGHT
TZOFFSETFROM:-0500
TZOFFSETTO:-0400
TZNAME:EDT
DTSTART:20230312T070000
END:DAYLIGHT
BEGIN:STANDARD
TZOFFSETFROM:-0400
TZOFFSETTO:-0500
TZNAME:EST
DTSTART:20231105T060000
END:STANDARD
BEGIN:DAYLIGHT
TZOFFSETFROM:-0500
TZOFFSETTO:-0400
TZNAME:EDT
DTSTART:20240310T070000
END:DAYLIGHT
BEGIN:STANDARD
TZOFFSETFROM:-0400
TZOFFSETTO:-0500
TZNAME:EST
DTSTART:20241103T060000
END:STANDARD
BEGIN:DAYLIGHT
TZOFFSETFROM:-0500
TZOFFSETTO:-0400
TZNAME:EDT
DTSTART:20250309T070000
END:DAYLIGHT
BEGIN:STANDARD
TZOFFSETFROM:-0400
TZOFFSETTO:-0500
TZNAME:EST
DTSTART:20251102T060000
END:STANDARD
END:VTIMEZONE
BEGIN:VEVENT
DTSTART;TZID=America/Detroit:20240628T190000
DTEND;TZID=America/Detroit:20240628T210000
DTSTAMP:20260419T184115
CREATED:20240619T201152Z
LAST-MODIFIED:20240619T201318Z
UID:4918-1719601200-1719608400@trriviera.com
SUMMARY:TR Pride Drag Show
DESCRIPTION:Join us at the TR Pride Pre Party at the Riviera Theatre for a night of dazzling performances and unforgettable fun!  Featuring the fabulous ‘Kittens’ in a spectacular Drag Show. Don’t miss out on this incredible kickoff to #TRPRIDE24!\nShow starts at 7pm\, doors 5pm.  Tickets are available at www.purplepass.com/trpride \n\n\n\n\n \n  \n 
URL:https://trriviera.com/event/tr-pride-drag-show/
LOCATION:Riviera Theatre Bar\, 48 N. Main St.\, Three Rivers\, MI\, 49093\, United States
CATEGORIES:Music,Theater
ATTACH;FMTTYPE=image/jpeg:https://trriviera.com/wp-content/uploads/2024/06/448538271_455972987187257_8579141723256795533_n.jpg
END:VEVENT
END:VCALENDAR