BEGIN:VCALENDAR
VERSION:2.0
PRODID:-//TR Riviera Theatre - ECPv6.15.13//NONSGML v1.0//EN
CALSCALE:GREGORIAN
METHOD:PUBLISH
X-WR-CALNAME:TR Riviera Theatre
X-ORIGINAL-URL:https://trriviera.com
X-WR-CALDESC:Events for TR Riviera Theatre
REFRESH-INTERVAL;VALUE=DURATION:PT1H
X-Robots-Tag:noindex
X-PUBLISHED-TTL:PT1H
BEGIN:VTIMEZONE
TZID:America/Detroit
BEGIN:DAYLIGHT
TZOFFSETFROM:-0500
TZOFFSETTO:-0400
TZNAME:EDT
DTSTART:20230312T070000
END:DAYLIGHT
BEGIN:STANDARD
TZOFFSETFROM:-0400
TZOFFSETTO:-0500
TZNAME:EST
DTSTART:20231105T060000
END:STANDARD
BEGIN:DAYLIGHT
TZOFFSETFROM:-0500
TZOFFSETTO:-0400
TZNAME:EDT
DTSTART:20240310T070000
END:DAYLIGHT
BEGIN:STANDARD
TZOFFSETFROM:-0400
TZOFFSETTO:-0500
TZNAME:EST
DTSTART:20241103T060000
END:STANDARD
BEGIN:DAYLIGHT
TZOFFSETFROM:-0500
TZOFFSETTO:-0400
TZNAME:EDT
DTSTART:20250309T070000
END:DAYLIGHT
BEGIN:STANDARD
TZOFFSETFROM:-0400
TZOFFSETTO:-0500
TZNAME:EST
DTSTART:20251102T060000
END:STANDARD
END:VTIMEZONE
BEGIN:VEVENT
DTSTART;TZID=America/Detroit:20241025T210000
DTEND;TZID=America/Detroit:20241025T222300
DTSTAMP:20260419T131206
CREATED:20241017T220430Z
LAST-MODIFIED:20241017T220514Z
UID:5052-1729890000-1729894980@trriviera.com
SUMMARY:Texas Chain Saw Massacre
DESCRIPTION:En route to visit their grandfather’s grave (which has apparently been ritualistically desecrated)\, five teenagers drive past a slaughterhouse\, pick up (and quickly drop) a sinister hitch-hiker\, eat some delicious home-cured meat at a roadside gas station\, before ending up at the old family home… where they’re plunged into a never-ending nightmare as they meet a family of cannibals who more than make up in power tools what they lack in social skills…\n\n1974\, 83 mins\, rated R.
URL:https://trriviera.com/event/texas-chain-saw-massacre/
LOCATION:Riviera Theatre Auditorium\, 50 N. Main St.\, Three Rivers\, MI\, 49093\, United States
CATEGORIES:Film
ATTACH;FMTTYPE=image/jpeg:https://trriviera.com/wp-content/uploads/2024/10/TCSM.avif
END:VEVENT
END:VCALENDAR