BEGIN:VCALENDAR
VERSION:2.0
PRODID:-//TR Riviera Theatre - ECPv6.15.13//NONSGML v1.0//EN
CALSCALE:GREGORIAN
METHOD:PUBLISH
X-WR-CALNAME:TR Riviera Theatre
X-ORIGINAL-URL:https://trriviera.com
X-WR-CALDESC:Events for TR Riviera Theatre
REFRESH-INTERVAL;VALUE=DURATION:PT1H
X-Robots-Tag:noindex
X-PUBLISHED-TTL:PT1H
BEGIN:VTIMEZONE
TZID:America/Detroit
BEGIN:DAYLIGHT
TZOFFSETFROM:-0500
TZOFFSETTO:-0400
TZNAME:EDT
DTSTART:20230312T070000
END:DAYLIGHT
BEGIN:STANDARD
TZOFFSETFROM:-0400
TZOFFSETTO:-0500
TZNAME:EST
DTSTART:20231105T060000
END:STANDARD
BEGIN:DAYLIGHT
TZOFFSETFROM:-0500
TZOFFSETTO:-0400
TZNAME:EDT
DTSTART:20240310T070000
END:DAYLIGHT
BEGIN:STANDARD
TZOFFSETFROM:-0400
TZOFFSETTO:-0500
TZNAME:EST
DTSTART:20241103T060000
END:STANDARD
BEGIN:DAYLIGHT
TZOFFSETFROM:-0500
TZOFFSETTO:-0400
TZNAME:EDT
DTSTART:20250309T070000
END:DAYLIGHT
BEGIN:STANDARD
TZOFFSETFROM:-0400
TZOFFSETTO:-0500
TZNAME:EST
DTSTART:20251102T060000
END:STANDARD
END:VTIMEZONE
BEGIN:VEVENT
DTSTART;TZID=America/Detroit:20241114T193000
DTEND;TZID=America/Detroit:20241114T210000
DTSTAMP:20260419T114103
CREATED:20241017T222616Z
LAST-MODIFIED:20241017T222616Z
UID:5064-1731612600-1731618000@trriviera.com
SUMMARY:Warren Miller's - 75
DESCRIPTION:Warren Miller is going big for 75 years! Stacked with unbelievable action and unexpected stories\, Warren Miller’s 75 will bring fans to powder stashes and chutes around the world\, from Canada\, Colorado\, California\, and Utah to Finland\, Japan\, Austria\, and New Jersey. Catch a diverse lineup of snowsports legends\, Olympic hopefuls\, world champions\, X Games stars\, and emerging talents on the big screen this fall\, including snowboarders Shaun White\, Jeremy Jones\, Danny Davis\, and Toby Miller\, plus skiers Max Hitzig\, Lexi duPont\, Caite Zeliff\, Mark Abma\, and Aaron Blunck. \nWith original segments and unique collaborations\, this year’s film will set the tone for the next 75 years of ski and snowboard filmmaking. Get ready for the celebration that is 75. Tickets are on sale now. Find a show near you. \nFeatured Athletes  \nSelema Masakela | Shaun White | Caite Zeliff | Jeremy Jones | LJ Henriquez\nMax Hitzig | Danny Davis | Parkin Costain | Toby Miller | JJ Thomas | Alex Ferreira\nLexi duPont | Noah Maisonet | Zeb Powell | Daron Rahlves | Connery Lundin\nAaron Blunck | Mark Abma  | Cassie Sharpe | Juho Kilkki | Luis Medearis\nCass Jones | Mia Jones \nDoors open at 6:15. Tickets are $15 can be purchased at http://warrenmiller.blogspot.com. Please contact Curt Zondervan\, warrenmillershow@gmail.com for more information.
URL:https://trriviera.com/event/warren-millers-75/
LOCATION:Riviera Theatre Auditorium\, 50 N. Main St.\, Three Rivers\, MI\, 49093\, United States
CATEGORIES:Film
ATTACH;FMTTYPE=image/jpeg:https://trriviera.com/wp-content/uploads/2024/10/Warren-Miller-75th.avif
END:VEVENT
END:VCALENDAR