BEGIN:VCALENDAR
VERSION:2.0
PRODID:-//TR Riviera Theatre - ECPv6.15.13//NONSGML v1.0//EN
CALSCALE:GREGORIAN
METHOD:PUBLISH
X-WR-CALNAME:TR Riviera Theatre
X-ORIGINAL-URL:https://trriviera.com
X-WR-CALDESC:Events for TR Riviera Theatre
REFRESH-INTERVAL;VALUE=DURATION:PT1H
X-Robots-Tag:noindex
X-PUBLISHED-TTL:PT1H
BEGIN:VTIMEZONE
TZID:America/Detroit
BEGIN:DAYLIGHT
TZOFFSETFROM:-0500
TZOFFSETTO:-0400
TZNAME:EDT
DTSTART:20230312T070000
END:DAYLIGHT
BEGIN:STANDARD
TZOFFSETFROM:-0400
TZOFFSETTO:-0500
TZNAME:EST
DTSTART:20231105T060000
END:STANDARD
BEGIN:DAYLIGHT
TZOFFSETFROM:-0500
TZOFFSETTO:-0400
TZNAME:EDT
DTSTART:20240310T070000
END:DAYLIGHT
BEGIN:STANDARD
TZOFFSETFROM:-0400
TZOFFSETTO:-0500
TZNAME:EST
DTSTART:20241103T060000
END:STANDARD
BEGIN:DAYLIGHT
TZOFFSETFROM:-0500
TZOFFSETTO:-0400
TZNAME:EDT
DTSTART:20250309T070000
END:DAYLIGHT
BEGIN:STANDARD
TZOFFSETFROM:-0400
TZOFFSETTO:-0500
TZNAME:EST
DTSTART:20251102T060000
END:STANDARD
END:VTIMEZONE
BEGIN:VEVENT
DTSTART;TZID=America/Detroit:20241227T190000
DTEND;TZID=America/Detroit:20241227T210000
DTSTAMP:20260419T101716
CREATED:20241118T055722Z
LAST-MODIFIED:20241227T191201Z
UID:5125-1735326000-1735333200@trriviera.com
SUMMARY:Mick Kolassa
DESCRIPTION:Join us for an unforgettable night of soulful blues as Mick Kolassa plays the Riv bar on December 27th\, from 7:00 pm to 9:00 pm! \nGet ready to be swept away by the mesmerizing melodies and electrifying rhythms only Mick Kolassa can deliver. His music is a fusion of raw emotion\, expert musicianship\, and a deep love for the blues that will have you tapping your feet and swaying to the beat all night.\n“Michissippi Mick” Kolassa was born in and has returned to Michigan but did live in Mississippi  & Memphis for nearly 30 years\, where he was given his nickname. He has performed the blues in legendary venues and numerous festivals across North America and Europe with both his solo & duo acoustic formats\, as well as with his full bands. \n \n  \n 
URL:https://trriviera.com/event/mick-kolassa-2/
LOCATION:Riviera Theatre Bar\, 48 N. Main St.\, Three Rivers\, MI\, 49093\, United States
CATEGORIES:Music
ATTACH;FMTTYPE=image/jpeg:https://trriviera.com/wp-content/uploads/2024/11/Riv-12-27.jpg
ORGANIZER;CN="Three Rivers Promise":MAILTO:support@threeriverspromise.com
END:VEVENT
END:VCALENDAR