BEGIN:VCALENDAR
VERSION:2.0
PRODID:-//TR Riviera Theatre - ECPv6.15.13//NONSGML v1.0//EN
CALSCALE:GREGORIAN
METHOD:PUBLISH
X-WR-CALNAME:TR Riviera Theatre
X-ORIGINAL-URL:https://trriviera.com
X-WR-CALDESC:Events for TR Riviera Theatre
REFRESH-INTERVAL;VALUE=DURATION:PT1H
X-Robots-Tag:noindex
X-PUBLISHED-TTL:PT1H
BEGIN:VTIMEZONE
TZID:America/Detroit
BEGIN:DAYLIGHT
TZOFFSETFROM:-0500
TZOFFSETTO:-0400
TZNAME:EDT
DTSTART:20230312T070000
END:DAYLIGHT
BEGIN:STANDARD
TZOFFSETFROM:-0400
TZOFFSETTO:-0500
TZNAME:EST
DTSTART:20231105T060000
END:STANDARD
BEGIN:DAYLIGHT
TZOFFSETFROM:-0500
TZOFFSETTO:-0400
TZNAME:EDT
DTSTART:20240310T070000
END:DAYLIGHT
BEGIN:STANDARD
TZOFFSETFROM:-0400
TZOFFSETTO:-0500
TZNAME:EST
DTSTART:20241103T060000
END:STANDARD
BEGIN:DAYLIGHT
TZOFFSETFROM:-0500
TZOFFSETTO:-0400
TZNAME:EDT
DTSTART:20250309T070000
END:DAYLIGHT
BEGIN:STANDARD
TZOFFSETFROM:-0400
TZOFFSETTO:-0500
TZNAME:EST
DTSTART:20251102T060000
END:STANDARD
BEGIN:DAYLIGHT
TZOFFSETFROM:-0500
TZOFFSETTO:-0400
TZNAME:EDT
DTSTART:20260308T070000
END:DAYLIGHT
BEGIN:STANDARD
TZOFFSETFROM:-0400
TZOFFSETTO:-0500
TZNAME:EST
DTSTART:20261101T060000
END:STANDARD
END:VTIMEZONE
BEGIN:VEVENT
DTSTART;TZID=America/Detroit:20241231T200000
DTEND;TZID=America/Detroit:20250101T003000
DTSTAMP:20260419T084637
CREATED:20241210T210517Z
LAST-MODIFIED:20241227T032916Z
UID:5130-1735675200-1735691400@trriviera.com
SUMMARY:Midnight on Main\, a New Year's Eve Celebration
DESCRIPTION:Join us in Historic Downtown Three Rivers to celebrate the end of 2024 and the beginning of the new year!! Live music performed by The Kennedy Affair kicks off at 9:00PM and culminates with a countdown\, balloon drop & sparkling toast at midnight. Tickets are available for $10 at www.purplepass.com/midnightonmain or stopping by the Riviera lobby ticket booth.
URL:https://trriviera.com/event/midnight-on-main-a-new-years-eve-celebration-2/
LOCATION:Riviera Theatre Auditorium\, 50 N. Main St.\, Three Rivers\, MI\, 49093\, United States
CATEGORIES:DDA Event,Music
ATTACH;FMTTYPE=image/jpeg:https://trriviera.com/wp-content/uploads/2024/12/469860466_8809212902447633_2295363675648953132_n.jpg
ORGANIZER;CN="Downtown Three Rivers":MAILTO:threeriversdda@gmail.com
END:VEVENT
END:VCALENDAR