BEGIN:VCALENDAR
VERSION:2.0
PRODID:-//TR Riviera Theatre - ECPv6.15.13//NONSGML v1.0//EN
CALSCALE:GREGORIAN
METHOD:PUBLISH
X-ORIGINAL-URL:https://trriviera.com
X-WR-CALDESC:Events for TR Riviera Theatre
REFRESH-INTERVAL;VALUE=DURATION:PT1H
X-Robots-Tag:noindex
X-PUBLISHED-TTL:PT1H
BEGIN:VTIMEZONE
TZID:America/Detroit
BEGIN:DAYLIGHT
TZOFFSETFROM:-0500
TZOFFSETTO:-0400
TZNAME:EDT
DTSTART:20240310T070000
END:DAYLIGHT
BEGIN:STANDARD
TZOFFSETFROM:-0400
TZOFFSETTO:-0500
TZNAME:EST
DTSTART:20241103T060000
END:STANDARD
BEGIN:DAYLIGHT
TZOFFSETFROM:-0500
TZOFFSETTO:-0400
TZNAME:EDT
DTSTART:20250309T070000
END:DAYLIGHT
BEGIN:STANDARD
TZOFFSETFROM:-0400
TZOFFSETTO:-0500
TZNAME:EST
DTSTART:20251102T060000
END:STANDARD
BEGIN:DAYLIGHT
TZOFFSETFROM:-0500
TZOFFSETTO:-0400
TZNAME:EDT
DTSTART:20260308T070000
END:DAYLIGHT
BEGIN:STANDARD
TZOFFSETFROM:-0400
TZOFFSETTO:-0500
TZNAME:EST
DTSTART:20261101T060000
END:STANDARD
BEGIN:DAYLIGHT
TZOFFSETFROM:-0500
TZOFFSETTO:-0400
TZNAME:EDT
DTSTART:20270314T070000
END:DAYLIGHT
BEGIN:STANDARD
TZOFFSETFROM:-0400
TZOFFSETTO:-0500
TZNAME:EST
DTSTART:20271107T060000
END:STANDARD
END:VTIMEZONE
BEGIN:VEVENT
DTSTART;VALUE=DATE:20251128
DTEND;VALUE=DATE:20251201
DTSTAMP:20260421T211955
CREATED:20251103T194928Z
LAST-MODIFIED:20251103T221526Z
UID:5675-1764288000-1764547199@trriviera.com
SUMMARY:Christmas Around Town Returns Nov 28-30th
DESCRIPTION:THREE RIVERS CHRISTMAS AROUND TOWN SCHEDULE:\n\n\nFRIDAY 11/28: Let the shopping begin\, support local this Black Friday!\n\n\n-Mural Mall Tree Lighting & Caroling at 6pm featuring the TRHS Aristocrats\, a reading of ‘Twas The Night Before Christmas’\, hot cocoa\, cookies & more!\n\n\n-DDA’s Holiday Spectacular Concert at 7pm at the Riviera Theatre w/ a special gift basket giveaway (they have a great line up in the works). Suggested donation for entry.\n\n\nSATURDAY 11/29:\n\n\n-Shop Small Saturday from 12–4pm: business will be open all day with special shopping deals! Santa arrives via fire engine for photo ops at the Riviera Theatre\, cookie decorating kits at GG’s\, scavenger hunt w/ prizes\, free wagon rides\, make & take holiday crafts for kids\, and more!\n\n\n-NEW Holiday Light Parade in historic downtown Three Rivers at 6pm! \n\n\nSUNDAY 11/30:\n– Wagon Rides return along w/ local business to offer special shopping deals!\n\n\n-Polar Express screening at the Riviera Theatre hosted by Immaculate Conception Church at 2pm & 5pm. Free entry with a non-perishable food item. Caroling 30 mins prior to the shows & kids receive a hot cocoa\, a bell & ticket punched by the conductor!
URL:https://trriviera.com/event/christmas-around-town-returns-nov-28-30th/
LOCATION:Downtown Area
CATEGORIES:DDA Event,Film,Fundraiser,Games,Music,Theater
ATTACH;FMTTYPE=image/avif:https://trriviera.com/wp-content/uploads/2025/11/486194407_1078725264293199_7301014871027405447_n.avif
ORGANIZER;CN="Downtown Three Rivers":MAILTO:threeriversdda@gmail.com
END:VEVENT
BEGIN:VEVENT
DTSTART;TZID=America/Detroit:20251128T190000
DTEND;TZID=America/Detroit:20251128T210000
DTSTAMP:20260421T211955
CREATED:20251103T232057Z
LAST-MODIFIED:20251103T232349Z
UID:5696-1764356400-1764363600@trriviera.com
SUMMARY:The DDA Holiday Spectacular 2025
DESCRIPTION:Join the Three Rivers’ DDA Friday\, Nov. 28th for a holiday concert at 7pm featuring MC Mark Higgins along with numerous bands\, ensembles\, choirs\, & soloists following the Christmas tree lighting in the mural mall at 6pm. Suggested donation $5.  Don’t forget to come back on Saturday (free photos w/ Santa) & Sunday (two screenings of Polar Express) for even more great Christmas Around Town events!!
URL:https://trriviera.com/event/the-dda-holiday-spectacular-2025/
LOCATION:Riviera Theatre Auditorium\, 50 N. Main St.\, Three Rivers\, MI\, 49093\, United States
CATEGORIES:DDA Event
ATTACH;FMTTYPE=image/jpeg:https://trriviera.com/wp-content/uploads/2025/10/486194407_1078725264293199_7301014871027405447_n.avif
END:VEVENT
BEGIN:VEVENT
DTSTART;TZID=America/Detroit:20251129T120000
DTEND;TZID=America/Detroit:20251129T160000
DTSTAMP:20260421T211955
CREATED:20251006T210342Z
LAST-MODIFIED:20251103T230730Z
UID:5624-1764417600-1764432000@trriviera.com
SUMMARY:Santa visits at the Riviera!!
DESCRIPTION:Santa arrives via fire engine at noon on Saturday to hear Christmas wishes and pose for photos with young and old alike for no costs.  His chair will be set up on the stage until 4pm with the last hour being toned down for children with sensory concerns.  Don’t forget to explore all of the extra fun activities that the DDA has planned for Christmas Around Town this year including their 3rd annual holiday concert on the Riviera Theatre stage Friday night after the historic downtown tree lighting and a new holiday lights parade Saturday evening! Come back on Sunday for two screenings of Polar Express hosted by IC Church to collect non perishable food items!
URL:https://trriviera.com/event/santa-visits-at-the-riviera-4/
LOCATION:Riviera Theatre Auditorium\, 50 N. Main St.\, Three Rivers\, MI\, 49093\, United States
CATEGORIES:DDA Event
ATTACH;FMTTYPE=image/jpeg:https://trriviera.com/wp-content/uploads/2025/10/486194407_1078725264293199_7301014871027405447_n.avif
END:VEVENT
BEGIN:VEVENT
DTSTART;TZID=America/Detroit:20260214T160000
DTEND;TZID=America/Detroit:20260214T190000
DTSTAMP:20260421T211955
CREATED:20260131T205233Z
LAST-MODIFIED:20260217T221134Z
UID:5789-1771084800-1771095600@trriviera.com
SUMMARY:DDA Chocolate & Wine Walk
DESCRIPTION:Celebrate Valentine’s Day with a sweet stroll downtown.  Join us for the DDA’s Chocolate & Wine Walk\, a Valentine’s Day Soirée\, fundraiser happening Saturday\, February 14th from 4-7pm.\nFor just $10\, you will receive a chocolate walk scorecard and enjoy samples at participating businesses. Completed scorecards will be entered into a drawing for one of 3 Valentine gift baskets filled with goodies! At the end of the evening\, three businesses will receive bragging rights for the top best chocolate awards. So\, grab your friends\, your sweetheart\, or treat yourself to a fun night of shopping\, sipping\, and sampling downtown! All proceeds benefit the Three Rivers Food Site and future DDA events.
URL:https://trriviera.com/event/dda-chocolate-wine-walk/
LOCATION:Riviera Theatre Bar\, 48 N. Main St.\, Three Rivers\, MI\, 49093\, United States
CATEGORIES:DDA Event
ATTACH;FMTTYPE=image/png:https://trriviera.com/wp-content/uploads/2026/01/Chocolate.avif
END:VEVENT
END:VCALENDAR