BEGIN:VCALENDAR
VERSION:2.0
PRODID:-//TR Riviera Theatre - ECPv6.15.13//NONSGML v1.0//EN
CALSCALE:GREGORIAN
METHOD:PUBLISH
X-WR-CALNAME:TR Riviera Theatre
X-ORIGINAL-URL:https://trriviera.com
X-WR-CALDESC:Events for TR Riviera Theatre
REFRESH-INTERVAL;VALUE=DURATION:PT1H
X-Robots-Tag:noindex
X-PUBLISHED-TTL:PT1H
BEGIN:VTIMEZONE
TZID:America/Detroit
BEGIN:DAYLIGHT
TZOFFSETFROM:-0500
TZOFFSETTO:-0400
TZNAME:EDT
DTSTART:20220313T070000
END:DAYLIGHT
BEGIN:STANDARD
TZOFFSETFROM:-0400
TZOFFSETTO:-0500
TZNAME:EST
DTSTART:20221106T060000
END:STANDARD
BEGIN:DAYLIGHT
TZOFFSETFROM:-0500
TZOFFSETTO:-0400
TZNAME:EDT
DTSTART:20230312T070000
END:DAYLIGHT
BEGIN:STANDARD
TZOFFSETFROM:-0400
TZOFFSETTO:-0500
TZNAME:EST
DTSTART:20231105T060000
END:STANDARD
BEGIN:DAYLIGHT
TZOFFSETFROM:-0500
TZOFFSETTO:-0400
TZNAME:EDT
DTSTART:20240310T070000
END:DAYLIGHT
BEGIN:STANDARD
TZOFFSETFROM:-0400
TZOFFSETTO:-0500
TZNAME:EST
DTSTART:20241103T060000
END:STANDARD
END:VTIMEZONE
BEGIN:VEVENT
DTSTART;TZID=America/Detroit:20231116T193000
DTEND;TZID=America/Detroit:20231116T220000
DTSTAMP:20260420T235841
CREATED:20231026T150019Z
LAST-MODIFIED:20231227T191954Z
UID:4596-1700163000-1700172000@trriviera.com
SUMMARY:Warren Miller's ALL TIME
DESCRIPTION:Snow Fans! \nAnnouncing Warren Miller’s 74th annual film: ALL TIME.  \nGet ready to go deep into the stuff of which snowy dreams are made with Warren Miller’s ALL TIME. Celebrate the birth of ski towns like Sun Valley and Aspen\, icons and innovators like the original hotdoggers\, and the most outlandish locations ever skied. Then\, catch up with Maine’s finest athlete of today\, Donny Pelletier\, and meet the next generation at Woodward Park City. Through it all\, Jonny Moseley and special guests will share their own stories to bring us to this moment. \nIt’s all going down this fall\, as we kick off our two-year party for 75 seasons on snow. Don’t miss out!  \nGrab tix today at warrenmiller.blogspot.com\n 
URL:https://trriviera.com/event/warren-millers-all-time/
LOCATION:Riviera Theatre Auditorium\, 50 N. Main St.\, Three Rivers\, MI\, 49093\, United States
CATEGORIES:Film
ATTACH;FMTTYPE=image/jpeg:https://trriviera.com/wp-content/uploads/2023/10/Alltime_1080x1080-2.avif
END:VEVENT
END:VCALENDAR