BEGIN:VCALENDAR
VERSION:2.0
PRODID:-//TR Riviera Theatre - ECPv6.15.13//NONSGML v1.0//EN
CALSCALE:GREGORIAN
METHOD:PUBLISH
X-WR-CALNAME:TR Riviera Theatre
X-ORIGINAL-URL:https://trriviera.com
X-WR-CALDESC:Events for TR Riviera Theatre
REFRESH-INTERVAL;VALUE=DURATION:PT1H
X-Robots-Tag:noindex
X-PUBLISHED-TTL:PT1H
BEGIN:VTIMEZONE
TZID:America/Detroit
BEGIN:DAYLIGHT
TZOFFSETFROM:-0500
TZOFFSETTO:-0400
TZNAME:EDT
DTSTART:20220313T070000
END:DAYLIGHT
BEGIN:STANDARD
TZOFFSETFROM:-0400
TZOFFSETTO:-0500
TZNAME:EST
DTSTART:20221106T060000
END:STANDARD
BEGIN:DAYLIGHT
TZOFFSETFROM:-0500
TZOFFSETTO:-0400
TZNAME:EDT
DTSTART:20230312T070000
END:DAYLIGHT
BEGIN:STANDARD
TZOFFSETFROM:-0400
TZOFFSETTO:-0500
TZNAME:EST
DTSTART:20231105T060000
END:STANDARD
BEGIN:DAYLIGHT
TZOFFSETFROM:-0500
TZOFFSETTO:-0400
TZNAME:EDT
DTSTART:20240310T070000
END:DAYLIGHT
BEGIN:STANDARD
TZOFFSETFROM:-0400
TZOFFSETTO:-0500
TZNAME:EST
DTSTART:20241103T060000
END:STANDARD
END:VTIMEZONE
BEGIN:VEVENT
DTSTART;TZID=America/Detroit:20231222T190000
DTEND;TZID=America/Detroit:20231222T203700
DTSTAMP:20260420T223647
CREATED:20231211T170055Z
LAST-MODIFIED:20231211T170055Z
UID:4646-1703271600-1703277420@trriviera.com
SUMMARY:National Lampoon's Christmas Vacation
DESCRIPTION:As the holidays approach\, Clark Griswold (Chevy Chase) wants to have a perfect family Christmas\, so he pesters his wife\, Ellen (Beverly D’Angelo)\, and children\, as he tries to make sure everything is in line\, including the tree and house decorations. However\, things go awry quickly. His hick cousin\, Eddie (Randy Quaid)\, and his family show up unplanned and start living in their camper on the Griswold property. Even worse\, Clark’s employers renege on the holiday bonus he needs. English. Dec 1\, 1989 (USA) Warner Brothers. Runtime: 1h 37m. Rating: PG-13. \nAll profits will be donated to Megan Henschel to help her get back on her feet after brain surgery this month. \n \n  \n 
URL:https://trriviera.com/event/national-lampoons-christmas-vacation/
LOCATION:Riviera Theatre Auditorium\, 50 N. Main St.\, Three Rivers\, MI\, 49093\, United States
CATEGORIES:Film
ATTACH;FMTTYPE=image/jpeg:https://trriviera.com/wp-content/uploads/2023/12/405730099_846512884147090_5442440997382756717_n.jpg
END:VEVENT
END:VCALENDAR