BEGIN:VCALENDAR
VERSION:2.0
PRODID:-//TR Riviera Theatre - ECPv6.15.13//NONSGML v1.0//EN
CALSCALE:GREGORIAN
METHOD:PUBLISH
X-WR-CALNAME:TR Riviera Theatre
X-ORIGINAL-URL:https://trriviera.com
X-WR-CALDESC:Events for TR Riviera Theatre
REFRESH-INTERVAL;VALUE=DURATION:PT1H
X-Robots-Tag:noindex
X-PUBLISHED-TTL:PT1H
BEGIN:VTIMEZONE
TZID:America/Detroit
BEGIN:DAYLIGHT
TZOFFSETFROM:-0500
TZOFFSETTO:-0400
TZNAME:EDT
DTSTART:20220313T070000
END:DAYLIGHT
BEGIN:STANDARD
TZOFFSETFROM:-0400
TZOFFSETTO:-0500
TZNAME:EST
DTSTART:20221106T060000
END:STANDARD
BEGIN:DAYLIGHT
TZOFFSETFROM:-0500
TZOFFSETTO:-0400
TZNAME:EDT
DTSTART:20230312T070000
END:DAYLIGHT
BEGIN:STANDARD
TZOFFSETFROM:-0400
TZOFFSETTO:-0500
TZNAME:EST
DTSTART:20231105T060000
END:STANDARD
BEGIN:DAYLIGHT
TZOFFSETFROM:-0500
TZOFFSETTO:-0400
TZNAME:EDT
DTSTART:20240310T070000
END:DAYLIGHT
BEGIN:STANDARD
TZOFFSETFROM:-0400
TZOFFSETTO:-0500
TZNAME:EST
DTSTART:20241103T060000
END:STANDARD
END:VTIMEZONE
BEGIN:VEVENT
DTSTART;TZID=America/Detroit:20231223T190000
DTEND;TZID=America/Detroit:20231223T204500
DTSTAMP:20260420T223644
CREATED:20231211T170546Z
LAST-MODIFIED:20231211T170546Z
UID:4654-1703358000-1703364300@trriviera.com
SUMMARY:Dr. Suess' How The Grinch Stole Christmas
DESCRIPTION:Join us to celebrate the Riviera’s 98th birthday with a free screening of Dr. Suess’ How The Grinch Stole Christmas! \nInside a snowflake exists the magical land of Whoville\, wherein live the Whos\, an almost-mutated sort of Munchkin-like people who all love Christmas. Just outside of their beloved town lives the Grinch (Jim Carrey)\, a nasty creature that hates Christmas and plans to steal it from the Whos\, which he equally abhors. Little Cindy Lou Who (Taylor Momsen) decides to befriend the Grinch. Rating: PG (Crude Humor). English. Nov 17\, 2000 (USA) Universal Studios. Runtime: 1h 45min. \n \n 
URL:https://trriviera.com/event/dr-suess-how-the-grinch-stole-christmas/
LOCATION:Riviera Theatre Auditorium\, 50 N. Main St.\, Three Rivers\, MI\, 49093\, United States
CATEGORIES:Film
ATTACH;FMTTYPE=image/jpeg:https://trriviera.com/wp-content/uploads/2023/12/Dr.-Suess-How-3.avif
END:VEVENT
END:VCALENDAR