BEGIN:VCALENDAR
VERSION:2.0
PRODID:-//TR Riviera Theatre - ECPv6.15.13//NONSGML v1.0//EN
CALSCALE:GREGORIAN
METHOD:PUBLISH
X-WR-CALNAME:TR Riviera Theatre
X-ORIGINAL-URL:https://trriviera.com
X-WR-CALDESC:Events for TR Riviera Theatre
REFRESH-INTERVAL;VALUE=DURATION:PT1H
X-Robots-Tag:noindex
X-PUBLISHED-TTL:PT1H
BEGIN:VTIMEZONE
TZID:America/Detroit
BEGIN:DAYLIGHT
TZOFFSETFROM:-0500
TZOFFSETTO:-0400
TZNAME:EDT
DTSTART:20240310T070000
END:DAYLIGHT
BEGIN:STANDARD
TZOFFSETFROM:-0400
TZOFFSETTO:-0500
TZNAME:EST
DTSTART:20241103T060000
END:STANDARD
BEGIN:DAYLIGHT
TZOFFSETFROM:-0500
TZOFFSETTO:-0400
TZNAME:EDT
DTSTART:20250309T070000
END:DAYLIGHT
BEGIN:STANDARD
TZOFFSETFROM:-0400
TZOFFSETTO:-0500
TZNAME:EST
DTSTART:20251102T060000
END:STANDARD
BEGIN:DAYLIGHT
TZOFFSETFROM:-0500
TZOFFSETTO:-0400
TZNAME:EDT
DTSTART:20260308T070000
END:DAYLIGHT
BEGIN:STANDARD
TZOFFSETFROM:-0400
TZOFFSETTO:-0500
TZNAME:EST
DTSTART:20261101T060000
END:STANDARD
END:VTIMEZONE
BEGIN:VEVENT
DTSTART;TZID=America/Detroit:20250221T180000
DTEND;TZID=America/Detroit:20250221T213000
DTSTAMP:20260420T022835
CREATED:20250206T184204Z
LAST-MODIFIED:20250206T203727Z
UID:5301-1740160800-1740173400@trriviera.com
SUMMARY:2025 Oscar Nominated Short Films
DESCRIPTION:For the 20th consecutive year\, ShortsTV presents the Oscar-Nominated Short Films. With all three categories offered – Animated\, Live Action and Documentary – this is your annual chance to predict the winners (and have the edge in your Oscar pool)! A perennial hit with audiences around the country and the world\, don’t miss this year’s selection of shorts.\nDocumentary Shorts: Fri\, 2/21 @ 6pm & Sat\, 3/1 @ 6:45pm\nAnimated Shorts: Sat\, 2/22 @ 3pm & Fri\, 2/28 @ 8:15pm\nLive Action Shorts: Fri\, 2/28 @ 6pm & Sat\, 3/1 @ 4:30pm\n*The Academy Awards take place Sunday\, March 2nd.
URL:https://trriviera.com/event/2025-oscar-nominated-short-films/
LOCATION:Riviera Theatre Auditorium\, 50 N. Main St.\, Three Rivers\, MI\, 49093\, United States
CATEGORIES:Film
ATTACH;FMTTYPE=image/jpeg:https://trriviera.com/wp-content/uploads/2025/02/2025-Oscar_Shorts_Poster-Original-SQ-1000x1000_FEB14.jpg
END:VEVENT
END:VCALENDAR