BEGIN:VCALENDAR
VERSION:2.0
PRODID:-//TR Riviera Theatre - ECPv6.15.13//NONSGML v1.0//EN
CALSCALE:GREGORIAN
METHOD:PUBLISH
X-ORIGINAL-URL:https://trriviera.com
X-WR-CALDESC:Events for TR Riviera Theatre
REFRESH-INTERVAL;VALUE=DURATION:PT1H
X-Robots-Tag:noindex
X-PUBLISHED-TTL:PT1H
BEGIN:VTIMEZONE
TZID:America/Detroit
BEGIN:DAYLIGHT
TZOFFSETFROM:-0500
TZOFFSETTO:-0400
TZNAME:EDT
DTSTART:20240310T070000
END:DAYLIGHT
BEGIN:STANDARD
TZOFFSETFROM:-0400
TZOFFSETTO:-0500
TZNAME:EST
DTSTART:20241103T060000
END:STANDARD
BEGIN:DAYLIGHT
TZOFFSETFROM:-0500
TZOFFSETTO:-0400
TZNAME:EDT
DTSTART:20250309T070000
END:DAYLIGHT
BEGIN:STANDARD
TZOFFSETFROM:-0400
TZOFFSETTO:-0500
TZNAME:EST
DTSTART:20251102T060000
END:STANDARD
BEGIN:DAYLIGHT
TZOFFSETFROM:-0500
TZOFFSETTO:-0400
TZNAME:EDT
DTSTART:20260308T070000
END:DAYLIGHT
BEGIN:STANDARD
TZOFFSETFROM:-0400
TZOFFSETTO:-0500
TZNAME:EST
DTSTART:20261101T060000
END:STANDARD
END:VTIMEZONE
BEGIN:VEVENT
DTSTART;TZID=America/Detroit:20250329T183000
DTEND;TZID=America/Detroit:20250329T203000
DTSTAMP:20260420T010308
CREATED:20250316T013327Z
LAST-MODIFIED:20250316T013327Z
UID:5384-1743273000-1743280200@trriviera.com
SUMMARY:Stop Making Sense
DESCRIPTION:The greatest concert film of all time\, Stop Making Sense brings to the screen Talking Heads at Hollywood’s Pantages Theater in December 1983: David Byrne\, Tina Weymouth\, Chris Frantz\, and Jerry Harrison\, alongside an ecstatic ensemble of supporting musicians. Renowned filmmaker Jonathan Demme (Silence of the Lambs) captures the band at their exhilarating best\, in this new and complete restoration for the film’s 40th anniversary. Unrated\, 1:28 mins.\n\nStop Making Sense returns to the Riviera Theatre Saturday\, March 29 at 6:30 pm\, for one screening only! Tickets are $8 for students/seniors & $9 for adults and are available at the box office one hour prior to the show.
URL:https://trriviera.com/event/stop-making-sense/
LOCATION:Riviera Theatre Auditorium\, 50 N. Main St.\, Three Rivers\, MI\, 49093\, United States
CATEGORIES:Film
ATTACH;FMTTYPE=image/png:https://trriviera.com/wp-content/uploads/2025/03/Stop-Making-Sense-png.avif
END:VEVENT
END:VCALENDAR