BEGIN:VCALENDAR
VERSION:2.0
PRODID:-//TR Riviera Theatre - ECPv6.15.13//NONSGML v1.0//EN
CALSCALE:GREGORIAN
METHOD:PUBLISH
X-ORIGINAL-URL:https://trriviera.com
X-WR-CALDESC:Events for TR Riviera Theatre
REFRESH-INTERVAL;VALUE=DURATION:PT1H
X-Robots-Tag:noindex
X-PUBLISHED-TTL:PT1H
BEGIN:VTIMEZONE
TZID:America/Detroit
BEGIN:DAYLIGHT
TZOFFSETFROM:-0500
TZOFFSETTO:-0400
TZNAME:EDT
DTSTART:20230312T070000
END:DAYLIGHT
BEGIN:STANDARD
TZOFFSETFROM:-0400
TZOFFSETTO:-0500
TZNAME:EST
DTSTART:20231105T060000
END:STANDARD
BEGIN:DAYLIGHT
TZOFFSETFROM:-0500
TZOFFSETTO:-0400
TZNAME:EDT
DTSTART:20240310T070000
END:DAYLIGHT
BEGIN:STANDARD
TZOFFSETFROM:-0400
TZOFFSETTO:-0500
TZNAME:EST
DTSTART:20241103T060000
END:STANDARD
BEGIN:DAYLIGHT
TZOFFSETFROM:-0500
TZOFFSETTO:-0400
TZNAME:EDT
DTSTART:20250309T070000
END:DAYLIGHT
BEGIN:STANDARD
TZOFFSETFROM:-0400
TZOFFSETTO:-0500
TZNAME:EST
DTSTART:20251102T060000
END:STANDARD
BEGIN:DAYLIGHT
TZOFFSETFROM:-0500
TZOFFSETTO:-0400
TZNAME:EDT
DTSTART:20260308T070000
END:DAYLIGHT
BEGIN:STANDARD
TZOFFSETFROM:-0400
TZOFFSETTO:-0500
TZNAME:EST
DTSTART:20261101T060000
END:STANDARD
END:VTIMEZONE
BEGIN:VEVENT
DTSTART;TZID=America/Detroit:20241214T160000
DTEND;TZID=America/Detroit:20241214T174000
DTSTAMP:20260420T212804
CREATED:20241127T220756Z
LAST-MODIFIED:20241216T152224Z
UID:5162-1734192000-1734198000@trriviera.com
SUMMARY:It's A Wonderful Life
DESCRIPTION:George Bailey has spent his entire life giving of himself to the people of Bedford Falls. He has always longed to travel but never had the opportunity in order to prevent rich skinflint Mr. Potter from taking over the entire town. All that prevents him from doing so is George’s modest building and loan company\, which was founded by his generous father. But on Christmas Eve\, George’s Uncle Billy loses the business’s $8\,000 while intending to deposit it in the bank. Mr. Potter finds the misplaced money and hides it from Uncle Billy. When the bank examiner discovers the shortage later that night\, George realizes that he will be held responsible and sent to jail and the company will collapse\, finally allowing Mr. Potter to take over the town. Thinking of his wife\, Mary\, their four children\, and others he loves will be better off with him dead\, he contemplates suicide. But the prayers of his loved ones result in his guardian angel named Clarence Odbody coming to Earth to help him\, with the promise of earning his wings. He shows him what things would have been like if he had never been born. English. December 20\, 1946 (USA) Paramount Pictures. Runtime: 130 min. Color. The ticket booth opens 30 mins prior to screenings and cost $8 for students/seniors 65+ & $9 for adults. \n \n 
URL:https://trriviera.com/event/its-a-wonderful-life-3/
LOCATION:Riviera Theatre Auditorium\, 50 N. Main St.\, Three Rivers\, MI\, 49093\, United States
CATEGORIES:Film
ATTACH;FMTTYPE=image/jpeg:https://trriviera.com/wp-content/uploads/2024/11/IAWL.avif
END:VEVENT
BEGIN:VEVENT
DTSTART;TZID=America/Detroit:20241220T190000
DTEND;TZID=America/Detroit:20241220T210000
DTSTAMP:20260420T212804
CREATED:20241127T220541Z
LAST-MODIFIED:20241216T152155Z
UID:5147-1734721200-1734728400@trriviera.com
SUMMARY:White Christmas
DESCRIPTION:After leaving the Army after W.W.II\, Bob Wallace and Phil Davis team up to become a top song-and-dance act. Davis plays matchmaker and introduces Wallace to a pair of beautiful sisters (Betty and Judy) who also have a song-and-dance act. When Betty and Judy travel to a Vermont lodge to perform a Christmas show\, Wallace and Davis follow\, only to find their former commander\, General Waverly\, is the lodge owner. A series of romantic mix-ups ensue as the performers try to help the General. English. 14 October 1954 (USA) Paramount Pictures. Runtime: 120 min. The ticket booth opens 30 mins prior to screenings and cost $8 for students/seniors 65+ & $9 for adults. \n \n 
URL:https://trriviera.com/event/white-christmas-4/
LOCATION:Riviera Theatre Auditorium\, 50 N. Main St.\, Three Rivers\, MI\, 49093\, United States
CATEGORIES:Film
ATTACH;FMTTYPE=image/jpeg:https://trriviera.com/wp-content/uploads/2024/11/White-Christmas-3.avif
END:VEVENT
BEGIN:VEVENT
DTSTART;TZID=America/Detroit:20241221T160000
DTEND;TZID=America/Detroit:20241221T180000
DTSTAMP:20260420T212804
CREATED:20241127T220450Z
LAST-MODIFIED:20241216T152129Z
UID:5145-1734796800-1734804000@trriviera.com
SUMMARY:White Christmas
DESCRIPTION:After leaving the Army after W.W.II\, Bob Wallace and Phil Davis team up to become a top song-and-dance act. Davis plays matchmaker and introduces Wallace to a pair of beautiful sisters (Betty and Judy) who also have a song-and-dance act. When Betty and Judy travel to a Vermont lodge to perform a Christmas show\, Wallace and Davis follow\, only to find their former commander\, General Waverly\, is the lodge owner. A series of romantic mix-ups ensue as the performers try to help the General. English. 14 October 1954 (USA) Paramount Pictures. Runtime: 120 min. The ticket booth opens 30 mins prior to screenings and cost $8 for students/seniors 65+ & $9 for adults. \n \n 
URL:https://trriviera.com/event/white-christmas-3/
LOCATION:Riviera Theatre Auditorium\, 50 N. Main St.\, Three Rivers\, MI\, 49093\, United States
CATEGORIES:Film
ATTACH;FMTTYPE=image/jpeg:https://trriviera.com/wp-content/uploads/2024/11/White-Christmas-3.avif
END:VEVENT
BEGIN:VEVENT
DTSTART;TZID=America/Detroit:20241221T190000
DTEND;TZID=America/Detroit:20241221T203700
DTSTAMP:20260420T212804
CREATED:20241127T220342Z
LAST-MODIFIED:20241216T152057Z
UID:5149-1734807600-1734813420@trriviera.com
SUMMARY:National Lampoon's Christmas Vacation
DESCRIPTION:As the holidays approach\, Clark Griswold (Chevy Chase) wants to have a perfect family Christmas\, so he pesters his wife\, Ellen (Beverly D’Angelo)\, and children\, as he tries to make sure everything is in line\, including the tree and house decorations. However\, things go awry quickly. His hick cousin\, Eddie (Randy Quaid)\, and his family show up unplanned and start living in their camper on the Griswold property. Even worse\, Clark’s employers renege on the holiday bonus he needs. English. Dec 1\, 1989 (USA) Warner Brothers. Runtime: 1h 37m. Rating: PG-13. The ticket booth opens 30 mins prior to screenings and cost $8 for students/seniors 65+ & $9 for adults. \n \n  \n  \n 
URL:https://trriviera.com/event/national-lampoons-christmas-vacation-2/
LOCATION:Riviera Theatre Auditorium\, 50 N. Main St.\, Three Rivers\, MI\, 49093\, United States
CATEGORIES:Film
ATTACH;FMTTYPE=image/jpeg:https://trriviera.com/wp-content/uploads/2024/11/Natl-Lamp.avif
END:VEVENT
BEGIN:VEVENT
DTSTART;TZID=America/Detroit:20241223T190000
DTEND;TZID=America/Detroit:20241223T203700
DTSTAMP:20260420T212804
CREATED:20241127T220240Z
LAST-MODIFIED:20241127T220240Z
UID:5155-1734980400-1734986220@trriviera.com
SUMMARY:Elf
DESCRIPTION:Buddy (Will Ferrell) was accidentally transported to the North Pole as a toddler and raised to adulthood among Santa’s elves. Unable to shake the feeling that he doesn’t fit in\, the adult Buddy travels to New York\, in full elf uniform\, in search of his real father. As it happens\, this is Walter Hobbs (James Caan)\, a cynical businessman. After a DNA test proves this\, Walter reluctantly attempts to start a relationship with the childlike Buddy with increasingly chaotic results. English\, Warner Brothers (USA). Runtime: 97 min. \n \n  \n 
URL:https://trriviera.com/event/elf-2/
LOCATION:Riviera Theatre Auditorium\, 50 N. Main St.\, Three Rivers\, MI\, 49093\, United States
CATEGORIES:Film
ATTACH;FMTTYPE=image/jpeg:https://trriviera.com/wp-content/uploads/2024/11/Elf.avif
END:VEVENT
BEGIN:VEVENT
DTSTART;TZID=America/Detroit:20250221T180000
DTEND;TZID=America/Detroit:20250221T213000
DTSTAMP:20260420T212804
CREATED:20250206T184204Z
LAST-MODIFIED:20250206T203727Z
UID:5301-1740160800-1740173400@trriviera.com
SUMMARY:2025 Oscar Nominated Short Films
DESCRIPTION:For the 20th consecutive year\, ShortsTV presents the Oscar-Nominated Short Films. With all three categories offered – Animated\, Live Action and Documentary – this is your annual chance to predict the winners (and have the edge in your Oscar pool)! A perennial hit with audiences around the country and the world\, don’t miss this year’s selection of shorts.\nDocumentary Shorts: Fri\, 2/21 @ 6pm & Sat\, 3/1 @ 6:45pm\nAnimated Shorts: Sat\, 2/22 @ 3pm & Fri\, 2/28 @ 8:15pm\nLive Action Shorts: Fri\, 2/28 @ 6pm & Sat\, 3/1 @ 4:30pm\n*The Academy Awards take place Sunday\, March 2nd.
URL:https://trriviera.com/event/2025-oscar-nominated-short-films/
LOCATION:Riviera Theatre Auditorium\, 50 N. Main St.\, Three Rivers\, MI\, 49093\, United States
CATEGORIES:Film
ATTACH;FMTTYPE=image/jpeg:https://trriviera.com/wp-content/uploads/2025/02/2025-Oscar_Shorts_Poster-Original-SQ-1000x1000_FEB14.jpg
END:VEVENT
BEGIN:VEVENT
DTSTART;TZID=America/Detroit:20250222T153000
DTEND;TZID=America/Detroit:20250222T170000
DTSTAMP:20260420T212804
CREATED:20250206T185641Z
LAST-MODIFIED:20250206T203656Z
UID:5304-1740238200-1740243600@trriviera.com
SUMMARY:2025 Oscar Nominated Short Films
DESCRIPTION:For the 20th consecutive year\, ShortsTV presents the Oscar-Nominated Short Films. With all three categories offered – Animated\, Live Action and Documentary – this is your annual chance to predict the winners (and have the edge in your Oscar pool)! A perennial hit with audiences around the country and the world\, don’t miss this year’s selection of shorts.\nDocumentary Shorts: Fri\, 2/21 @ 6pm & Sat\, 3/1 @ 6:45pm\nAnimated Shorts: Sat\, 2/22 @ 3pm & Fri\, 2/28 @ 8:15pm\nLive Action Shorts: Fri\, 2/28 @ 6pm & Sat\, 3/1 @ 4:30pm\n*The Academy Awards take place Sunday\, March 2nd.
URL:https://trriviera.com/event/2025-oscar-nominated-short-films-2/
LOCATION:Riviera Theatre Auditorium\, 50 N. Main St.\, Three Rivers\, MI\, 49093\, United States
CATEGORIES:Film
ATTACH;FMTTYPE=image/jpeg:https://trriviera.com/wp-content/uploads/2025/02/2025-Oscar_Shorts_Poster-Original-SQ-1000x1000_FEB14.jpg
END:VEVENT
BEGIN:VEVENT
DTSTART;TZID=America/Detroit:20250228T180000
DTEND;TZID=America/Detroit:20250228T214500
DTSTAMP:20260420T212804
CREATED:20250206T185809Z
LAST-MODIFIED:20250206T203618Z
UID:5307-1740765600-1740779100@trriviera.com
SUMMARY:2025 Oscar Nominated Short Films
DESCRIPTION:For the 20th consecutive year\, ShortsTV presents the Oscar-Nominated Short Films. With all three categories offered – Animated\, Live Action and Documentary – this is your annual chance to predict the winners (and have the edge in your Oscar pool)! A perennial hit with audiences around the country and the world\, don’t miss this year’s selection of shorts.\nDocumentary Shorts: Fri\, 2/21 @ 6pm & Sat\, 3/1 @ 6:45pm\nAnimated Shorts: Sat\, 2/22 @ 3pm & Fri\, 2/28 @ 8:15pm\nLive Action Shorts: Fri\, 2/28 @ 6pm & Sat\, 3/1 @ 4:30pm\n*The Academy Awards take place Sunday\, March 2nd.
URL:https://trriviera.com/event/2025-oscar-nominated-short-films-3/
LOCATION:Riviera Theatre Auditorium\, 50 N. Main St.\, Three Rivers\, MI\, 49093\, United States
CATEGORIES:Film
ATTACH;FMTTYPE=image/jpeg:https://trriviera.com/wp-content/uploads/2025/02/2025-Oscar_Shorts_Poster-Original-SQ-1000x1000_FEB14.jpg
END:VEVENT
BEGIN:VEVENT
DTSTART;TZID=America/Detroit:20250301T163000
DTEND;TZID=America/Detroit:20250301T213000
DTSTAMP:20260420T212804
CREATED:20250206T190056Z
LAST-MODIFIED:20250206T203536Z
UID:5309-1740846600-1740864600@trriviera.com
SUMMARY:2025 Oscar Nominated Short Films
DESCRIPTION:For the 20th consecutive year\, ShortsTV presents the Oscar-Nominated Short Films. With all three categories offered – Animated\, Live Action and Documentary – this is your annual chance to predict the winners (and have the edge in your Oscar pool)! A perennial hit with audiences around the country and the world\, don’t miss this year’s selection of shorts.\nDocumentary Shorts: Fri\, 2/21 @ 6pm & Sat\, 3/1 @ 6:45pm\nAnimated Shorts: Sat\, 2/22 @ 3pm & Fri\, 2/28 @ 8:15pm\nLive Action Shorts: Fri\, 2/28 @ 6pm & Sat\, 3/1 @ 4:30pm\n*The Academy Awards take place Sunday\, March 2nd.
URL:https://trriviera.com/event/2025-oscar-nominated-short-films-4/
LOCATION:Riviera Theatre Auditorium\, 50 N. Main St.\, Three Rivers\, MI\, 49093\, United States
CATEGORIES:Film
ATTACH;FMTTYPE=image/jpeg:https://trriviera.com/wp-content/uploads/2025/02/2025-Oscar_Shorts_Poster-Original-SQ-1000x1000_FEB14.jpg
END:VEVENT
BEGIN:VEVENT
DTSTART;TZID=America/Detroit:20250329T183000
DTEND;TZID=America/Detroit:20250329T203000
DTSTAMP:20260420T212804
CREATED:20250316T013327Z
LAST-MODIFIED:20250316T013327Z
UID:5384-1743273000-1743280200@trriviera.com
SUMMARY:Stop Making Sense
DESCRIPTION:The greatest concert film of all time\, Stop Making Sense brings to the screen Talking Heads at Hollywood’s Pantages Theater in December 1983: David Byrne\, Tina Weymouth\, Chris Frantz\, and Jerry Harrison\, alongside an ecstatic ensemble of supporting musicians. Renowned filmmaker Jonathan Demme (Silence of the Lambs) captures the band at their exhilarating best\, in this new and complete restoration for the film’s 40th anniversary. Unrated\, 1:28 mins.\n\nStop Making Sense returns to the Riviera Theatre Saturday\, March 29 at 6:30 pm\, for one screening only! Tickets are $8 for students/seniors & $9 for adults and are available at the box office one hour prior to the show.
URL:https://trriviera.com/event/stop-making-sense/
LOCATION:Riviera Theatre Auditorium\, 50 N. Main St.\, Three Rivers\, MI\, 49093\, United States
CATEGORIES:Film
ATTACH;FMTTYPE=image/png:https://trriviera.com/wp-content/uploads/2025/03/Stop-Making-Sense-png.avif
END:VEVENT
BEGIN:VEVENT
DTSTART;TZID=America/Detroit:20250717T180000
DTEND;TZID=America/Detroit:20250717T193000
DTSTAMP:20260420T212804
CREATED:20250714T180312Z
LAST-MODIFIED:20250714T180312Z
UID:5550-1752775200-1752780600@trriviera.com
SUMMARY:John Lewis: Good Trouble
DESCRIPTION:On July 17\, the anniversary of Congressman John Lewis’s passing\, millions across the country are taking action and participating in trainings to defend our democracy and carry forward his legacy of Good Trouble. \nJoin us in Three Rivers for a FREE screening of the 2020 documentary “John Lewis: Good Trouble” at the historic Riviera Theatre. The first 50 attendees will receive a “Get in good trouble” button. We need to know the stories of those who have gone before us to know how we need to respond to our own circumstances now! \nThis moment is a moment of moral reckoning. A continuation of the movement Lewis helped lead\, and a new front in the struggle for freedom.
URL:https://trriviera.com/event/john-lewis-good-trouble/
LOCATION:Riviera Theatre Auditorium\, 50 N. Main St.\, Three Rivers\, MI\, 49093\, United States
CATEGORIES:Film
ATTACH;FMTTYPE=image/jpeg:https://trriviera.com/wp-content/uploads/2025/07/516894767_756587597024825_8361075390500357156_n.avif
END:VEVENT
BEGIN:VEVENT
DTSTART;TZID=America/Detroit:20251120T193000
DTEND;TZID=America/Detroit:20251120T210000
DTSTAMP:20260420T212804
CREATED:20251006T205007Z
LAST-MODIFIED:20251006T205118Z
UID:5615-1763667000-1763672400@trriviera.com
SUMMARY:Warren Miller's 'Sno-ciety'
DESCRIPTION:SNO-CIETYing on winter with Warren Miller! From big mountain lines and race gates to urban ski hills and unexpected destinations\, come along as we carve turns and find our crew—from California\, Colorado\, and New Hampshire to Austria\, British Columbia\, Finland\, and Scotland. Drop in with Olympians\, urban riders\, and local legends on the big screen this fall\, including Daron Rahlves\, Britta Winans\, Judd Henkes\, Sarka Panacochova\, Breezy Johnson\, Chris Rubens\, Juho Kilkki\, and more. \nWarren Miller’s SNO-CIETY is a celebration of the spirit of winter—wherever you ride and however you connect to the snow and the community around it. Get in on the party at a theater near you this fall—tickets are on sale now at warrenmiller.com. \nFeatured Athletes: Judd Henkes | Britta Winans | Daron Rahlves | Todd Ligare | Chris Rubens | Sarka Pancochova | Breezy Johnson | Juho Kilkki | Ellie Weiler | Katie Kennedy | Marie-France Roy | Robin Van Gyn | Jacoba Kriechmayr | Miha Hrobat | Lucas Braathen | Sofia Goggia | Vincent Kriechmayr | Lesley McKenna | Cam Lawrence | Ashlee Keller | Willan Charles | Jakub Hrones | Oyvind Kirkhus | Yuki Kadono | Lyon Farrell | Mia Winans | Anika Winans \nDoors open at 6:15. Tickets are $15 can be purchased at http://warrenmiller.blogspot.com. Please contact Curt Zondervan\, warrenmillershow@gmail.com for more information.
URL:https://trriviera.com/event/warren-millers-76th/
LOCATION:Riviera Theatre Auditorium\, 50 N. Main St.\, Three Rivers\, MI\, 49093\, United States
CATEGORIES:Film,Sports
ATTACH;FMTTYPE=image/jpeg:https://trriviera.com/wp-content/uploads/2025/10/th.avif
END:VEVENT
BEGIN:VEVENT
DTSTART;VALUE=DATE:20251128
DTEND;VALUE=DATE:20251201
DTSTAMP:20260420T212804
CREATED:20251103T194928Z
LAST-MODIFIED:20251103T221526Z
UID:5675-1764288000-1764547199@trriviera.com
SUMMARY:Christmas Around Town Returns Nov 28-30th
DESCRIPTION:THREE RIVERS CHRISTMAS AROUND TOWN SCHEDULE:\n\n\nFRIDAY 11/28: Let the shopping begin\, support local this Black Friday!\n\n\n-Mural Mall Tree Lighting & Caroling at 6pm featuring the TRHS Aristocrats\, a reading of ‘Twas The Night Before Christmas’\, hot cocoa\, cookies & more!\n\n\n-DDA’s Holiday Spectacular Concert at 7pm at the Riviera Theatre w/ a special gift basket giveaway (they have a great line up in the works). Suggested donation for entry.\n\n\nSATURDAY 11/29:\n\n\n-Shop Small Saturday from 12–4pm: business will be open all day with special shopping deals! Santa arrives via fire engine for photo ops at the Riviera Theatre\, cookie decorating kits at GG’s\, scavenger hunt w/ prizes\, free wagon rides\, make & take holiday crafts for kids\, and more!\n\n\n-NEW Holiday Light Parade in historic downtown Three Rivers at 6pm! \n\n\nSUNDAY 11/30:\n– Wagon Rides return along w/ local business to offer special shopping deals!\n\n\n-Polar Express screening at the Riviera Theatre hosted by Immaculate Conception Church at 2pm & 5pm. Free entry with a non-perishable food item. Caroling 30 mins prior to the shows & kids receive a hot cocoa\, a bell & ticket punched by the conductor!
URL:https://trriviera.com/event/christmas-around-town-returns-nov-28-30th/
LOCATION:Downtown Area
CATEGORIES:DDA Event,Film,Fundraiser,Games,Music,Theater
ATTACH;FMTTYPE=image/avif:https://trriviera.com/wp-content/uploads/2025/11/486194407_1078725264293199_7301014871027405447_n.avif
ORGANIZER;CN="Downtown Three Rivers":MAILTO:threeriversdda@gmail.com
END:VEVENT
BEGIN:VEVENT
DTSTART;TZID=America/Detroit:20251130T140000
DTEND;TZID=America/Detroit:20251130T162000
DTSTAMP:20260420T212804
CREATED:20251103T230955Z
LAST-MODIFIED:20251103T230955Z
UID:5630-1764511200-1764519600@trriviera.com
SUMMARY:Polar Express To Fight Hunger
DESCRIPTION:Immaculate Conception School presents a Family Movie Night to Fight Hunger on November 30\, 2024 at 2pm and 5pm. Hot cocoa & sleigh bells provided. Tickets will be punched by the conductor. IC Church Choir will perform carols prior to each screening. Pajamas & blankets encourages. Admission: canned goods or other nonperishable food items that will be distributed by IC Help to those in need this holiday season. For more information 269/273-2085 or www.iccatholicschool.com. English\, Warner Brothers Picture\, 2004. Runtime: 140 min./Rated G \n \n 
URL:https://trriviera.com/event/polar-express-to-fight-hunger-4/
LOCATION:Riviera Theatre Auditorium\, 50 N. Main St.\, Three Rivers\, MI\, 49093\, United States
CATEGORIES:Film
ATTACH;FMTTYPE=image/png:https://trriviera.com/wp-content/uploads/2025/10/Polar-Express-25.avif
END:VEVENT
BEGIN:VEVENT
DTSTART;TZID=America/Detroit:20251130T170000
DTEND;TZID=America/Detroit:20251130T192000
DTSTAMP:20260420T212804
CREATED:20251103T230848Z
LAST-MODIFIED:20251103T230848Z
UID:5627-1764522000-1764530400@trriviera.com
SUMMARY:Polar Express To Fight Hunger
DESCRIPTION:Immaculate Conception School presents a Family Movie Night to Fight Hunger on November 30\, 2024 at 2pm and 5pm. Hot cocoa & sleigh bells provided. Tickets will be punched by the conductor. IC Church Choir will perform carols prior to each screening. Pajamas & blankets encourages. Admission: canned goods or other nonperishable food items that will be distributed by IC Help to those in need this holiday season. For more information 269/273-2085 or www.iccatholicschool.com. English\, Warner Brothers Picture\, 2004. Runtime: 140 min./Rated G \n \n 
URL:https://trriviera.com/event/polar-express-to-fight-hunger-3/
LOCATION:Riviera Theatre Auditorium\, 50 N. Main St.\, Three Rivers\, MI\, 49093\, United States
CATEGORIES:Film
ATTACH;FMTTYPE=image/png:https://trriviera.com/wp-content/uploads/2025/10/Polar-Express-25.avif
END:VEVENT
BEGIN:VEVENT
DTSTART;TZID=America/Detroit:20251213T163000
DTEND;TZID=America/Detroit:20251213T183000
DTSTAMP:20260420T212804
CREATED:20251130T202521Z
LAST-MODIFIED:20251130T202521Z
UID:5707-1765643400-1765650600@trriviera.com
SUMMARY:White Christmas
DESCRIPTION:After leaving the Army after W.W.II\, Bob Wallace and Phil Davis team up to become a top song-and-dance act. Davis plays matchmaker and introduces Wallace to a pair of beautiful sisters (Betty and Judy) who also have a song-and-dance act. When Betty and Judy travel to a Vermont lodge to perform a Christmas show\, Wallace and Davis follow\, only to find their former commander\, General Waverly\, is the lodge owner. A series of romantic mix-ups ensue as the performers try to help the General. English. 14 October 1954 (USA) Paramount Pictures. Runtime: 120 min. The ticket booth opens 30 mins prior to screenings and cost $8 for students/seniors 65+ & $9 for adults.
URL:https://trriviera.com/event/white-christmas-5/
LOCATION:Riviera Theatre Auditorium\, 50 N. Main St.\, Three Rivers\, MI\, 49093\, United States
CATEGORIES:Film
ATTACH;FMTTYPE=image/png:https://trriviera.com/wp-content/uploads/2025/11/White-Christmas-3.avif
END:VEVENT
BEGIN:VEVENT
DTSTART;TZID=America/Detroit:20251213T190000
DTEND;TZID=America/Detroit:20251213T190000
DTSTAMP:20260420T212804
CREATED:20251130T203536Z
LAST-MODIFIED:20251130T203841Z
UID:5715-1765652400-1765652400@trriviera.com
SUMMARY:White Christmas
DESCRIPTION:After leaving the Army after W.W.II\, Bob Wallace and Phil Davis team up to become a top song-and-dance act. Davis plays matchmaker and introduces Wallace to a pair of beautiful sisters (Betty and Judy) who also have a song-and-dance act. When Betty and Judy travel to a Vermont lodge to perform a Christmas show\, Wallace and Davis follow\, only to find their former commander\, General Waverly\, is the lodge owner. A series of romantic mix-ups ensue as the performers try to help the General. English. 14 October 1954 (USA) Paramount Pictures. Runtime: 120 min. The ticket booth opens 30 mins prior to screenings and cost $8 for students/seniors 65+ & $9 for adults.
URL:https://trriviera.com/event/white-christmas-6/
LOCATION:Riviera Theatre Auditorium\, 50 N. Main St.\, Three Rivers\, MI\, 49093\, United States
CATEGORIES:Film
ATTACH;FMTTYPE=image/png:https://trriviera.com/wp-content/uploads/2025/11/White-Christmas-3.avif
END:VEVENT
BEGIN:VEVENT
DTSTART;TZID=America/Detroit:20251220T160000
DTEND;TZID=America/Detroit:20251220T181000
DTSTAMP:20260420T212804
CREATED:20251130T202925Z
LAST-MODIFIED:20251130T202925Z
UID:5710-1766246400-1766254200@trriviera.com
SUMMARY:It's A Wonderful Life
DESCRIPTION:George Bailey has spent his entire life giving of himself to the people of Bedford Falls. He has always longed to travel but never had the opportunity in order to prevent rich skinflint Mr. Potter from taking over the entire town. All that prevents him from doing so is George’s modest building and loan company\, which was founded by his generous father. But on Christmas Eve\, George’s Uncle Billy loses the business’s $8\,000 while intending to deposit it in the bank. Mr. Potter finds the misplaced money and hides it from Uncle Billy. When the bank examiner discovers the shortage later that night\, George realizes that he will be held responsible and sent to jail and the company will collapse\, finally allowing Mr. Potter to take over the town. Thinking of his wife\, Mary\, their four children\, and others he loves will be better off with him dead\, he contemplates suicide. But the prayers of his loved ones result in his guardian angel named Clarence Odbody coming to Earth to help him\, with the promise of earning his wings. He shows him what things would have been like if he had never been born. English. December 20\, 1946 (USA) Paramount Pictures. Runtime: 130 min. Black & White at 4pm\, In Color at 7pm. The ticket booth opens 30 mins prior to screenings and cost $8 for students/seniors 65+ & $9 for adults.
URL:https://trriviera.com/event/its-a-wonderful-life-5/
LOCATION:Riviera Theatre Auditorium\, 50 N. Main St.\, Three Rivers\, MI\, 49093\, United States
CATEGORIES:Film
ATTACH;FMTTYPE=image/png:https://trriviera.com/wp-content/uploads/2025/11/IAWL.avif
END:VEVENT
BEGIN:VEVENT
DTSTART;TZID=America/Detroit:20251220T190000
DTEND;TZID=America/Detroit:20251220T211000
DTSTAMP:20260420T212804
CREATED:20251130T203106Z
LAST-MODIFIED:20251130T203106Z
UID:5713-1766257200-1766265000@trriviera.com
SUMMARY:It's A Wonderful Life
DESCRIPTION:George Bailey has spent his entire life giving of himself to the people of Bedford Falls. He has always longed to travel but never had the opportunity in order to prevent rich skinflint Mr. Potter from taking over the entire town. All that prevents him from doing so is George’s modest building and loan company\, which was founded by his generous father. But on Christmas Eve\, George’s Uncle Billy loses the business’s $8\,000 while intending to deposit it in the bank. Mr. Potter finds the misplaced money and hides it from Uncle Billy. When the bank examiner discovers the shortage later that night\, George realizes that he will be held responsible and sent to jail and the company will collapse\, finally allowing Mr. Potter to take over the town. Thinking of his wife\, Mary\, their four children\, and others he loves will be better off with him dead\, he contemplates suicide. But the prayers of his loved ones result in his guardian angel named Clarence Odbody coming to Earth to help him\, with the promise of earning his wings. He shows him what things would have been like if he had never been born. English. December 20\, 1946 (USA) Paramount Pictures. Runtime: 130 min. Black & White at 4pm\, In Color at 7pm. The ticket booth opens 30 mins prior to screenings and cost $8 for students/seniors 65+ & $9 for adults.
URL:https://trriviera.com/event/its-a-wonderful-life-6/
LOCATION:Riviera Theatre Auditorium\, 50 N. Main St.\, Three Rivers\, MI\, 49093\, United States
CATEGORIES:Film
ATTACH;FMTTYPE=image/png:https://trriviera.com/wp-content/uploads/2025/11/IAWL.avif
END:VEVENT
BEGIN:VEVENT
DTSTART;TZID=America/Detroit:20251223T190000
DTEND;TZID=America/Detroit:20251223T204500
DTSTAMP:20260420T212804
CREATED:20251202T052655Z
LAST-MODIFIED:20251208T205110Z
UID:5720-1766516400-1766522700@trriviera.com
SUMMARY:Dr. Suess' How The Grinch Stole Christmas
DESCRIPTION:Join us to celebrate the Riviera’s 100th birthday Tuesday\, December 23rd at 7PM with a FREE screening of Dr. Suess’ How The Grinch Stole Christmas! \nInside a snowflake exists the magical land of Whoville\, wherein live the Whos\, an almost-mutated sort of Munchkin-like people who all love Christmas. Just outside of their beloved town lives the Grinch (Jim Carrey)\, a nasty creature that hates Christmas and plans to steal it from the Whos\, which he equally abhors. Little Cindy Lou Who (Taylor Momsen) decides to befriend the Grinch. Rating: PG (Crude Humor). English. Nov 17\, 2000 (USA) Universal Studios. Runtime: 1h 45min.
URL:https://trriviera.com/event/dr-suess-how-the-grinch-stole-christmas-2/
LOCATION:Riviera Theatre Auditorium\, 50 N. Main St.\, Three Rivers\, MI\, 49093\, United States
CATEGORIES:Film
ATTACH;FMTTYPE=image/png:https://trriviera.com/wp-content/uploads/2025/12/Dr.-Suess-How-3.avif
END:VEVENT
END:VCALENDAR