BEGIN:VCALENDAR
VERSION:2.0
PRODID:-//TR Riviera Theatre - ECPv6.15.13//NONSGML v1.0//EN
CALSCALE:GREGORIAN
METHOD:PUBLISH
X-ORIGINAL-URL:https://trriviera.com
X-WR-CALDESC:Events for TR Riviera Theatre
REFRESH-INTERVAL;VALUE=DURATION:PT1H
X-Robots-Tag:noindex
X-PUBLISHED-TTL:PT1H
BEGIN:VTIMEZONE
TZID:America/Detroit
BEGIN:DAYLIGHT
TZOFFSETFROM:-0500
TZOFFSETTO:-0400
TZNAME:EDT
DTSTART:20220313T070000
END:DAYLIGHT
BEGIN:STANDARD
TZOFFSETFROM:-0400
TZOFFSETTO:-0500
TZNAME:EST
DTSTART:20221106T060000
END:STANDARD
BEGIN:DAYLIGHT
TZOFFSETFROM:-0500
TZOFFSETTO:-0400
TZNAME:EDT
DTSTART:20230312T070000
END:DAYLIGHT
BEGIN:STANDARD
TZOFFSETFROM:-0400
TZOFFSETTO:-0500
TZNAME:EST
DTSTART:20231105T060000
END:STANDARD
BEGIN:DAYLIGHT
TZOFFSETFROM:-0500
TZOFFSETTO:-0400
TZNAME:EDT
DTSTART:20240310T070000
END:DAYLIGHT
BEGIN:STANDARD
TZOFFSETFROM:-0400
TZOFFSETTO:-0500
TZNAME:EST
DTSTART:20241103T060000
END:STANDARD
END:VTIMEZONE
BEGIN:VEVENT
DTSTART;TZID=America/Detroit:20230429T180000
DTEND;TZID=America/Detroit:20230429T203000
DTSTAMP:20260419T102011
CREATED:20230328T031205Z
LAST-MODIFIED:20230413T210948Z
UID:4391-1682791200-1682800200@trriviera.com
SUMMARY:Drag Bingo w/ the Kittens
DESCRIPTION:SOLD OUT: Join The Kunty Kittens\, Saturday April 29th\, for fun at Three Rivers hottest spot The Riviera for Trashy Drag Bingo!\nTickets are only $15.00 which includes bingo games\, drag show\, prizes\, and SHENANIGANS!\nShow ticket does not include food or beverage…
URL:https://trriviera.com/event/drag-bingo-w-the-kittens/
LOCATION:Riviera Theatre Bar\, 48 N. Main St.\, Three Rivers\, MI\, 49093\, United States
CATEGORIES:Games
ATTACH;FMTTYPE=image/jpeg:https://trriviera.com/wp-content/uploads/2023/03/336309970_1594164347751252_8420618276650159185_n.jpg
END:VEVENT
END:VCALENDAR