BEGIN:VCALENDAR
VERSION:2.0
PRODID:-//TR Riviera Theatre - ECPv6.15.13//NONSGML v1.0//EN
CALSCALE:GREGORIAN
METHOD:PUBLISH
X-ORIGINAL-URL:https://trriviera.com
X-WR-CALDESC:Events for TR Riviera Theatre
REFRESH-INTERVAL;VALUE=DURATION:PT1H
X-Robots-Tag:noindex
X-PUBLISHED-TTL:PT1H
BEGIN:VTIMEZONE
TZID:America/Detroit
BEGIN:DAYLIGHT
TZOFFSETFROM:-0500
TZOFFSETTO:-0400
TZNAME:EDT
DTSTART:20210314T070000
END:DAYLIGHT
BEGIN:STANDARD
TZOFFSETFROM:-0400
TZOFFSETTO:-0500
TZNAME:EST
DTSTART:20211107T060000
END:STANDARD
BEGIN:DAYLIGHT
TZOFFSETFROM:-0500
TZOFFSETTO:-0400
TZNAME:EDT
DTSTART:20220313T070000
END:DAYLIGHT
BEGIN:STANDARD
TZOFFSETFROM:-0400
TZOFFSETTO:-0500
TZNAME:EST
DTSTART:20221106T060000
END:STANDARD
BEGIN:DAYLIGHT
TZOFFSETFROM:-0500
TZOFFSETTO:-0400
TZNAME:EDT
DTSTART:20230312T070000
END:DAYLIGHT
BEGIN:STANDARD
TZOFFSETFROM:-0400
TZOFFSETTO:-0500
TZNAME:EST
DTSTART:20231105T060000
END:STANDARD
END:VTIMEZONE
BEGIN:VEVENT
DTSTART;TZID=America/Detroit:20221203T180000
DTEND;TZID=America/Detroit:20221203T203000
DTSTAMP:20260420T075639
CREATED:20221129T172601Z
LAST-MODIFIED:20221129T180100Z
UID:4149-1670090400-1670099400@trriviera.com
SUMMARY:Iron Fish Tasting (21+)
DESCRIPTION:Come sample some spirits from Iron Fish Distillery! The first of its kind in Michigan\, Iron Fish is a field-to-glass craft distillery located just outside Thompsonville\, producing a full line of premium quality\, small batch spirits (vodka\, gin\, rum and whiskey) from grains farmed on its fields.\nTicket includes spirit tasting\, appetizers/hors d’ouevres\, two cocktails\, and a tasting glass.\n\nwww.purplepass.com/IFTasting\n\nSpirits Featured:\n\nWoodland Gin\nSlightly Lost Barrel Aged Gin\nMaple Bourbon\nTwo Peninsula Whiskey\nFour Cask\nMezcal Finish\n\nCocktail Options: \n\nSalted Maple Old Fashioned (features IF Maple Bourbon.)\nBlack Manhattan (features IF Two Peninsula Whiskey.)\nWoodland Gin based cocktail
URL:https://trriviera.com/event/iron-fish-tasting-21/
LOCATION:Riviera Theatre Bar\, 48 N. Main St.\, Three Rivers\, MI\, 49093\, United States
CATEGORIES:Tasting
ATTACH;FMTTYPE=image/jpeg:https://trriviera.com/wp-content/uploads/2022/11/315797522_555429419922106_5039033581614450762_n.jpg
END:VEVENT
END:VCALENDAR