BEGIN:VCALENDAR
VERSION:2.0
PRODID:-//TR Riviera Theatre - ECPv6.15.13//NONSGML v1.0//EN
CALSCALE:GREGORIAN
METHOD:PUBLISH
X-WR-CALNAME:TR Riviera Theatre
X-ORIGINAL-URL:https://trriviera.com
X-WR-CALDESC:Events for TR Riviera Theatre
REFRESH-INTERVAL;VALUE=DURATION:PT1H
X-Robots-Tag:noindex
X-PUBLISHED-TTL:PT1H
BEGIN:VTIMEZONE
TZID:America/Detroit
BEGIN:DAYLIGHT
TZOFFSETFROM:-0500
TZOFFSETTO:-0400
TZNAME:EDT
DTSTART:20220313T070000
END:DAYLIGHT
BEGIN:STANDARD
TZOFFSETFROM:-0400
TZOFFSETTO:-0500
TZNAME:EST
DTSTART:20221106T060000
END:STANDARD
BEGIN:DAYLIGHT
TZOFFSETFROM:-0500
TZOFFSETTO:-0400
TZNAME:EDT
DTSTART:20230312T070000
END:DAYLIGHT
BEGIN:STANDARD
TZOFFSETFROM:-0400
TZOFFSETTO:-0500
TZNAME:EST
DTSTART:20231105T060000
END:STANDARD
BEGIN:DAYLIGHT
TZOFFSETFROM:-0500
TZOFFSETTO:-0400
TZNAME:EDT
DTSTART:20240310T070000
END:DAYLIGHT
BEGIN:STANDARD
TZOFFSETFROM:-0400
TZOFFSETTO:-0500
TZNAME:EST
DTSTART:20241103T060000
END:STANDARD
END:VTIMEZONE
BEGIN:VEVENT
DTSTART;TZID=America/Detroit:20230320T160000
DTEND;TZID=America/Detroit:20230320T220000
DTSTAMP:20260420T040621
CREATED:20230316T173041Z
LAST-MODIFIED:20230322T142046Z
UID:4355-1679328000-1679349600@trriviera.com
SUMMARY:Bell's Oberon Release
DESCRIPTION:The frothy summer wheat beer returns marking the beer world’s end of winter.  Stop out to enjoy a pint or two and don’t forget to order up an Oberon Onion Pizza!
URL:https://trriviera.com/event/bells-oberon-release/
LOCATION:Riviera Theatre Bar\, 48 N. Main St.\, Three Rivers\, MI\, 49093\, United States
CATEGORIES:Tasting
ATTACH;FMTTYPE=image/png:https://trriviera.com/wp-content/uploads/2023/03/MicrosoftTeams-image-102.png
END:VEVENT
END:VCALENDAR