BEGIN:VCALENDAR
VERSION:2.0
PRODID:-//TR Riviera Theatre - ECPv6.15.13//NONSGML v1.0//EN
CALSCALE:GREGORIAN
METHOD:PUBLISH
X-WR-CALNAME:TR Riviera Theatre
X-ORIGINAL-URL:https://trriviera.com
X-WR-CALDESC:Events for TR Riviera Theatre
REFRESH-INTERVAL;VALUE=DURATION:PT1H
X-Robots-Tag:noindex
X-PUBLISHED-TTL:PT1H
BEGIN:VTIMEZONE
TZID:America/Detroit
BEGIN:DAYLIGHT
TZOFFSETFROM:-0500
TZOFFSETTO:-0400
TZNAME:EDT
DTSTART:20220313T070000
END:DAYLIGHT
BEGIN:STANDARD
TZOFFSETFROM:-0400
TZOFFSETTO:-0500
TZNAME:EST
DTSTART:20221106T060000
END:STANDARD
BEGIN:DAYLIGHT
TZOFFSETFROM:-0500
TZOFFSETTO:-0400
TZNAME:EDT
DTSTART:20230312T070000
END:DAYLIGHT
BEGIN:STANDARD
TZOFFSETFROM:-0400
TZOFFSETTO:-0500
TZNAME:EST
DTSTART:20231105T060000
END:STANDARD
BEGIN:DAYLIGHT
TZOFFSETFROM:-0500
TZOFFSETTO:-0400
TZNAME:EDT
DTSTART:20240310T070000
END:DAYLIGHT
BEGIN:STANDARD
TZOFFSETFROM:-0400
TZOFFSETTO:-0500
TZNAME:EST
DTSTART:20241103T060000
END:STANDARD
END:VTIMEZONE
BEGIN:VEVENT
DTSTART;TZID=America/Detroit:20230325T180000
DTEND;TZID=America/Detroit:20230325T200000
DTSTAMP:20260420T040654
CREATED:20230316T171926Z
LAST-MODIFIED:20230322T141935Z
UID:4351-1679767200-1679774400@trriviera.com
SUMMARY:Detroit City Distillery Tasting
DESCRIPTION:Stop in to meet up with Detroit City Distillery’s & Imperial Beverage Representatives and sample some of their wonderful spirits including DCD Butcher’s Cut Bourbon\, Homegrown Rye and Gilded Age Vodka.  Bartenders will be crafting both classic and custom cocktails featuring DCD! Come early and get entered into a drawing for a DCD gift basket.
URL:https://trriviera.com/event/detroit-city-distillery-tasting/
LOCATION:Riviera Theatre Bar\, 48 N. Main St.\, Three Rivers\, MI\, 49093\, United States
CATEGORIES:Tasting
ATTACH;FMTTYPE=image/jpeg:https://trriviera.com/wp-content/uploads/2023/03/328614913_1018453825772822_5689308757880889733_n.jpg
END:VEVENT
END:VCALENDAR