BEGIN:VCALENDAR
VERSION:2.0
PRODID:-//TR Riviera Theatre - ECPv6.15.13//NONSGML v1.0//EN
CALSCALE:GREGORIAN
METHOD:PUBLISH
X-WR-CALNAME:TR Riviera Theatre
X-ORIGINAL-URL:https://trriviera.com
X-WR-CALDESC:Events for TR Riviera Theatre
REFRESH-INTERVAL;VALUE=DURATION:PT1H
X-Robots-Tag:noindex
X-PUBLISHED-TTL:PT1H
BEGIN:VTIMEZONE
TZID:America/Detroit
BEGIN:DAYLIGHT
TZOFFSETFROM:-0500
TZOFFSETTO:-0400
TZNAME:EDT
DTSTART:20240310T070000
END:DAYLIGHT
BEGIN:STANDARD
TZOFFSETFROM:-0400
TZOFFSETTO:-0500
TZNAME:EST
DTSTART:20241103T060000
END:STANDARD
BEGIN:DAYLIGHT
TZOFFSETFROM:-0500
TZOFFSETTO:-0400
TZNAME:EDT
DTSTART:20250309T070000
END:DAYLIGHT
BEGIN:STANDARD
TZOFFSETFROM:-0400
TZOFFSETTO:-0500
TZNAME:EST
DTSTART:20251102T060000
END:STANDARD
BEGIN:DAYLIGHT
TZOFFSETFROM:-0500
TZOFFSETTO:-0400
TZNAME:EDT
DTSTART:20260308T070000
END:DAYLIGHT
BEGIN:STANDARD
TZOFFSETFROM:-0400
TZOFFSETTO:-0500
TZNAME:EST
DTSTART:20261101T060000
END:STANDARD
BEGIN:DAYLIGHT
TZOFFSETFROM:-0500
TZOFFSETTO:-0400
TZNAME:EDT
DTSTART:20270314T070000
END:DAYLIGHT
BEGIN:STANDARD
TZOFFSETFROM:-0400
TZOFFSETTO:-0500
TZNAME:EST
DTSTART:20271107T060000
END:STANDARD
END:VTIMEZONE
BEGIN:VEVENT
DTSTART;TZID=America/Detroit:20251206T190000
DTEND;TZID=America/Detroit:20251206T210000
DTSTAMP:20260421T113223
CREATED:20251008T052450Z
LAST-MODIFIED:20251008T052450Z
UID:5652-1765047600-1765054800@trriviera.com
SUMMARY:Make We Merry presented by TRAM
DESCRIPTION:Three Rivers Area Mentoring (TRAM) is reviving the MAKE WE MERRY holiday variety show. The performance dates will be December 5\, 6\, & 7\, 2025 at the Riviera Theatre & Bar in downtown Three Rivers. Tickets are available for $12.00 for adults and $8.00 for children 12 and under at:\n\nhttp://www.purplepasss.com/makewemerryfri\nhttp://www.purplepass.com/makewemerrysat\nhttp://www.purplepass.com/makewemerrysun
URL:https://trriviera.com/event/make-we-merry-presented-by-tram-2/
LOCATION:Riviera Theatre Auditorium\, 50 N. Main St.\, Three Rivers\, MI\, 49093\, United States
CATEGORIES:Comedy,Dance,Fundraiser,Music,Theater
ATTACH;FMTTYPE=image/png:https://trriviera.com/wp-content/uploads/2025/10/Make-We-Merry.avif
END:VEVENT
BEGIN:VEVENT
DTSTART;TZID=America/Detroit:20251207T140000
DTEND;TZID=America/Detroit:20251207T160000
DTSTAMP:20260421T113223
CREATED:20251008T052545Z
LAST-MODIFIED:20251008T052712Z
UID:5654-1765116000-1765123200@trriviera.com
SUMMARY:Make We Merry presented by TRAM
DESCRIPTION:Three Rivers Area Mentoring (TRAM) is reviving the MAKE WE MERRY holiday variety show. The performance dates will be December 5 & 6 at 7pm and December 7 at 2pm at the Riviera Theatre & Bar in downtown Three Rivers. Tickets are available for $12.00 for adults and $8.00 for children 12 and under at:\n\nhttp://www.purplepasss.com/makewemerryfri\nhttp://www.purplepass.com/makewemerrysat\nhttp://www.purplepass.com/makewemerrysun
URL:https://trriviera.com/event/make-we-merry-presented-by-tram-3/
LOCATION:Riviera Theatre Auditorium\, 50 N. Main St.\, Three Rivers\, MI\, 49093\, United States
CATEGORIES:Comedy,Dance,Fundraiser,Music,Theater
ATTACH;FMTTYPE=image/png:https://trriviera.com/wp-content/uploads/2025/10/Make-We-Merry.avif
END:VEVENT
BEGIN:VEVENT
DTSTART;TZID=America/Detroit:20260502T160000
DTEND;TZID=America/Detroit:20260502T193000
DTSTAMP:20260421T113223
CREATED:20260313T013942Z
LAST-MODIFIED:20260313T013955Z
UID:5879-1777737600-1777750200@trriviera.com
SUMMARY:Derby Viewing Party
DESCRIPTION:Dust off your most stylish hat & join us for all the essentials of a fantastic Derby Day experience here at the Riviera Theatre’s viewing party of the 152nd Annual Kentucky Derby on Saturday\, May 2\, 2026 on the big screen. The live race starts at 6:50PM\, coverage begins at 4:30PM\, and the mint juleps will begin pouring at 4PM. This year’s event will take place in the bar area. Race cards will be provided. So\, gather your friends to feel the excitement of Churchill Downs without leaving town!
URL:https://trriviera.com/event/derby-viewing-party/
LOCATION:Riviera Theatre Auditorium\, 50 N. Main St.\, Three Rivers\, MI\, 49093\, United States
CATEGORIES:Sports,Theater
END:VEVENT
END:VCALENDAR