BEGIN:VCALENDAR
VERSION:2.0
PRODID:-//TR Riviera Theatre - ECPv6.15.13//NONSGML v1.0//EN
CALSCALE:GREGORIAN
METHOD:PUBLISH
X-WR-CALNAME:TR Riviera Theatre
X-ORIGINAL-URL:https://trriviera.com
X-WR-CALDESC:Events for TR Riviera Theatre
REFRESH-INTERVAL;VALUE=DURATION:PT1H
X-Robots-Tag:noindex
X-PUBLISHED-TTL:PT1H
BEGIN:VTIMEZONE
TZID:America/Detroit
BEGIN:DAYLIGHT
TZOFFSETFROM:-0500
TZOFFSETTO:-0400
TZNAME:EDT
DTSTART:20220313T070000
END:DAYLIGHT
BEGIN:STANDARD
TZOFFSETFROM:-0400
TZOFFSETTO:-0500
TZNAME:EST
DTSTART:20221106T060000
END:STANDARD
BEGIN:DAYLIGHT
TZOFFSETFROM:-0500
TZOFFSETTO:-0400
TZNAME:EDT
DTSTART:20230312T070000
END:DAYLIGHT
BEGIN:STANDARD
TZOFFSETFROM:-0400
TZOFFSETTO:-0500
TZNAME:EST
DTSTART:20231105T060000
END:STANDARD
BEGIN:DAYLIGHT
TZOFFSETFROM:-0500
TZOFFSETTO:-0400
TZNAME:EDT
DTSTART:20240310T070000
END:DAYLIGHT
BEGIN:STANDARD
TZOFFSETFROM:-0400
TZOFFSETTO:-0500
TZNAME:EST
DTSTART:20241103T060000
END:STANDARD
END:VTIMEZONE
BEGIN:VEVENT
DTSTART;TZID=America/Detroit:20230202T190000
DTEND;TZID=America/Detroit:20230202T210000
DTSTAMP:20260419T180128
CREATED:20230207T042555Z
LAST-MODIFIED:20230207T042555Z
UID:4309-1675364400-1675371600@trriviera.com
SUMMARY:Thursday Trivia @ Riviera!
DESCRIPTION:Thursdays\, in the heart of Three Rivers\, we run 3 rounds of trivia over at the Riviera! It all starts at 7PM\, and each round goes for about 30 minutes. Three rounds mean three chances to win prizes! Good drinks\, good food\, now all we need is you & your phone\, to show us how much you know!
URL:https://trriviera.com/event/thursday-trivia-riviera-10/
LOCATION:Riviera Theatre Bar\, 48 N. Main St.\, Three Rivers\, MI\, 49093\, United States
CATEGORIES:Trivia
ATTACH;FMTTYPE=image/jpeg:https://trriviera.com/wp-content/uploads/2022/11/275179661_477936430358611_1692923731270644259_n.jpg
END:VEVENT
BEGIN:VEVENT
DTSTART;TZID=America/Detroit:20230209T190000
DTEND;TZID=America/Detroit:20230209T210000
DTSTAMP:20260419T180128
CREATED:20230207T015528Z
LAST-MODIFIED:20230207T031632Z
UID:4258-1675969200-1675976400@trriviera.com
SUMMARY:Thursday Trivia @ Riviera!
DESCRIPTION:Thursdays\, in the heart of Three Rivers\, we run 3 rounds of trivia over at the Riviera! It all starts at 7PM\, and each round goes for about 30 minutes. Three rounds mean three chances to win prizes! Good drinks\, good food\, now all we need is you & your phone\, to show us how much you know!
URL:https://trriviera.com/event/thursday-trivia-riviera-6/
LOCATION:Riviera Theatre Bar\, 48 N. Main St.\, Three Rivers\, MI\, 49093\, United States
CATEGORIES:Trivia
ATTACH;FMTTYPE=image/jpeg:https://trriviera.com/wp-content/uploads/2022/11/275179661_477936430358611_1692923731270644259_n.jpg
END:VEVENT
BEGIN:VEVENT
DTSTART;TZID=America/Detroit:20230216T190000
DTEND;TZID=America/Detroit:20230216T210000
DTSTAMP:20260419T180128
CREATED:20230207T031706Z
LAST-MODIFIED:20230207T031706Z
UID:4295-1676574000-1676581200@trriviera.com
SUMMARY:Thursday Trivia @ Riviera!
DESCRIPTION:Thursdays\, in the heart of Three Rivers\, we run 3 rounds of trivia over at the Riviera! It all starts at 7PM\, and each round goes for about 30 minutes. Three rounds mean three chances to win prizes! Good drinks\, good food\, now all we need is you & your phone\, to show us how much you know!
URL:https://trriviera.com/event/thursday-trivia-riviera-7/
LOCATION:Riviera Theatre Bar\, 48 N. Main St.\, Three Rivers\, MI\, 49093\, United States
CATEGORIES:Trivia
ATTACH;FMTTYPE=image/jpeg:https://trriviera.com/wp-content/uploads/2022/11/275179661_477936430358611_1692923731270644259_n.jpg
END:VEVENT
BEGIN:VEVENT
DTSTART;TZID=America/Detroit:20230218T190000
DTEND;TZID=America/Detroit:20230218T210000
DTSTAMP:20260419T180128
CREATED:20230120T172147Z
LAST-MODIFIED:20230207T051146Z
UID:4239-1676746800-1676754000@trriviera.com
SUMMARY:Drag Queen Bingo
DESCRIPTION:SOLD OUT: The Kittens return for another night of drag bingo and a pre Mardi Gras celebration all in one! Saturday\, February 18th at 7pm\, doors open at 6pm. Limited seating available.\nTickets are $15.00 for the show and does not include food or drink\nBuy Tickets
URL:https://trriviera.com/event/drag-queen-bingo/
LOCATION:MI
CATEGORIES:Trivia
ATTACH;FMTTYPE=image/jpeg:https://trriviera.com/wp-content/uploads/2023/01/321770625_573284384302751_8845980987803553945_n.jpg
END:VEVENT
END:VCALENDAR