BEGIN:VCALENDAR
VERSION:2.0
PRODID:-//TR Riviera Theatre - ECPv6.15.13//NONSGML v1.0//EN
CALSCALE:GREGORIAN
METHOD:PUBLISH
X-WR-CALNAME:TR Riviera Theatre
X-ORIGINAL-URL:https://trriviera.com
X-WR-CALDESC:Events for TR Riviera Theatre
REFRESH-INTERVAL;VALUE=DURATION:PT1H
X-Robots-Tag:noindex
X-PUBLISHED-TTL:PT1H
BEGIN:VTIMEZONE
TZID:America/Detroit
BEGIN:DAYLIGHT
TZOFFSETFROM:-0500
TZOFFSETTO:-0400
TZNAME:EDT
DTSTART:20220313T070000
END:DAYLIGHT
BEGIN:STANDARD
TZOFFSETFROM:-0400
TZOFFSETTO:-0500
TZNAME:EST
DTSTART:20221106T060000
END:STANDARD
BEGIN:DAYLIGHT
TZOFFSETFROM:-0500
TZOFFSETTO:-0400
TZNAME:EDT
DTSTART:20230312T070000
END:DAYLIGHT
BEGIN:STANDARD
TZOFFSETFROM:-0400
TZOFFSETTO:-0500
TZNAME:EST
DTSTART:20231105T060000
END:STANDARD
BEGIN:DAYLIGHT
TZOFFSETFROM:-0500
TZOFFSETTO:-0400
TZNAME:EDT
DTSTART:20240310T070000
END:DAYLIGHT
BEGIN:STANDARD
TZOFFSETFROM:-0400
TZOFFSETTO:-0500
TZNAME:EST
DTSTART:20241103T060000
END:STANDARD
END:VTIMEZONE
BEGIN:VEVENT
DTSTART;TZID=America/Detroit:20230119T140000
DTEND;TZID=America/Detroit:20230119T160000
DTSTAMP:20260419T203701
CREATED:20221129T175604Z
LAST-MODIFIED:20230113T154636Z
UID:4163-1674136800-1674144000@trriviera.com
SUMMARY:Thursday Trivia @ Riviera!
DESCRIPTION:Thursdays\, in the heart of Three Rivers\, we run 4 rounds of Buzzer-Style trivia over at the Riviera! It all starts at 7PM\, and each round goes for about 30 minutes. Four rounds mean four chances to win prizes! Good Drinks\, Good Food\, now all we need is you\, to show us how much you know!
URL:https://trriviera.com/event/thursday-trivia-riviera-3/
LOCATION:Riviera Theatre Bar\, 48 N. Main St.\, Three Rivers\, MI\, 49093\, United States
CATEGORIES:Trivia
ATTACH;FMTTYPE=image/jpeg:https://trriviera.com/wp-content/uploads/2022/11/275179661_477936430358611_1692923731270644259_n.jpg
END:VEVENT
END:VCALENDAR