BEGIN:VCALENDAR
VERSION:2.0
PRODID:-//TR Riviera Theatre - ECPv6.15.13//NONSGML v1.0//EN
CALSCALE:GREGORIAN
METHOD:PUBLISH
X-ORIGINAL-URL:https://trriviera.com
X-WR-CALDESC:Events for TR Riviera Theatre
REFRESH-INTERVAL;VALUE=DURATION:PT1H
X-Robots-Tag:noindex
X-PUBLISHED-TTL:PT1H
BEGIN:VTIMEZONE
TZID:America/Detroit
BEGIN:DAYLIGHT
TZOFFSETFROM:-0500
TZOFFSETTO:-0400
TZNAME:EDT
DTSTART:20220313T070000
END:DAYLIGHT
BEGIN:STANDARD
TZOFFSETFROM:-0400
TZOFFSETTO:-0500
TZNAME:EST
DTSTART:20221106T060000
END:STANDARD
BEGIN:DAYLIGHT
TZOFFSETFROM:-0500
TZOFFSETTO:-0400
TZNAME:EDT
DTSTART:20230312T070000
END:DAYLIGHT
BEGIN:STANDARD
TZOFFSETFROM:-0400
TZOFFSETTO:-0500
TZNAME:EST
DTSTART:20231105T060000
END:STANDARD
BEGIN:DAYLIGHT
TZOFFSETFROM:-0500
TZOFFSETTO:-0400
TZNAME:EDT
DTSTART:20240310T070000
END:DAYLIGHT
BEGIN:STANDARD
TZOFFSETFROM:-0400
TZOFFSETTO:-0500
TZNAME:EST
DTSTART:20241103T060000
END:STANDARD
END:VTIMEZONE
BEGIN:VEVENT
DTSTART;TZID=America/Detroit:20230706T190000
DTEND;TZID=America/Detroit:20230706T210000
DTSTAMP:20260420T113756
CREATED:20230618T001016Z
LAST-MODIFIED:20230618T001333Z
UID:4491-1688670000-1688677200@trriviera.com
SUMMARY:Phoenyx Trivia
DESCRIPTION:Thursdays\, in historic downtown Three Rivers\, we run 3 rounds of trivia over at the Riviera! It all starts at 7PM\, and each round goes for about 40 minutes. Three rounds mean three chances to win prizes! Good drinks\, good food\, now all we need is you & your phone\, to show us how much you know!
URL:https://trriviera.com/event/phoenyx-trivia-10/
LOCATION:Riviera Theatre Bar\, 48 N. Main St.\, Three Rivers\, MI\, 49093\, United States
CATEGORIES:Trivia
ATTACH;FMTTYPE=image/jpeg:https://trriviera.com/wp-content/uploads/2022/11/275179661_477936430358611_1692923731270644259_n.jpg
END:VEVENT
BEGIN:VEVENT
DTSTART;TZID=America/Detroit:20230713T190000
DTEND;TZID=America/Detroit:20230713T210000
DTSTAMP:20260420T113756
CREATED:20230618T001433Z
LAST-MODIFIED:20230618T001433Z
UID:4493-1689274800-1689282000@trriviera.com
SUMMARY:Phoenyx Trivia
DESCRIPTION:Thursdays\, in historic downtown Three Rivers\, we run 3 rounds of trivia over at the Riviera! It all starts at 7PM\, and each round goes for about 40 minutes. Three rounds mean three chances to win prizes! Good drinks\, good food\, now all we need is you & your phone\, to show us how much you know!
URL:https://trriviera.com/event/phoenyx-trivia-11/
LOCATION:Riviera Theatre Bar\, 48 N. Main St.\, Three Rivers\, MI\, 49093\, United States
CATEGORIES:Trivia
ATTACH;FMTTYPE=image/jpeg:https://trriviera.com/wp-content/uploads/2022/11/275179661_477936430358611_1692923731270644259_n.jpg
END:VEVENT
BEGIN:VEVENT
DTSTART;TZID=America/Detroit:20230715T140000
DTEND;TZID=America/Detroit:20230715T210000
DTSTAMP:20260420T113756
CREATED:20230618T000733Z
LAST-MODIFIED:20230618T000733Z
UID:4486-1689429600-1689454800@trriviera.com
SUMMARY:T.R. Community Players’ 2nd Annual Playfest
DESCRIPTION:Join us in welcoming the T.R. Community Players’ 2nd Annual Playfest to the stage in conjunction with the DDA’s Art on Main! Show times are at 2 & 7 PM\, more info below:\n\n\nTRCP Playfest – Our second annual short playfest is even bigger this year! We are looking for both new and experienced writers to submit their short plays for a chance to get them produced in this year’s festival! We will also be holding a workshop with playwright and director: Rob Urbinati*.\nPlease visit: tinyurl.com/trplayfest23 for more information and to submit your 10 minute play\n\n\n* * *\nJune 12th Workshop 7PM – 9PM (Zoom)\nJuly 1 Submission Deadline\nJuly 15th reading/performances\n* * *\nWorkshop fee (includes submission) – $49\nSingle submission (no workshop) – $15
URL:https://trriviera.com/event/trcp/
LOCATION:Riviera Theatre Bar\, 48 N. Main St.\, Three Rivers\, MI\, 49093\, United States
CATEGORIES:Theater
ORGANIZER;CN="Three Rivers Community Players":MAILTO:info@trcommunityplayers.org
END:VEVENT
BEGIN:VEVENT
DTSTART;TZID=America/Detroit:20230720T190000
DTEND;TZID=America/Detroit:20230720T210000
DTSTAMP:20260420T113756
CREATED:20230618T001528Z
LAST-MODIFIED:20230618T001528Z
UID:4495-1689879600-1689886800@trriviera.com
SUMMARY:Phoenyx Trivia
DESCRIPTION:Thursdays\, in historic downtown Three Rivers\, we run 3 rounds of trivia over at the Riviera! It all starts at 7PM\, and each round goes for about 40 minutes. Three rounds mean three chances to win prizes! Good drinks\, good food\, now all we need is you & your phone\, to show us how much you know!
URL:https://trriviera.com/event/phoenyx-trivia-12/
LOCATION:Riviera Theatre Bar\, 48 N. Main St.\, Three Rivers\, MI\, 49093\, United States
CATEGORIES:Trivia
ATTACH;FMTTYPE=image/jpeg:https://trriviera.com/wp-content/uploads/2022/11/275179661_477936430358611_1692923731270644259_n.jpg
END:VEVENT
BEGIN:VEVENT
DTSTART;TZID=America/Detroit:20230727T190000
DTEND;TZID=America/Detroit:20230727T210000
DTSTAMP:20260420T113756
CREATED:20230618T001609Z
LAST-MODIFIED:20230618T001609Z
UID:4497-1690484400-1690491600@trriviera.com
SUMMARY:Phoenyx Trivia
DESCRIPTION:Thursdays\, in historic downtown Three Rivers\, we run 3 rounds of trivia over at the Riviera! It all starts at 7PM\, and each round goes for about 40 minutes. Three rounds mean three chances to win prizes! Good drinks\, good food\, now all we need is you & your phone\, to show us how much you know!
URL:https://trriviera.com/event/phoenyx-trivia-13/
LOCATION:Riviera Theatre Bar\, 48 N. Main St.\, Three Rivers\, MI\, 49093\, United States
CATEGORIES:Trivia
ATTACH;FMTTYPE=image/jpeg:https://trriviera.com/wp-content/uploads/2022/11/275179661_477936430358611_1692923731270644259_n.jpg
END:VEVENT
END:VCALENDAR