BEGIN:VCALENDAR
VERSION:2.0
PRODID:-//TR Riviera Theatre - ECPv6.15.13//NONSGML v1.0//EN
CALSCALE:GREGORIAN
METHOD:PUBLISH
X-ORIGINAL-URL:https://trriviera.com
X-WR-CALDESC:Events for TR Riviera Theatre
REFRESH-INTERVAL;VALUE=DURATION:PT1H
X-Robots-Tag:noindex
X-PUBLISHED-TTL:PT1H
BEGIN:VTIMEZONE
TZID:America/Detroit
BEGIN:DAYLIGHT
TZOFFSETFROM:-0500
TZOFFSETTO:-0400
TZNAME:EDT
DTSTART:20220313T070000
END:DAYLIGHT
BEGIN:STANDARD
TZOFFSETFROM:-0400
TZOFFSETTO:-0500
TZNAME:EST
DTSTART:20221106T060000
END:STANDARD
BEGIN:DAYLIGHT
TZOFFSETFROM:-0500
TZOFFSETTO:-0400
TZNAME:EDT
DTSTART:20230312T070000
END:DAYLIGHT
BEGIN:STANDARD
TZOFFSETFROM:-0400
TZOFFSETTO:-0500
TZNAME:EST
DTSTART:20231105T060000
END:STANDARD
BEGIN:DAYLIGHT
TZOFFSETFROM:-0500
TZOFFSETTO:-0400
TZNAME:EDT
DTSTART:20240310T070000
END:DAYLIGHT
BEGIN:STANDARD
TZOFFSETFROM:-0400
TZOFFSETTO:-0500
TZNAME:EST
DTSTART:20241103T060000
END:STANDARD
END:VTIMEZONE
BEGIN:VEVENT
DTSTART;TZID=America/Detroit:20230803T190000
DTEND;TZID=America/Detroit:20230803T210000
DTSTAMP:20260420T102008
CREATED:20230618T001807Z
LAST-MODIFIED:20230618T001807Z
UID:4499-1691089200-1691096400@trriviera.com
SUMMARY:Phoenyx Trivia
DESCRIPTION:Thursdays\, in historic downtown Three Rivers\, we run 3 rounds of trivia over at the Riviera! It all starts at 7PM\, and each round goes for about 40 minutes. Three rounds mean three chances to win prizes! Good drinks\, good food\, now all we need is you & your phone\, to show us how much you know!
URL:https://trriviera.com/event/phoenyx-trivia-14/
LOCATION:Riviera Theatre Bar\, 48 N. Main St.\, Three Rivers\, MI\, 49093\, United States
CATEGORIES:Trivia
ATTACH;FMTTYPE=image/jpeg:https://trriviera.com/wp-content/uploads/2022/11/275179661_477936430358611_1692923731270644259_n.jpg
END:VEVENT
BEGIN:VEVENT
DTSTART;TZID=America/Detroit:20230810T190000
DTEND;TZID=America/Detroit:20230810T210000
DTSTAMP:20260420T102008
CREATED:20230721T210458Z
LAST-MODIFIED:20230721T210458Z
UID:4519-1691694000-1691701200@trriviera.com
SUMMARY:Phoenyx Trivia
DESCRIPTION:Thursdays\, in historic downtown Three Rivers\, we run 3 rounds of trivia over at the Riviera! It all starts at 7PM\, and each round goes for about 40 minutes. Three rounds mean three chances to win prizes! Good drinks\, good food\, now all we need is you & your phone\, to show us how much you know!
URL:https://trriviera.com/event/phoenyx-trivia-15/
LOCATION:Riviera Theatre Bar\, 48 N. Main St.\, Three Rivers\, MI\, 49093\, United States
CATEGORIES:Trivia
ATTACH;FMTTYPE=image/jpeg:https://trriviera.com/wp-content/uploads/2022/11/275179661_477936430358611_1692923731270644259_n.jpg
END:VEVENT
BEGIN:VEVENT
DTSTART;TZID=America/Detroit:20230811T040000
DTEND;TZID=America/Detroit:20230811T210000
DTSTAMP:20260420T102008
CREATED:20230721T205637Z
LAST-MODIFIED:20230721T210009Z
UID:4511-1691726400-1691787600@trriviera.com
SUMMARY:Sass in the City
DESCRIPTION:Mark your calendars now for this year’s Sass in the City! A committee of DDA volunteers are working on the details and it should be more fabulous than ever! Presale tickets will be available on the DDA’s Facebook site.  Stop by the Riviera Theatre during the event for a few sassy cocktails and pizza by the slice all evening long!
URL:https://trriviera.com/event/sass-in-the-city/
LOCATION:Downtown Area
CATEGORIES:DDA Event
ATTACH;FMTTYPE=image/jpeg:https://trriviera.com/wp-content/uploads/2023/07/343644839_194105356311280_61068438843618567_n.jpg
END:VEVENT
BEGIN:VEVENT
DTSTART;TZID=America/Detroit:20230812T180000
DTEND;TZID=America/Detroit:20230812T235900
DTSTAMP:20260420T102008
CREATED:20230721T204613Z
LAST-MODIFIED:20230721T204613Z
UID:4508-1691863200-1691884740@trriviera.com
SUMMARY:TRHS Class of '88 - 35th class reunion
DESCRIPTION:Calling all TRHS Class of 1988\, please mark your calendar for our 35th class reunion! We have an exciting evening planned on Saturday\, August 12th\, we have booked the Riviera Theatre starting at 6pm and going to Midnight. If you have not been inside since the total renovation\, you will be in for a pleasant surprise. The Y Naut Band will be our entertainment for the night and they go on stage starting at 7pm. The band is led by our own Steve Bidelman\, and they have plenty of 80’s music and current hits lined up.\n\n\nWe have had a very generous classmate cover the cost of the theater and another cover the cost of the band! All you have to pay for is your drinks (there will be an open bar at the theater) and food (light snacks from theater and heavier food delivered during the night). I will send more info about the food once we get closer. The Riviera is huge and can hold nearly 300+ people. So…..feel free to bring a spouse\, friends\, or anyone else you would like. Please RSVP to the reunion Facebook page\, so I can get an accurate headcount for the theater. More to follow!\n\n\nCharley Barth\nClass of 88 President
URL:https://trriviera.com/event/trhs-class-of-88-35th-class-reunion/
LOCATION:Riviera Theatre Auditorium\, 50 N. Main St.\, Three Rivers\, MI\, 49093\, United States
ATTACH;FMTTYPE=image/jpeg:https://trriviera.com/wp-content/uploads/2023/07/305035966_743863030364863_972276988773490911_n.jpg
END:VEVENT
BEGIN:VEVENT
DTSTART;TZID=America/Detroit:20230817T190000
DTEND;TZID=America/Detroit:20230817T210000
DTSTAMP:20260420T102008
CREATED:20230721T210602Z
LAST-MODIFIED:20230721T210602Z
UID:4521-1692298800-1692306000@trriviera.com
SUMMARY:Phoenyx Trivia
DESCRIPTION:Thursdays\, in historic downtown Three Rivers\, we run 3 rounds of trivia over at the Riviera! It all starts at 7PM\, and each round goes for about 40 minutes. Three rounds mean three chances to win prizes! Good drinks\, good food\, now all we need is you & your phone\, to show us how much you know!
URL:https://trriviera.com/event/phoenyx-trivia-16/
LOCATION:Riviera Theatre Bar\, 48 N. Main St.\, Three Rivers\, MI\, 49093\, United States
CATEGORIES:Trivia
ATTACH;FMTTYPE=image/jpeg:https://trriviera.com/wp-content/uploads/2022/11/275179661_477936430358611_1692923731270644259_n.jpg
END:VEVENT
BEGIN:VEVENT
DTSTART;TZID=America/Detroit:20230824T190000
DTEND;TZID=America/Detroit:20230824T210000
DTSTAMP:20260420T102008
CREATED:20230721T210726Z
LAST-MODIFIED:20230721T210726Z
UID:4523-1692903600-1692910800@trriviera.com
SUMMARY:Phoenyx Trivia
DESCRIPTION:Thursdays\, in historic downtown Three Rivers\, we run 3 rounds of trivia over at the Riviera! It all starts at 7PM\, and each round goes for about 40 minutes. Three rounds mean three chances to win prizes! Good drinks\, good food\, now all we need is you & your phone\, to show us how much you know!
URL:https://trriviera.com/event/phoenyx-trivia-17/
LOCATION:Riviera Theatre Bar\, 48 N. Main St.\, Three Rivers\, MI\, 49093\, United States
CATEGORIES:Trivia
ATTACH;FMTTYPE=image/jpeg:https://trriviera.com/wp-content/uploads/2022/11/275179661_477936430358611_1692923731270644259_n.jpg
END:VEVENT
BEGIN:VEVENT
DTSTART;TZID=America/Detroit:20230831T190000
DTEND;TZID=America/Detroit:20230831T210000
DTSTAMP:20260420T102008
CREATED:20230721T210810Z
LAST-MODIFIED:20230721T210810Z
UID:4525-1693508400-1693515600@trriviera.com
SUMMARY:Phoenyx Trivia
DESCRIPTION:Thursdays\, in historic downtown Three Rivers\, we run 3 rounds of trivia over at the Riviera! It all starts at 7PM\, and each round goes for about 40 minutes. Three rounds mean three chances to win prizes! Good drinks\, good food\, now all we need is you & your phone\, to show us how much you know!
URL:https://trriviera.com/event/phoenyx-trivia-18/
LOCATION:Riviera Theatre Bar\, 48 N. Main St.\, Three Rivers\, MI\, 49093\, United States
CATEGORIES:Trivia
ATTACH;FMTTYPE=image/jpeg:https://trriviera.com/wp-content/uploads/2022/11/275179661_477936430358611_1692923731270644259_n.jpg
END:VEVENT
END:VCALENDAR