BEGIN:VCALENDAR
VERSION:2.0
PRODID:-//TR Riviera Theatre - ECPv6.15.13//NONSGML v1.0//EN
CALSCALE:GREGORIAN
METHOD:PUBLISH
X-WR-CALNAME:TR Riviera Theatre
X-ORIGINAL-URL:https://trriviera.com
X-WR-CALDESC:Events for TR Riviera Theatre
REFRESH-INTERVAL;VALUE=DURATION:PT1H
X-Robots-Tag:noindex
X-PUBLISHED-TTL:PT1H
BEGIN:VTIMEZONE
TZID:America/Detroit
BEGIN:DAYLIGHT
TZOFFSETFROM:-0500
TZOFFSETTO:-0400
TZNAME:EDT
DTSTART:20220313T070000
END:DAYLIGHT
BEGIN:STANDARD
TZOFFSETFROM:-0400
TZOFFSETTO:-0500
TZNAME:EST
DTSTART:20221106T060000
END:STANDARD
BEGIN:DAYLIGHT
TZOFFSETFROM:-0500
TZOFFSETTO:-0400
TZNAME:EDT
DTSTART:20230312T070000
END:DAYLIGHT
BEGIN:STANDARD
TZOFFSETFROM:-0400
TZOFFSETTO:-0500
TZNAME:EST
DTSTART:20231105T060000
END:STANDARD
BEGIN:DAYLIGHT
TZOFFSETFROM:-0500
TZOFFSETTO:-0400
TZNAME:EDT
DTSTART:20240310T070000
END:DAYLIGHT
BEGIN:STANDARD
TZOFFSETFROM:-0400
TZOFFSETTO:-0500
TZNAME:EST
DTSTART:20241103T060000
END:STANDARD
END:VTIMEZONE
BEGIN:VEVENT
DTSTART;TZID=America/Detroit:20230903T110000
DTEND;TZID=America/Detroit:20230903T230000
DTSTAMP:20260420T075411
CREATED:20230721T210305Z
LAST-MODIFIED:20231227T193825Z
UID:4516-1693738800-1693782000@trriviera.com
SUMMARY:HarmonyFest 30th Anniversary
DESCRIPTION:This year is the 30th anniversary for HarmonyFest!! Stop in the bar for some amazing drink specials &/or pizza by the slice while enjoying a seat in our temporary outdoor patio.
URL:https://trriviera.com/event/harmonyfest-30th-anniversary/
LOCATION:Downtown Area
CATEGORIES:DDA Event,Music
ATTACH;FMTTYPE=image/jpeg:https://trriviera.com/wp-content/uploads/2023/07/369845115_822329459686462_594377247795678992_n.jpg
END:VEVENT
BEGIN:VEVENT
DTSTART;TZID=America/Detroit:20230907T190000
DTEND;TZID=America/Detroit:20230907T210000
DTSTAMP:20260420T075411
CREATED:20230824T180214Z
LAST-MODIFIED:20230824T180214Z
UID:4531-1694113200-1694120400@trriviera.com
SUMMARY:Phoenyx Trivia
DESCRIPTION:Thursdays\, in historic downtown Three Rivers\, we run 3 rounds of trivia over at the Riviera! It all starts at 7PM\, and each round goes for about 40 minutes. Three rounds mean three chances to win prizes! Good drinks\, good food\, now all we need is you & your phone\, to show us how much you know!
URL:https://trriviera.com/event/phoenyx-trivia-19/
LOCATION:Riviera Theatre Bar\, 48 N. Main St.\, Three Rivers\, MI\, 49093\, United States
CATEGORIES:Trivia
ATTACH;FMTTYPE=image/jpeg:https://trriviera.com/wp-content/uploads/2022/11/275179661_477936430358611_1692923731270644259_n.jpg
END:VEVENT
BEGIN:VEVENT
DTSTART;TZID=America/Detroit:20230914T190000
DTEND;TZID=America/Detroit:20230914T210000
DTSTAMP:20260420T075411
CREATED:20230824T180342Z
LAST-MODIFIED:20230824T180342Z
UID:4533-1694718000-1694725200@trriviera.com
SUMMARY:Phoenyx Trivia
DESCRIPTION:Thursdays\, in historic downtown Three Rivers\, we run 3 rounds of trivia over at the Riviera! It all starts at 7PM\, and each round goes for about 40 minutes. Three rounds mean three chances to win prizes! Good drinks\, good food\, now all we need is you & your phone\, to show us how much you know!
URL:https://trriviera.com/event/phoenyx-trivia-20/
LOCATION:Riviera Theatre Bar\, 48 N. Main St.\, Three Rivers\, MI\, 49093\, United States
CATEGORIES:Trivia
ATTACH;FMTTYPE=image/jpeg:https://trriviera.com/wp-content/uploads/2022/11/275179661_477936430358611_1692923731270644259_n.jpg
END:VEVENT
BEGIN:VEVENT
DTSTART;TZID=America/Detroit:20230921T190000
DTEND;TZID=America/Detroit:20230921T210000
DTSTAMP:20260420T075411
CREATED:20230824T180455Z
LAST-MODIFIED:20230824T180455Z
UID:4535-1695322800-1695330000@trriviera.com
SUMMARY:Phoenyx Trivia
DESCRIPTION:Thursdays\, in historic downtown Three Rivers\, we run 3 rounds of trivia over at the Riviera! It all starts at 7PM\, and each round goes for about 40 minutes. Three rounds mean three chances to win prizes! Good drinks\, good food\, now all we need is you & your phone\, to show us how much you know!
URL:https://trriviera.com/event/phoenyx-trivia-21/
LOCATION:Riviera Theatre Bar\, 48 N. Main St.\, Three Rivers\, MI\, 49093\, United States
CATEGORIES:Trivia
ATTACH;FMTTYPE=image/jpeg:https://trriviera.com/wp-content/uploads/2022/11/275179661_477936430358611_1692923731270644259_n.jpg
END:VEVENT
BEGIN:VEVENT
DTSTART;TZID=America/Detroit:20230928T190000
DTEND;TZID=America/Detroit:20230928T210000
DTSTAMP:20260420T075411
CREATED:20230824T180643Z
LAST-MODIFIED:20230824T180643Z
UID:4537-1695927600-1695934800@trriviera.com
SUMMARY:Phoenyx Trivia
DESCRIPTION:Thursdays\, in historic downtown Three Rivers\, we run 3 rounds of trivia over at the Riviera! It all starts at 7PM\, and each round goes for about 40 minutes. Three rounds mean three chances to win prizes! Good drinks\, good food\, now all we need is you & your phone\, to show us how much you know!
URL:https://trriviera.com/event/phoenyx-trivia-22/
LOCATION:Riviera Theatre Bar\, 48 N. Main St.\, Three Rivers\, MI\, 49093\, United States
CATEGORIES:Trivia
ATTACH;FMTTYPE=image/jpeg:https://trriviera.com/wp-content/uploads/2022/11/275179661_477936430358611_1692923731270644259_n.jpg
END:VEVENT
END:VCALENDAR