BEGIN:VCALENDAR
VERSION:2.0
PRODID:-//TR Riviera Theatre - ECPv6.15.13//NONSGML v1.0//EN
CALSCALE:GREGORIAN
METHOD:PUBLISH
X-ORIGINAL-URL:https://trriviera.com
X-WR-CALDESC:Events for TR Riviera Theatre
REFRESH-INTERVAL;VALUE=DURATION:PT1H
X-Robots-Tag:noindex
X-PUBLISHED-TTL:PT1H
BEGIN:VTIMEZONE
TZID:America/Detroit
BEGIN:DAYLIGHT
TZOFFSETFROM:-0500
TZOFFSETTO:-0400
TZNAME:EDT
DTSTART:20230312T070000
END:DAYLIGHT
BEGIN:STANDARD
TZOFFSETFROM:-0400
TZOFFSETTO:-0500
TZNAME:EST
DTSTART:20231105T060000
END:STANDARD
BEGIN:DAYLIGHT
TZOFFSETFROM:-0500
TZOFFSETTO:-0400
TZNAME:EDT
DTSTART:20240310T070000
END:DAYLIGHT
BEGIN:STANDARD
TZOFFSETFROM:-0400
TZOFFSETTO:-0500
TZNAME:EST
DTSTART:20241103T060000
END:STANDARD
BEGIN:DAYLIGHT
TZOFFSETFROM:-0500
TZOFFSETTO:-0400
TZNAME:EDT
DTSTART:20250309T070000
END:DAYLIGHT
BEGIN:STANDARD
TZOFFSETFROM:-0400
TZOFFSETTO:-0500
TZNAME:EST
DTSTART:20251102T060000
END:STANDARD
END:VTIMEZONE
BEGIN:VEVENT
DTSTART;TZID=America/Detroit:20240203T190000
DTEND;TZID=America/Detroit:20240203T210000
DTSTAMP:20260419T221840
CREATED:20240113T202108Z
LAST-MODIFIED:20240113T202108Z
UID:4725-1706986800-1706994000@trriviera.com
SUMMARY:Drag Queen Bingo
DESCRIPTION:Rescheduled show from 1/13/23 due to weather\, tickets will be on honor on the new date!\n\nJoin the Kittens\, Saturday\, February 3\, at the Riviera in the bar for a fabulous glamorous DRAG QUEEN BINGO!\nShowtime is at 7:00pm and tickets are $15.00 and that excludes food or drink.\nHosted by Monique Madison with performances by Yolanda Del Fierce\, Reba Rose Rau\, and Benjamin Violet.\nTickets available at: momomadison.ticketleap.com/dqb-in-three-rivers/
URL:https://trriviera.com/event/drag-queen-bingo-3/
LOCATION:Riviera Theatre Bar\, 48 N. Main St.\, Three Rivers\, MI\, 49093\, United States
CATEGORIES:Games
ATTACH;FMTTYPE=image/jpeg:https://trriviera.com/wp-content/uploads/2023/12/kittens.jpg
END:VEVENT
BEGIN:VEVENT
DTSTART;TZID=America/Detroit:20240208T190000
DTEND;TZID=America/Detroit:20240208T210000
DTSTAMP:20260419T221840
CREATED:20240112T184435Z
LAST-MODIFIED:20240112T184435Z
UID:4714-1707418800-1707426000@trriviera.com
SUMMARY:Phoenyx Trivia
DESCRIPTION:Thursdays\, in historic downtown Three Rivers\, we run 3 rounds of trivia over at the Riviera! It all starts at 7PM\, and each round goes for about 40 minutes. Three rounds mean three chances to win prizes! Good drinks\, good food\, now all we need is you & your phone\, to show us how much you know!
URL:https://trriviera.com/event/phoenyx-trivia-36/
LOCATION:Riviera Theatre Bar\, 48 N. Main St.\, Three Rivers\, MI\, 49093\, United States
CATEGORIES:Trivia
ATTACH;FMTTYPE=image/jpeg:https://trriviera.com/wp-content/uploads/2022/11/275179661_477936430358611_1692923731270644259_n.jpg
END:VEVENT
BEGIN:VEVENT
DTSTART;TZID=America/Detroit:20240215T190000
DTEND;TZID=America/Detroit:20240215T210000
DTSTAMP:20260419T221840
CREATED:20240112T184520Z
LAST-MODIFIED:20240112T184520Z
UID:4716-1708023600-1708030800@trriviera.com
SUMMARY:Phoenyx Trivia
DESCRIPTION:Thursdays\, in historic downtown Three Rivers\, we run 3 rounds of trivia over at the Riviera! It all starts at 7PM\, and each round goes for about 40 minutes. Three rounds mean three chances to win prizes! Good drinks\, good food\, now all we need is you & your phone\, to show us how much you know!
URL:https://trriviera.com/event/phoenyx-trivia-37/
LOCATION:Riviera Theatre Bar\, 48 N. Main St.\, Three Rivers\, MI\, 49093\, United States
CATEGORIES:Trivia
ATTACH;FMTTYPE=image/jpeg:https://trriviera.com/wp-content/uploads/2022/11/275179661_477936430358611_1692923731270644259_n.jpg
END:VEVENT
BEGIN:VEVENT
DTSTART;TZID=America/Detroit:20240216T173000
DTEND;TZID=America/Detroit:20240216T190000
DTSTAMP:20260419T221840
CREATED:20240130T201548Z
LAST-MODIFIED:20240130T204325Z
UID:4732-1708104600-1708110000@trriviera.com
SUMMARY:2024 Oscar Nominated Animated Shorts
DESCRIPTION:For the 19th consecutive year\, ShortsTV presents the Oscar-Nominated Short Films\, opening on Feb. 16th. With all three categories offered – Animated\, Live Action and Documentary – this is your annual chance to predict the winners! A perennial hit with audiences around the country and the world\, don’t miss this year’s selection of shorts.\nThe running times below are estimates. \nANIMATED SHORTS (Estimated Running Time: under 80 min.) ADDITIONAL FILMS TO BE INCLUDED TO BRING THE RUNNING TIME UP TO FEATURE-LENGTH \nOur Uniform – Yegane Moghaddam\, 7 min.\, Iran (in Farsi) \nLetter to a Pig – Tal Kantor and Amit R. Gicelter\, 17 min.\, France/Israel (in Hebrew) \nPachyderm– Stéphanie Clément and Marc Rius\, 11 min.\, USA (in English) \nNinety-Five Senses – Jerusha Hess and Jared Hess\, 13 min.\, USA (in English) \nWar is Over! Inspired by the Music of John & Yoko – Dave Mullins and Brad Booker\, 11 min.\, USA \n \n  \n 
URL:https://trriviera.com/event/2024-oscar-nominated-animated-shorts/
LOCATION:Riviera Theatre Auditorium\, 50 N. Main St.\, Three Rivers\, MI\, 49093\, United States
CATEGORIES:Film
ATTACH;FMTTYPE=image/jpeg:https://trriviera.com/wp-content/uploads/2024/01/2024_Oscar_Poster_V02_LR-scaled.jpg
END:VEVENT
BEGIN:VEVENT
DTSTART;TZID=America/Detroit:20240216T193000
DTEND;TZID=America/Detroit:20240216T214500
DTSTAMP:20260419T221840
CREATED:20240130T201743Z
LAST-MODIFIED:20240130T203509Z
UID:4735-1708111800-1708119900@trriviera.com
SUMMARY:2024 Oscar Nominated Live Action Shorts
DESCRIPTION:For the 19th consecutive year\, ShortsTV presents the Oscar-Nominated Short Films\, opening on Feb. 16th. With all three categories offered – Animated\, Live Action and Documentary – this is your annual chance to predict the winners! A perennial hit with audiences around the country and the world\, don’t miss this year’s selection of shorts.\nThe running times below are estimates. \nLIVE ACTION SHORTS (Estimated Running Time: 133 minutes) \nThe After – Misan Harriman and Nicky Bentham\, 18 min.\, UK (in English) \nRed\, White and Blue – Nazrin Choudhury and Sara McFarlane\, 23 min.\, USA (in English) \nKnight of Fortune – Lasse Lyskjær Noer and Christian Norlyk\, 25 min.\, Denmark (in Swedish/Danish) \nInvincible – Vincent René-Lortie and Samuel Caron\, 29 min.\, Canada (in French) \nThe Wonderful World of Henry Sugar – Wes Anderson and Steven Rales\, 37 min.\, US/UK (in English) \n \n  \n 
URL:https://trriviera.com/event/2024-oscar-nominated-live-action-shorts/
LOCATION:Riviera Theatre Auditorium\, 50 N. Main St.\, Three Rivers\, MI\, 49093\, United States
CATEGORIES:Film
ATTACH;FMTTYPE=image/jpeg:https://trriviera.com/wp-content/uploads/2024/01/2024_Oscar_Poster_V02_LR-scaled.jpg
END:VEVENT
BEGIN:VEVENT
DTSTART;TZID=America/Detroit:20240217T163000
DTEND;TZID=America/Detroit:20240217T190000
DTSTAMP:20260419T221840
CREATED:20240130T203940Z
LAST-MODIFIED:20240130T203940Z
UID:4741-1708187400-1708196400@trriviera.com
SUMMARY:2024 Oscar Nominated Documentary Shorts
DESCRIPTION:For the 19th consecutive year\, ShortsTV presents the Oscar-Nominated Short Films\, opening on Feb. 16th. With all three categories offered – Animated\, Live Action and Documentary – this is your annual chance to predict the winners! A perennial hit with audiences around the country and the world\, don’t miss this year’s selection of shorts.\nThe running times below are estimates. \nDOCUMENTARY SHORTS (to be offered as one program of 139 minutes) \nIsland In Between – S. Leo Chiang and Jean Tsien\, 20 min.\, Taiwan (in English/Mandarin) \nNǎi Nai and Wài Pó– Sean Wang and Sam Davis\, 17 min.\, USA (in Mandarin) \nThe ABC’s of Book Banning – Sheila Nevins and Trish Adlesic\, 27 min.\, USA (in English) \nThe Last Repair Shop – Ben Proudfoot and Kris Bowers\, 39 min.\, USA (in English) \nThe Barber of Little Rock – John Hoffman and Christine Turner\, 35 min.\, USA (in English) \n \n  \n 
URL:https://trriviera.com/event/2024-oscar-nominated-documentary-shorts/
LOCATION:Riviera Theatre Auditorium\, 50 N. Main St.\, Three Rivers\, MI\, 49093\, United States
CATEGORIES:Film
ATTACH;FMTTYPE=image/jpeg:https://trriviera.com/wp-content/uploads/2024/01/2024_Oscar_Poster_V02_LR-scaled.jpg
END:VEVENT
BEGIN:VEVENT
DTSTART;TZID=America/Detroit:20240217T193000
DTEND;TZID=America/Detroit:20240217T210000
DTSTAMP:20260419T221840
CREATED:20240130T204433Z
LAST-MODIFIED:20240130T204628Z
UID:4747-1708198200-1708203600@trriviera.com
SUMMARY:2024 Oscar Nominated Animated Shorts
DESCRIPTION:For the 19th consecutive year\, ShortsTV presents the Oscar-Nominated Short Films\, opening on Feb. 16th. With all three categories offered – Animated\, Live Action and Documentary – this is your annual chance to predict the winners! A perennial hit with audiences around the country and the world\, don’t miss this year’s selection of shorts.\nThe running times below are estimates. \nANIMATED SHORTS (Estimated Running Time: under 80 min.) ADDITIONAL FILMS TO BE INCLUDED TO BRING THE RUNNING TIME UP TO FEATURE-LENGTH \nOur Uniform – Yegane Moghaddam\, 7 min.\, Iran (in Farsi) \nLetter to a Pig – Tal Kantor and Amit R. Gicelter\, 17 min.\, France/Israel (in Hebrew) \nPachyderm– Stéphanie Clément and Marc Rius\, 11 min.\, USA (in English) \nNinety-Five Senses – Jerusha Hess and Jared Hess\, 13 min.\, USA (in English) \nWar is Over! Inspired by the Music of John & Yoko – Dave Mullins and Brad Booker\, 11 min.\, USA \n \n  \n 
URL:https://trriviera.com/event/2024-oscar-nominated-animated-shorts-2/
LOCATION:Riviera Theatre Auditorium\, 50 N. Main St.\, Three Rivers\, MI\, 49093\, United States
CATEGORIES:Film
ATTACH;FMTTYPE=image/jpeg:https://trriviera.com/wp-content/uploads/2024/01/2024_Oscar_Poster_V02_LR-scaled.jpg
END:VEVENT
BEGIN:VEVENT
DTSTART;TZID=America/Detroit:20240222T190000
DTEND;TZID=America/Detroit:20240222T210000
DTSTAMP:20260419T221840
CREATED:20240112T184607Z
LAST-MODIFIED:20240112T184607Z
UID:4718-1708628400-1708635600@trriviera.com
SUMMARY:Phoenyx Trivia
DESCRIPTION:Thursdays\, in historic downtown Three Rivers\, we run 3 rounds of trivia over at the Riviera! It all starts at 7PM\, and each round goes for about 40 minutes. Three rounds mean three chances to win prizes! Good drinks\, good food\, now all we need is you & your phone\, to show us how much you know!
URL:https://trriviera.com/event/phoenyx-trivia-38/
LOCATION:Riviera Theatre Bar\, 48 N. Main St.\, Three Rivers\, MI\, 49093\, United States
CATEGORIES:Trivia
ATTACH;FMTTYPE=image/jpeg:https://trriviera.com/wp-content/uploads/2022/11/275179661_477936430358611_1692923731270644259_n.jpg
END:VEVENT
BEGIN:VEVENT
DTSTART;TZID=America/Detroit:20240222T190000
DTEND;TZID=America/Detroit:20240222T213000
DTSTAMP:20260419T221840
CREATED:20240130T204219Z
LAST-MODIFIED:20240130T204219Z
UID:4745-1708628400-1708637400@trriviera.com
SUMMARY:2024 Oscar Nominated Documentary Shorts
DESCRIPTION:For the 19th consecutive year\, ShortsTV presents the Oscar-Nominated Short Films\, opening on Feb. 16th. With all three categories offered – Animated\, Live Action and Documentary – this is your annual chance to predict the winners! A perennial hit with audiences around the country and the world\, don’t miss this year’s selection of shorts.\nThe running times below are estimates. \nDOCUMENTARY SHORTS (to be offered as one program of 139 minutes) \nIsland In Between – S. Leo Chiang and Jean Tsien\, 20 min.\, Taiwan (in English/Mandarin) \nNǎi Nai and Wài Pó– Sean Wang and Sam Davis\, 17 min.\, USA (in Mandarin) \nThe ABC’s of Book Banning – Sheila Nevins and Trish Adlesic\, 27 min.\, USA (in English) \nThe Last Repair Shop – Ben Proudfoot and Kris Bowers\, 39 min.\, USA (in English) \nThe Barber of Little Rock – John Hoffman and Christine Turner\, 35 min.\, USA (in English) \n \n  \n 
URL:https://trriviera.com/event/2024-oscar-nominated-documentary-shorts-3/
LOCATION:Riviera Theatre Auditorium\, 50 N. Main St.\, Three Rivers\, MI\, 49093\, United States
CATEGORIES:Film
ATTACH;FMTTYPE=image/jpeg:https://trriviera.com/wp-content/uploads/2024/01/2024_Oscar_Poster_V02_LR-scaled.jpg
END:VEVENT
BEGIN:VEVENT
DTSTART;TZID=America/Detroit:20240223T170000
DTEND;TZID=America/Detroit:20240223T190000
DTSTAMP:20260419T221840
CREATED:20240130T203629Z
LAST-MODIFIED:20240130T203629Z
UID:4737-1708707600-1708714800@trriviera.com
SUMMARY:2024 Oscar Nominated Live Action Shorts
DESCRIPTION:For the 19th consecutive year\, ShortsTV presents the Oscar-Nominated Short Films\, opening on Feb. 16th. With all three categories offered – Animated\, Live Action and Documentary – this is your annual chance to predict the winners! A perennial hit with audiences around the country and the world\, don’t miss this year’s selection of shorts.\nThe running times below are estimates. \nLIVE ACTION SHORTS (Estimated Running Time: 133 minutes) \nThe After – Misan Harriman and Nicky Bentham\, 18 min.\, UK (in English) \nRed\, White and Blue – Nazrin Choudhury and Sara McFarlane\, 23 min.\, USA (in English) \nKnight of Fortune – Lasse Lyskjær Noer and Christian Norlyk\, 25 min.\, Denmark (in Swedish/Danish) \nInvincible – Vincent René-Lortie and Samuel Caron\, 29 min.\, Canada (in French) \nThe Wonderful World of Henry Sugar – Wes Anderson and Steven Rales\, 37 min.\, US/UK (in English) \n \n  \n 
URL:https://trriviera.com/event/2024-oscar-nominated-live-action-shorts-2/
LOCATION:Riviera Theatre Auditorium\, 50 N. Main St.\, Three Rivers\, MI\, 49093\, United States
CATEGORIES:Film
ATTACH;FMTTYPE=image/jpeg:https://trriviera.com/wp-content/uploads/2024/01/2024_Oscar_Poster_V02_LR-scaled.jpg
END:VEVENT
BEGIN:VEVENT
DTSTART;TZID=America/Detroit:20240223T193000
DTEND;TZID=America/Detroit:20240223T210000
DTSTAMP:20260419T221840
CREATED:20240130T204554Z
LAST-MODIFIED:20240130T204554Z
UID:4751-1708716600-1708722000@trriviera.com
SUMMARY:2024 Oscar Nominated Animated Shorts
DESCRIPTION:For the 19th consecutive year\, ShortsTV presents the Oscar-Nominated Short Films\, opening on Feb. 16th. With all three categories offered – Animated\, Live Action and Documentary – this is your annual chance to predict the winners! A perennial hit with audiences around the country and the world\, don’t miss this year’s selection of shorts.\nThe running times below are estimates. \nANIMATED SHORTS (Estimated Running Time: under 80 min.) ADDITIONAL FILMS TO BE INCLUDED TO BRING THE RUNNING TIME UP TO FEATURE-LENGTH \nOur Uniform – Yegane Moghaddam\, 7 min.\, Iran (in Farsi) \nLetter to a Pig – Tal Kantor and Amit R. Gicelter\, 17 min.\, France/Israel (in Hebrew) \nPachyderm– Stéphanie Clément and Marc Rius\, 11 min.\, USA (in English) \nNinety-Five Senses – Jerusha Hess and Jared Hess\, 13 min.\, USA (in English) \nWar is Over! Inspired by the Music of John & Yoko – Dave Mullins and Brad Booker\, 11 min.\, USA \n \n  \n 
URL:https://trriviera.com/event/2024-oscar-nominated-animated-shorts-3/
LOCATION:Riviera Theatre Auditorium\, 50 N. Main St.\, Three Rivers\, MI\, 49093\, United States
CATEGORIES:Film
ATTACH;FMTTYPE=image/jpeg:https://trriviera.com/wp-content/uploads/2024/01/2024_Oscar_Poster_V02_LR-scaled.jpg
END:VEVENT
BEGIN:VEVENT
DTSTART;TZID=America/Detroit:20240224T163000
DTEND;TZID=America/Detroit:20240224T190000
DTSTAMP:20260419T221840
CREATED:20240130T204051Z
LAST-MODIFIED:20240130T204051Z
UID:4743-1708792200-1708801200@trriviera.com
SUMMARY:2024 Oscar Nominated Documentary Shorts
DESCRIPTION:For the 19th consecutive year\, ShortsTV presents the Oscar-Nominated Short Films\, opening on Feb. 16th. With all three categories offered – Animated\, Live Action and Documentary – this is your annual chance to predict the winners! A perennial hit with audiences around the country and the world\, don’t miss this year’s selection of shorts.\nThe running times below are estimates. \nDOCUMENTARY SHORTS (to be offered as one program of 139 minutes) \nIsland In Between – S. Leo Chiang and Jean Tsien\, 20 min.\, Taiwan (in English/Mandarin) \nNǎi Nai and Wài Pó– Sean Wang and Sam Davis\, 17 min.\, USA (in Mandarin) \nThe ABC’s of Book Banning – Sheila Nevins and Trish Adlesic\, 27 min.\, USA (in English) \nThe Last Repair Shop – Ben Proudfoot and Kris Bowers\, 39 min.\, USA (in English) \nThe Barber of Little Rock – John Hoffman and Christine Turner\, 35 min.\, USA (in English) \n \n  \n 
URL:https://trriviera.com/event/2024-oscar-nominated-documentary-shorts-2/
LOCATION:Riviera Theatre Auditorium\, 50 N. Main St.\, Three Rivers\, MI\, 49093\, United States
CATEGORIES:Film
ATTACH;FMTTYPE=image/jpeg:https://trriviera.com/wp-content/uploads/2024/01/2024_Oscar_Poster_V02_LR-scaled.jpg
END:VEVENT
BEGIN:VEVENT
DTSTART;TZID=America/Detroit:20240224T193000
DTEND;TZID=America/Detroit:20240224T214500
DTSTAMP:20260419T221840
CREATED:20240130T203736Z
LAST-MODIFIED:20240130T203736Z
UID:4739-1708803000-1708811100@trriviera.com
SUMMARY:2024 Oscar Nominated Live Action Shorts
DESCRIPTION:For the 19th consecutive year\, ShortsTV presents the Oscar-Nominated Short Films\, opening on Feb. 16th. With all three categories offered – Animated\, Live Action and Documentary – this is your annual chance to predict the winners! A perennial hit with audiences around the country and the world\, don’t miss this year’s selection of shorts.\nThe running times below are estimates. \nLIVE ACTION SHORTS (Estimated Running Time: 133 minutes) \nThe After – Misan Harriman and Nicky Bentham\, 18 min.\, UK (in English) \nRed\, White and Blue – Nazrin Choudhury and Sara McFarlane\, 23 min.\, USA (in English) \nKnight of Fortune – Lasse Lyskjær Noer and Christian Norlyk\, 25 min.\, Denmark (in Swedish/Danish) \nInvincible – Vincent René-Lortie and Samuel Caron\, 29 min.\, Canada (in French) \nThe Wonderful World of Henry Sugar – Wes Anderson and Steven Rales\, 37 min.\, US/UK (in English) \n \n  \n 
URL:https://trriviera.com/event/2024-oscar-nominated-live-action-shorts-3/
LOCATION:Riviera Theatre Auditorium\, 50 N. Main St.\, Three Rivers\, MI\, 49093\, United States
CATEGORIES:Film
ATTACH;FMTTYPE=image/jpeg:https://trriviera.com/wp-content/uploads/2024/01/2024_Oscar_Poster_V02_LR-scaled.jpg
END:VEVENT
BEGIN:VEVENT
DTSTART;TZID=America/Detroit:20240229T190000
DTEND;TZID=America/Detroit:20240229T210000
DTSTAMP:20260419T221840
CREATED:20240112T184658Z
LAST-MODIFIED:20240112T184658Z
UID:4720-1709233200-1709240400@trriviera.com
SUMMARY:Phoenyx Trivia
DESCRIPTION:Thursdays\, in historic downtown Three Rivers\, we run 3 rounds of trivia over at the Riviera! It all starts at 7PM\, and each round goes for about 40 minutes. Three rounds mean three chances to win prizes! Good drinks\, good food\, now all we need is you & your phone\, to show us how much you know!
URL:https://trriviera.com/event/phoenyx-trivia-39/
LOCATION:Riviera Theatre Bar\, 48 N. Main St.\, Three Rivers\, MI\, 49093\, United States
CATEGORIES:Trivia
ATTACH;FMTTYPE=image/jpeg:https://trriviera.com/wp-content/uploads/2022/11/275179661_477936430358611_1692923731270644259_n.jpg
END:VEVENT
END:VCALENDAR