BEGIN:VCALENDAR
VERSION:2.0
PRODID:-//TR Riviera Theatre - ECPv6.15.13//NONSGML v1.0//EN
CALSCALE:GREGORIAN
METHOD:PUBLISH
X-ORIGINAL-URL:https://trriviera.com
X-WR-CALDESC:Events for TR Riviera Theatre
REFRESH-INTERVAL;VALUE=DURATION:PT1H
X-Robots-Tag:noindex
X-PUBLISHED-TTL:PT1H
BEGIN:VTIMEZONE
TZID:America/Detroit
BEGIN:DAYLIGHT
TZOFFSETFROM:-0500
TZOFFSETTO:-0400
TZNAME:EDT
DTSTART:20230312T070000
END:DAYLIGHT
BEGIN:STANDARD
TZOFFSETFROM:-0400
TZOFFSETTO:-0500
TZNAME:EST
DTSTART:20231105T060000
END:STANDARD
BEGIN:DAYLIGHT
TZOFFSETFROM:-0500
TZOFFSETTO:-0400
TZNAME:EDT
DTSTART:20240310T070000
END:DAYLIGHT
BEGIN:STANDARD
TZOFFSETFROM:-0400
TZOFFSETTO:-0500
TZNAME:EST
DTSTART:20241103T060000
END:STANDARD
BEGIN:DAYLIGHT
TZOFFSETFROM:-0500
TZOFFSETTO:-0400
TZNAME:EDT
DTSTART:20250309T070000
END:DAYLIGHT
BEGIN:STANDARD
TZOFFSETFROM:-0400
TZOFFSETTO:-0500
TZNAME:EST
DTSTART:20251102T060000
END:STANDARD
END:VTIMEZONE
BEGIN:VEVENT
DTSTART;TZID=America/Detroit:20240801T190000
DTEND;TZID=America/Detroit:20240801T210000
DTSTAMP:20260419T143615
CREATED:20240712T155227Z
LAST-MODIFIED:20240712T155227Z
UID:4954-1722538800-1722546000@trriviera.com
SUMMARY:Phoenyx Trivia
DESCRIPTION:Thursdays\, in historic downtown Three Rivers\, we run 3 rounds of trivia over at the Riviera! It all starts at 7PM\, and each round goes for about 40 minutes. Three rounds mean three chances to win prizes! Good drinks\, good food\, now all we need is you & your phone\, to show us how much you know!
URL:https://trriviera.com/event/phoenyx-trivia-57/
LOCATION:Riviera Theatre Bar\, 48 N. Main St.\, Three Rivers\, MI\, 49093\, United States
CATEGORIES:Games,Trivia
ATTACH;FMTTYPE=image/jpeg:https://trriviera.com/wp-content/uploads/2022/11/275179661_477936430358611_1692923731270644259_n.jpg
END:VEVENT
BEGIN:VEVENT
DTSTART;TZID=America/Detroit:20240802T170000
DTEND;TZID=America/Detroit:20240802T200000
DTSTAMP:20260419T143615
CREATED:20240725T160534Z
LAST-MODIFIED:20240725T161856Z
UID:4971-1722618000-1722628800@trriviera.com
SUMMARY:Sass In The City
DESCRIPTION:Save the Date\, Ladies! Come get your SASS on Friday\, August 2\, 2024 from 5-8 p.m. in historic Downtown Three Rivers! Sass in the City is a ladies-centric event held in Downtown Three Rivers that consists of gift bags\, vendors\, music\, activities and special deals at downtown businesses\, and more!\nGet your tickets at https://www.eventbrite.com/…/sass-in-the-city-2024…!
URL:https://trriviera.com/event/sass-in-the-city-2/
LOCATION:Downtown Area
CATEGORIES:Games,Music
ATTACH;FMTTYPE=image/jpeg:https://trriviera.com/wp-content/uploads/2024/07/451703200_891497839682610_3448625570206542376_n.jpg
END:VEVENT
BEGIN:VEVENT
DTSTART;TZID=America/Detroit:20240808T190000
DTEND;TZID=America/Detroit:20240808T210000
DTSTAMP:20260419T143615
CREATED:20240712T155317Z
LAST-MODIFIED:20240712T155317Z
UID:4956-1723143600-1723150800@trriviera.com
SUMMARY:Phoenyx Trivia
DESCRIPTION:Thursdays\, in historic downtown Three Rivers\, we run 3 rounds of trivia over at the Riviera! It all starts at 7PM\, and each round goes for about 40 minutes. Three rounds mean three chances to win prizes! Good drinks\, good food\, now all we need is you & your phone\, to show us how much you know!
URL:https://trriviera.com/event/phoenyx-trivia-58/
LOCATION:Riviera Theatre Bar\, 48 N. Main St.\, Three Rivers\, MI\, 49093\, United States
CATEGORIES:Games,Trivia
ATTACH;FMTTYPE=image/jpeg:https://trriviera.com/wp-content/uploads/2022/11/275179661_477936430358611_1692923731270644259_n.jpg
END:VEVENT
BEGIN:VEVENT
DTSTART;TZID=America/Detroit:20240809T180000
DTEND;TZID=America/Detroit:20240809T210000
DTSTAMP:20260419T143615
CREATED:20240725T170902Z
LAST-MODIFIED:20240725T170902Z
UID:4977-1723226400-1723237200@trriviera.com
SUMMARY:Wildcat Alumni Meet Up
DESCRIPTION:TRHS Class of ’74 will be hosting the 1st annual Wildcat Alumni Meet & Greet for all classes! Pick up wristbands in the East Alley on Fri\, 8/9 at 6pm. \n \n 
URL:https://trriviera.com/event/wildcat-alumni-meet-up/
LOCATION:Riviera Theatre Bar\, 48 N. Main St.\, Three Rivers\, MI\, 49093\, United States
ATTACH;FMTTYPE=image/jpeg:https://trriviera.com/wp-content/uploads/2024/07/Wildcats.jpg
ORGANIZER;CN="Downtown Three Rivers":MAILTO:threeriversdda@gmail.com
END:VEVENT
BEGIN:VEVENT
DTSTART;TZID=America/Detroit:20240815T190000
DTEND;TZID=America/Detroit:20240815T210000
DTSTAMP:20260419T143615
CREATED:20240712T155405Z
LAST-MODIFIED:20240712T155405Z
UID:4958-1723748400-1723755600@trriviera.com
SUMMARY:Phoenyx Trivia
DESCRIPTION:Thursdays\, in historic downtown Three Rivers\, we run 3 rounds of trivia over at the Riviera! It all starts at 7PM\, and each round goes for about 40 minutes. Three rounds mean three chances to win prizes! Good drinks\, good food\, now all we need is you & your phone\, to show us how much you know!
URL:https://trriviera.com/event/phoenyx-trivia-59/
LOCATION:Riviera Theatre Bar\, 48 N. Main St.\, Three Rivers\, MI\, 49093\, United States
CATEGORIES:Games,Trivia
ATTACH;FMTTYPE=image/jpeg:https://trriviera.com/wp-content/uploads/2022/11/275179661_477936430358611_1692923731270644259_n.jpg
END:VEVENT
BEGIN:VEVENT
DTSTART;TZID=America/Detroit:20240822T190000
DTEND;TZID=America/Detroit:20240822T210000
DTSTAMP:20260419T143615
CREATED:20240712T155516Z
LAST-MODIFIED:20240712T155516Z
UID:4960-1724353200-1724360400@trriviera.com
SUMMARY:Phoenyx Trivia
DESCRIPTION:Thursdays\, in historic downtown Three Rivers\, we run 3 rounds of trivia over at the Riviera! It all starts at 7PM\, and each round goes for about 40 minutes. Three rounds mean three chances to win prizes! Good drinks\, good food\, now all we need is you & your phone\, to show us how much you know!
URL:https://trriviera.com/event/phoenyx-trivia-60/
LOCATION:Riviera Theatre Bar\, 48 N. Main St.\, Three Rivers\, MI\, 49093\, United States
CATEGORIES:Games,Trivia
ATTACH;FMTTYPE=image/jpeg:https://trriviera.com/wp-content/uploads/2022/11/275179661_477936430358611_1692923731270644259_n.jpg
END:VEVENT
BEGIN:VEVENT
DTSTART;TZID=America/Detroit:20240829T190000
DTEND;TZID=America/Detroit:20240829T210000
DTSTAMP:20260419T143615
CREATED:20240712T160229Z
LAST-MODIFIED:20240712T160229Z
UID:4962-1724958000-1724965200@trriviera.com
SUMMARY:Phoenyx Trivia
DESCRIPTION:Thursdays\, in historic downtown Three Rivers\, we run 3 rounds of trivia over at the Riviera! It all starts at 7PM\, and each round goes for about 40 minutes. Three rounds mean three chances to win prizes! Good drinks\, good food\, now all we need is you & your phone\, to show us how much you know!
URL:https://trriviera.com/event/phoenyx-trivia-61/
LOCATION:Riviera Theatre Bar\, 48 N. Main St.\, Three Rivers\, MI\, 49093\, United States
CATEGORIES:Games,Trivia
ATTACH;FMTTYPE=image/jpeg:https://trriviera.com/wp-content/uploads/2022/11/275179661_477936430358611_1692923731270644259_n.jpg
END:VEVENT
BEGIN:VEVENT
DTSTART;TZID=America/Detroit:20240830T190000
DTEND;TZID=America/Detroit:20240830T220000
DTSTAMP:20260419T143615
CREATED:20240826T160816Z
LAST-MODIFIED:20240826T160816Z
UID:4986-1725044400-1725055200@trriviera.com
SUMMARY:The Singing Revolution
DESCRIPTION:Most people don’t think about singing when they think about revolution. But song was the weapon of choice when Estonians sought to free themselves from decades of Soviet occupation. The Singing Revolution is an inspiring account of one nation’s dramatic rebirth. It is the story of humankind’s irrepressible drive for freedom and self-determination. The Singing Revolution shares how\, between 1987 and 1991\, hundreds of thousands of Estonians gathered publicly to sing forbidden patriotic songs and share protest speeches\, risking their lives to proclaim their desire for independence. While violence and bloodshed was the unfortunate end result in other occupied nations of the USSR\, the revolutionary songs of the Estonians anchored their struggle for freedom\, which was ultimately accomplished without the loss of a single life. English. NR (2006) Sky Films Inc. Runtime: 97 min. $10.00 suggested donation will be accepted at the box office with all proceeds going to the Latvian Song and Dance Festival.
URL:https://trriviera.com/event/the-singing-revolution/
LOCATION:Riviera Theatre Bar\, 48 N. Main St.\, Three Rivers\, MI\, 49093\, United States
CATEGORIES:Film,Fundraiser
ATTACH;FMTTYPE=image/jpeg:https://trriviera.com/wp-content/uploads/2024/08/Singing-Rev.avif
END:VEVENT
END:VCALENDAR