BEGIN:VCALENDAR
VERSION:2.0
PRODID:-//TR Riviera Theatre - ECPv6.15.13//NONSGML v1.0//EN
CALSCALE:GREGORIAN
METHOD:PUBLISH
X-ORIGINAL-URL:https://trriviera.com
X-WR-CALDESC:Events for TR Riviera Theatre
REFRESH-INTERVAL;VALUE=DURATION:PT1H
X-Robots-Tag:noindex
X-PUBLISHED-TTL:PT1H
BEGIN:VTIMEZONE
TZID:America/Detroit
BEGIN:DAYLIGHT
TZOFFSETFROM:-0500
TZOFFSETTO:-0400
TZNAME:EDT
DTSTART:20230312T070000
END:DAYLIGHT
BEGIN:STANDARD
TZOFFSETFROM:-0400
TZOFFSETTO:-0500
TZNAME:EST
DTSTART:20231105T060000
END:STANDARD
BEGIN:DAYLIGHT
TZOFFSETFROM:-0500
TZOFFSETTO:-0400
TZNAME:EDT
DTSTART:20240310T070000
END:DAYLIGHT
BEGIN:STANDARD
TZOFFSETFROM:-0400
TZOFFSETTO:-0500
TZNAME:EST
DTSTART:20241103T060000
END:STANDARD
BEGIN:DAYLIGHT
TZOFFSETFROM:-0500
TZOFFSETTO:-0400
TZNAME:EDT
DTSTART:20250309T070000
END:DAYLIGHT
BEGIN:STANDARD
TZOFFSETFROM:-0400
TZOFFSETTO:-0500
TZNAME:EST
DTSTART:20251102T060000
END:STANDARD
END:VTIMEZONE
BEGIN:VEVENT
DTSTART;TZID=America/Detroit:20241002T190000
DTEND;TZID=America/Detroit:20241002T210000
DTSTAMP:20260419T114228
CREATED:20240907T012506Z
LAST-MODIFIED:20240907T012506Z
UID:5008-1727895600-1727902800@trriviera.com
SUMMARY:Rocky Horror Picture Show Shadow Cast Auditions
DESCRIPTION:The Three Rivers Community Players are calling all of the creatures of the night to attend open auditions on Oct 2nd at 7pm or Oct 5th at 2pm in the Riviera Theatre auditorium. Everyone who attends will be included. Performances will run Nov. 1-3.
URL:https://trriviera.com/event/rocky-horror-picture-show-shadow-cast-auditions/
LOCATION:Riviera Theatre Auditorium\, 50 N. Main St.\, Three Rivers\, MI\, 49093\, United States
CATEGORIES:Film,Music,Theater
ATTACH;FMTTYPE=image/jpeg:https://trriviera.com/wp-content/uploads/2024/09/IMG_2936.jpeg
ORGANIZER;CN="Three Rivers Community Players":MAILTO:info@trcommunityplayers.org
END:VEVENT
BEGIN:VEVENT
DTSTART;TZID=America/Detroit:20241003T190000
DTEND;TZID=America/Detroit:20241003T210000
DTSTAMP:20260419T114228
CREATED:20240907T003520Z
LAST-MODIFIED:20240907T003520Z
UID:5000-1727982000-1727989200@trriviera.com
SUMMARY:Phoenyx Trivia
DESCRIPTION:Thursdays\, in historic downtown Three Rivers\, we run 3 rounds of trivia over at the Riviera! It all starts at 7PM\, and each round goes for about 40 minutes. Three rounds mean three chances to win prizes! Good drinks\, good food\, now all we need is you & your phone\, to show us how much you know!
URL:https://trriviera.com/event/phoenyx-trivia-66/
LOCATION:Riviera Theatre Bar\, 48 N. Main St.\, Three Rivers\, MI\, 49093\, United States
CATEGORIES:Games,Trivia
ATTACH;FMTTYPE=image/jpeg:https://trriviera.com/wp-content/uploads/2022/11/275179661_477936430358611_1692923731270644259_n.jpg
END:VEVENT
BEGIN:VEVENT
DTSTART;TZID=America/Detroit:20241005T140000
DTEND;TZID=America/Detroit:20241005T160000
DTSTAMP:20260419T114228
CREATED:20240907T012629Z
LAST-MODIFIED:20240907T012629Z
UID:5011-1728136800-1728144000@trriviera.com
SUMMARY:Rocky Horror Picture Show Shadow Cast Auditions
DESCRIPTION:The Three Rivers Community Players are calling all of the creatures of the night to attend open auditions on Oct 2nd at 7pm or Oct 5th at 2pm in the Riviera Theatre auditorium. Everyone who attends will be included. Performances will run Nov. 1-3.
URL:https://trriviera.com/event/rocky-horror-picture-show-shadow-cast-auditions-2/
LOCATION:Riviera Theatre Auditorium\, 50 N. Main St.\, Three Rivers\, MI\, 49093\, United States
CATEGORIES:Film,Music,Theater
ATTACH;FMTTYPE=image/jpeg:https://trriviera.com/wp-content/uploads/2024/09/IMG_2936.jpeg
ORGANIZER;CN="Three Rivers Community Players":MAILTO:info@trcommunityplayers.org
END:VEVENT
BEGIN:VEVENT
DTSTART;TZID=America/Detroit:20241010T190000
DTEND;TZID=America/Detroit:20241010T210000
DTSTAMP:20260419T114228
CREATED:20241009T173021Z
LAST-MODIFIED:20241009T173021Z
UID:5020-1728586800-1728594000@trriviera.com
SUMMARY:Phoenyx Trivia
DESCRIPTION:Thursdays\, in historic downtown Three Rivers\, we run 3 rounds of trivia over at the Riviera! It all starts at 7PM\, and each round goes for about 40 minutes. Three rounds mean three chances to win prizes! Good drinks\, good food\, now all we need is you & your phone\, to show us how much you know!
URL:https://trriviera.com/event/phoenyx-trivia-68/
LOCATION:Riviera Theatre Bar\, 48 N. Main St.\, Three Rivers\, MI\, 49093\, United States
CATEGORIES:Games,Trivia
ATTACH;FMTTYPE=image/jpeg:https://trriviera.com/wp-content/uploads/2022/11/275179661_477936430358611_1692923731270644259_n.jpg
END:VEVENT
BEGIN:VEVENT
DTSTART;TZID=America/Detroit:20241012T180000
DTEND;TZID=America/Detroit:20241012T220000
DTSTAMP:20260419T114228
CREATED:20241009T174932Z
LAST-MODIFIED:20241009T175059Z
UID:5033-1728756000-1728770400@trriviera.com
SUMMARY:TRHS '89 Reunion
DESCRIPTION:TRHS Class of ’89 will be hosting their 35th reunion from 6-10pm at the Riviera Theatre & Bar on Saturday\, Oct. 12th!  A pizza buffet will be set up in the bar and Sweet Jonny will entertain in the bar. \n \n 
URL:https://trriviera.com/event/trhs-89-reunion/
LOCATION:Riviera Theatre Bar\, 48 N. Main St.\, Three Rivers\, MI\, 49093\, United States
ATTACH;FMTTYPE=image/jpeg:https://trriviera.com/wp-content/uploads/2024/10/trhs-‘89-reunion.avif
ORGANIZER;CN="Downtown Three Rivers":MAILTO:threeriversdda@gmail.com
END:VEVENT
BEGIN:VEVENT
DTSTART;TZID=America/Detroit:20241017T190000
DTEND;TZID=America/Detroit:20241017T210000
DTSTAMP:20260419T114228
CREATED:20241009T172932Z
LAST-MODIFIED:20241009T172932Z
UID:5022-1729191600-1729198800@trriviera.com
SUMMARY:Phoenyx Trivia
DESCRIPTION:Thursdays\, in historic downtown Three Rivers\, we run 3 rounds of trivia over at the Riviera! It all starts at 7PM\, and each round goes for about 40 minutes. Three rounds mean three chances to win prizes! Good drinks\, good food\, now all we need is you & your phone\, to show us how much you know!
URL:https://trriviera.com/event/phoenyx-trivia-67/
LOCATION:Riviera Theatre Bar\, 48 N. Main St.\, Three Rivers\, MI\, 49093\, United States
CATEGORIES:Games,Trivia
ATTACH;FMTTYPE=image/jpeg:https://trriviera.com/wp-content/uploads/2022/11/275179661_477936430358611_1692923731270644259_n.jpg
END:VEVENT
BEGIN:VEVENT
DTSTART;TZID=America/Detroit:20241024T190000
DTEND;TZID=America/Detroit:20241024T210000
DTSTAMP:20260419T114228
CREATED:20241009T173103Z
LAST-MODIFIED:20241009T173103Z
UID:5021-1729796400-1729803600@trriviera.com
SUMMARY:Phoenyx Trivia
DESCRIPTION:Thursdays\, in historic downtown Three Rivers\, we run 3 rounds of trivia over at the Riviera! It all starts at 7PM\, and each round goes for about 40 minutes. Three rounds mean three chances to win prizes! Good drinks\, good food\, now all we need is you & your phone\, to show us how much you know!
URL:https://trriviera.com/event/phoenyx-trivia-69/
LOCATION:Riviera Theatre Bar\, 48 N. Main St.\, Three Rivers\, MI\, 49093\, United States
CATEGORIES:Games,Trivia
ATTACH;FMTTYPE=image/jpeg:https://trriviera.com/wp-content/uploads/2022/11/275179661_477936430358611_1692923731270644259_n.jpg
END:VEVENT
BEGIN:VEVENT
DTSTART;TZID=America/Detroit:20241025T210000
DTEND;TZID=America/Detroit:20241025T222300
DTSTAMP:20260419T114228
CREATED:20241017T220430Z
LAST-MODIFIED:20241017T220514Z
UID:5052-1729890000-1729894980@trriviera.com
SUMMARY:Texas Chain Saw Massacre
DESCRIPTION:En route to visit their grandfather’s grave (which has apparently been ritualistically desecrated)\, five teenagers drive past a slaughterhouse\, pick up (and quickly drop) a sinister hitch-hiker\, eat some delicious home-cured meat at a roadside gas station\, before ending up at the old family home… where they’re plunged into a never-ending nightmare as they meet a family of cannibals who more than make up in power tools what they lack in social skills…\n\n1974\, 83 mins\, rated R.
URL:https://trriviera.com/event/texas-chain-saw-massacre/
LOCATION:Riviera Theatre Auditorium\, 50 N. Main St.\, Three Rivers\, MI\, 49093\, United States
CATEGORIES:Film
ATTACH;FMTTYPE=image/jpeg:https://trriviera.com/wp-content/uploads/2024/10/TCSM.avif
END:VEVENT
BEGIN:VEVENT
DTSTART;TZID=America/Detroit:20241026T210000
DTEND;TZID=America/Detroit:20241026T222300
DTSTAMP:20260419T114228
CREATED:20241017T220638Z
LAST-MODIFIED:20241017T220638Z
UID:5055-1729976400-1729981380@trriviera.com
SUMMARY:Texas Chain Saw Massacre
DESCRIPTION:En route to visit their grandfather’s grave (which has apparently been ritualistically desecrated)\, five teenagers drive past a slaughterhouse\, pick up (and quickly drop) a sinister hitch-hiker\, eat some delicious home-cured meat at a roadside gas station\, before ending up at the old family home… where they’re plunged into a never-ending nightmare as they meet a family of cannibals who more than make up in power tools what they lack in social skills…\n\n1974\, 83 mins\, rated R.
URL:https://trriviera.com/event/texas-chain-saw-massacre-2/
LOCATION:Riviera Theatre Auditorium\, 50 N. Main St.\, Three Rivers\, MI\, 49093\, United States
CATEGORIES:Film
ATTACH;FMTTYPE=image/jpeg:https://trriviera.com/wp-content/uploads/2024/10/TCSM.avif
END:VEVENT
BEGIN:VEVENT
DTSTART;TZID=America/Detroit:20241031T190000
DTEND;TZID=America/Detroit:20241031T210000
DTSTAMP:20260419T114228
CREATED:20241009T173157Z
LAST-MODIFIED:20241009T173157Z
UID:5026-1730401200-1730408400@trriviera.com
SUMMARY:Phoenyx Trivia
DESCRIPTION:Thursdays\, in historic downtown Three Rivers\, we run 3 rounds of trivia over at the Riviera! It all starts at 7PM\, and each round goes for about 40 minutes. Three rounds mean three chances to win prizes! Good drinks\, good food\, now all we need is you & your phone\, to show us how much you know!
URL:https://trriviera.com/event/phoenyx-trivia-70/
LOCATION:Riviera Theatre Bar\, 48 N. Main St.\, Three Rivers\, MI\, 49093\, United States
CATEGORIES:Games,Trivia
ATTACH;FMTTYPE=image/jpeg:https://trriviera.com/wp-content/uploads/2022/11/275179661_477936430358611_1692923731270644259_n.jpg
END:VEVENT
END:VCALENDAR