BEGIN:VCALENDAR
VERSION:2.0
PRODID:-//TR Riviera Theatre - ECPv6.15.13//NONSGML v1.0//EN
CALSCALE:GREGORIAN
METHOD:PUBLISH
X-WR-CALNAME:TR Riviera Theatre
X-ORIGINAL-URL:https://trriviera.com
X-WR-CALDESC:Events for TR Riviera Theatre
REFRESH-INTERVAL;VALUE=DURATION:PT1H
X-Robots-Tag:noindex
X-PUBLISHED-TTL:PT1H
BEGIN:VTIMEZONE
TZID:America/Detroit
BEGIN:DAYLIGHT
TZOFFSETFROM:-0500
TZOFFSETTO:-0400
TZNAME:EDT
DTSTART:20230312T070000
END:DAYLIGHT
BEGIN:STANDARD
TZOFFSETFROM:-0400
TZOFFSETTO:-0500
TZNAME:EST
DTSTART:20231105T060000
END:STANDARD
BEGIN:DAYLIGHT
TZOFFSETFROM:-0500
TZOFFSETTO:-0400
TZNAME:EDT
DTSTART:20240310T070000
END:DAYLIGHT
BEGIN:STANDARD
TZOFFSETFROM:-0400
TZOFFSETTO:-0500
TZNAME:EST
DTSTART:20241103T060000
END:STANDARD
BEGIN:DAYLIGHT
TZOFFSETFROM:-0500
TZOFFSETTO:-0400
TZNAME:EDT
DTSTART:20250309T070000
END:DAYLIGHT
BEGIN:STANDARD
TZOFFSETFROM:-0400
TZOFFSETTO:-0500
TZNAME:EST
DTSTART:20251102T060000
END:STANDARD
END:VTIMEZONE
BEGIN:VEVENT
DTSTART;TZID=America/Detroit:20241101T200000
DTEND;TZID=America/Detroit:20241101T220000
DTSTAMP:20260419T101715
CREATED:20240712T154109Z
LAST-MODIFIED:20241017T215349Z
UID:4945-1730491200-1730498400@trriviera.com
SUMMARY:Halloween Party wsg Panda Pete
DESCRIPTION:Rivera Theatre will be hosting our annual Halloween party on Nov. 1st with special guest Panda Pete.  Come dressed in your favorite costume to enjoy drink specials and being entertained by a singer-songwriter\, Panda Pete\, who performs original and covers from 1950s music to today. Pete plays a wide variety of music from Sinatra to Jimmy Buffet and Billy Joel to Johnny Cash. No cover. \n \n 
URL:https://trriviera.com/event/panda-pete/
LOCATION:Riviera Theatre Bar\, 48 N. Main St.\, Three Rivers\, MI\, 49093\, United States
CATEGORIES:Music
ATTACH;FMTTYPE=image/jpeg:https://trriviera.com/wp-content/uploads/2024/07/HHalloween.avif
END:VEVENT
BEGIN:VEVENT
DTSTART;TZID=America/Detroit:20241101T220000
DTEND;TZID=America/Detroit:20241101T234000
DTSTAMP:20260419T101715
CREATED:20241022T193043Z
LAST-MODIFIED:20241022T225421Z
UID:5072-1730498400-1730504400@trriviera.com
SUMMARY:Rocky Horror Picture Show w/ TRCP Shadow Cast
DESCRIPTION:The Riviera in collaboration with the Three Rivers Community Players bring you the Rocky Horror Picture Show with a TRCP shadow cast Nov. 1 & 2 @ 10pm & 3 @ 4pm!! In this cult classic\, sweethearts Brad (Barry Bostwick) and Janet (Susan Sarandon)\, stuck with a flat tire during a storm\, discover the eerie mansion of Dr. Frank-N-Furter (Tim Curry)\, a transvestite scientist. As their innocence is lost\, Brad and Janet meet a houseful of wild characters\, including a rocking biker (Meat Loaf) and a creepy butler (Richard O’Brien). Through elaborate dances and rock songs\, Frank-N-Furter unveils his latest creation: a muscular man named “Rocky.” 1975 (USA) Rated R – 100 mins. wsg Three Rivers Community Players performing the shadow cast. 18+ or with supervising adult. $15 tickets available at the Riviera box office 60 mins prior to show time or online at https://www.purplepass.com/rhpsthreerivers Prop bags will be available.
URL:https://trriviera.com/event/rocky-horror-picture-show-w-trcp-shadow-cast-4/
LOCATION:Riviera Theatre Auditorium\, 50 N. Main St.\, Three Rivers\, MI\, 49093\, United States
CATEGORIES:Film
ATTACH;FMTTYPE=image/jpeg:https://trriviera.com/wp-content/uploads/2024/10/rhps-2-1.avif
END:VEVENT
BEGIN:VEVENT
DTSTART;TZID=America/Detroit:20241102T220000
DTEND;TZID=America/Detroit:20241102T234000
DTSTAMP:20260419T101715
CREATED:20241022T193146Z
LAST-MODIFIED:20241022T225122Z
UID:5074-1730584800-1730590800@trriviera.com
SUMMARY:Rocky Horror Picture Show w/ TRCP Shadow Cast
DESCRIPTION:The Riviera in collaboration with the Three Rivers Community Players bring you the Rocky Horror Picture Show with a TRCP shadow cast Nov. 1 & 2 @ 10pm & 3 @ 4pm!! In this cult classic\, sweethearts Brad (Barry Bostwick) and Janet (Susan Sarandon)\, stuck with a flat tire during a storm\, discover the eerie mansion of Dr. Frank-N-Furter (Tim Curry)\, a transvestite scientist. As their innocence is lost\, Brad and Janet meet a houseful of wild characters\, including a rocking biker (Meat Loaf) and a creepy butler (Richard O’Brien). Through elaborate dances and rock songs\, Frank-N-Furter unveils his latest creation: a muscular man named “Rocky.” 1975 (USA) Rated R – 100 mins. wsg Three Rivers Community Players performing the shadow cast. 18+ or with supervising adult. $15 tickets available at the Riviera box office 60 mins prior to show time or online at https://www.purplepass.com/rhpsthreerivers Prop bags will be available.
URL:https://trriviera.com/event/rocky-horror-picture-show-w-trcp-shadow-cast-5/
LOCATION:Riviera Theatre Auditorium\, 50 N. Main St.\, Three Rivers\, MI\, 49093\, United States
CATEGORIES:Film
ATTACH;FMTTYPE=image/jpeg:https://trriviera.com/wp-content/uploads/2024/10/rhps-2-1.avif
END:VEVENT
BEGIN:VEVENT
DTSTART;TZID=America/Detroit:20241103T160000
DTEND;TZID=America/Detroit:20241103T174000
DTSTAMP:20260419T101715
CREATED:20241017T221430Z
LAST-MODIFIED:20241022T224216Z
UID:5062-1730649600-1730655600@trriviera.com
SUMMARY:Rocky Horror Picture Show w/ TRCP Shadow Cast
DESCRIPTION:The Riviera in collaboration with the Three Rivers Community Players bring you the Rocky Horror Picture Show with a TRCP shadow cast Nov. 1 & 2 @ 10pm & 3 @ 4pm!! In this cult classic\, sweethearts Brad (Barry Bostwick) and Janet (Susan Sarandon)\, stuck with a flat tire during a storm\, discover the eerie mansion of Dr. Frank-N-Furter (Tim Curry)\, a transvestite scientist. As their innocence is lost\, Brad and Janet meet a houseful of wild characters\, including a rocking biker (Meat Loaf) and a creepy butler (Richard O’Brien). Through elaborate dances and rock songs\, Frank-N-Furter unveils his latest creation: a muscular man named “Rocky.” 1975 (USA) Rated R – 100 mins. wsg Three Rivers Community Players performing the shadow cast. 18+ or with supervising adult. $15 tickets available at the Riviera box office 60 mins prior to show time or online at https://www.purplepass.com/rhpsthreerivers Prop bags will be available.
URL:https://trriviera.com/event/rocky-horror-picture-show-3/
LOCATION:Riviera Theatre Auditorium\, 50 N. Main St.\, Three Rivers\, MI\, 49093\, United States
CATEGORIES:Film
ATTACH;FMTTYPE=image/jpeg:https://trriviera.com/wp-content/uploads/2024/10/rhps-2-1.avif
END:VEVENT
BEGIN:VEVENT
DTSTART;TZID=America/Detroit:20241107T190000
DTEND;TZID=America/Detroit:20241107T210000
DTSTAMP:20260419T101715
CREATED:20241017T215529Z
LAST-MODIFIED:20241017T215529Z
UID:5046-1731006000-1731013200@trriviera.com
SUMMARY:Phoenyx Trivia
DESCRIPTION:Thursdays\, in historic downtown Three Rivers\, we run 3 rounds of trivia over at the Riviera! It all starts at 7PM\, and each round goes for about 40 minutes. Three rounds mean three chances to win prizes! Good drinks\, good food\, now all we need is you & your phone\, to show us how much you know!
URL:https://trriviera.com/event/phoenyx-trivia-71/
LOCATION:Riviera Theatre Bar\, 48 N. Main St.\, Three Rivers\, MI\, 49093\, United States
CATEGORIES:Games,Trivia
ATTACH;FMTTYPE=image/jpeg:https://trriviera.com/wp-content/uploads/2022/11/275179661_477936430358611_1692923731270644259_n.jpg
END:VEVENT
BEGIN:VEVENT
DTSTART;TZID=America/Detroit:20241114T193000
DTEND;TZID=America/Detroit:20241114T210000
DTSTAMP:20260419T101715
CREATED:20241017T222616Z
LAST-MODIFIED:20241017T222616Z
UID:5064-1731612600-1731618000@trriviera.com
SUMMARY:Warren Miller's - 75
DESCRIPTION:Warren Miller is going big for 75 years! Stacked with unbelievable action and unexpected stories\, Warren Miller’s 75 will bring fans to powder stashes and chutes around the world\, from Canada\, Colorado\, California\, and Utah to Finland\, Japan\, Austria\, and New Jersey. Catch a diverse lineup of snowsports legends\, Olympic hopefuls\, world champions\, X Games stars\, and emerging talents on the big screen this fall\, including snowboarders Shaun White\, Jeremy Jones\, Danny Davis\, and Toby Miller\, plus skiers Max Hitzig\, Lexi duPont\, Caite Zeliff\, Mark Abma\, and Aaron Blunck. \nWith original segments and unique collaborations\, this year’s film will set the tone for the next 75 years of ski and snowboard filmmaking. Get ready for the celebration that is 75. Tickets are on sale now. Find a show near you. \nFeatured Athletes  \nSelema Masakela | Shaun White | Caite Zeliff | Jeremy Jones | LJ Henriquez\nMax Hitzig | Danny Davis | Parkin Costain | Toby Miller | JJ Thomas | Alex Ferreira\nLexi duPont | Noah Maisonet | Zeb Powell | Daron Rahlves | Connery Lundin\nAaron Blunck | Mark Abma  | Cassie Sharpe | Juho Kilkki | Luis Medearis\nCass Jones | Mia Jones \nDoors open at 6:15. Tickets are $15 can be purchased at http://warrenmiller.blogspot.com. Please contact Curt Zondervan\, warrenmillershow@gmail.com for more information.
URL:https://trriviera.com/event/warren-millers-75/
LOCATION:Riviera Theatre Auditorium\, 50 N. Main St.\, Three Rivers\, MI\, 49093\, United States
CATEGORIES:Film
ATTACH;FMTTYPE=image/jpeg:https://trriviera.com/wp-content/uploads/2024/10/Warren-Miller-75th.avif
END:VEVENT
BEGIN:VEVENT
DTSTART;TZID=America/Detroit:20241121T190000
DTEND;TZID=America/Detroit:20241121T210000
DTSTAMP:20260419T101715
CREATED:20241017T215638Z
LAST-MODIFIED:20241017T215638Z
UID:5048-1732215600-1732222800@trriviera.com
SUMMARY:Phoenyx Trivia
DESCRIPTION:Thursdays\, in historic downtown Three Rivers\, we run 3 rounds of trivia over at the Riviera! It all starts at 7PM\, and each round goes for about 40 minutes. Three rounds mean three chances to win prizes! Good drinks\, good food\, now all we need is you & your phone\, to show us how much you know!
URL:https://trriviera.com/event/phoenyx-trivia-72/
LOCATION:Riviera Theatre Bar\, 48 N. Main St.\, Three Rivers\, MI\, 49093\, United States
CATEGORIES:Games,Trivia
ATTACH;FMTTYPE=image/jpeg:https://trriviera.com/wp-content/uploads/2022/11/275179661_477936430358611_1692923731270644259_n.jpg
END:VEVENT
BEGIN:VEVENT
DTSTART;TZID=America/Detroit:20241128T190000
DTEND;TZID=America/Detroit:20241128T210000
DTSTAMP:20260419T101715
CREATED:20241017T215757Z
LAST-MODIFIED:20241017T215757Z
UID:5050-1732820400-1732827600@trriviera.com
SUMMARY:Phoenyx Trivia
DESCRIPTION:Thursdays\, in historic downtown Three Rivers\, we run 3 rounds of trivia over at the Riviera! It all starts at 7PM\, and each round goes for about 40 minutes. Three rounds mean three chances to win prizes! Good drinks\, good food\, now all we need is you & your phone\, to show us how much you know!
URL:https://trriviera.com/event/phoenyx-trivia-73/
LOCATION:Riviera Theatre Bar\, 48 N. Main St.\, Three Rivers\, MI\, 49093\, United States
CATEGORIES:Games,Trivia
ATTACH;FMTTYPE=image/jpeg:https://trriviera.com/wp-content/uploads/2022/11/275179661_477936430358611_1692923731270644259_n.jpg
END:VEVENT
BEGIN:VEVENT
DTSTART;TZID=America/Detroit:20241129T190000
DTEND;TZID=America/Detroit:20241129T213000
DTSTAMP:20260419T101716
CREATED:20241118T060329Z
LAST-MODIFIED:20241118T060329Z
UID:5128-1732906800-1732915800@trriviera.com
SUMMARY:Holiday Spectacular Concert at the Riviera
DESCRIPTION:Join the Three Rivers’ DDA Friday Nov. 29th for a holiday concert at 7pm featuring bands\, ensembles\, choirs\, & soloists following the Christmas tree lighting in the Mural Mall at 6pm. Suggested donation $5.
URL:https://trriviera.com/event/holiday-spectacular-concert-at-the-riviera/
LOCATION:Riviera Theatre Auditorium\, 50 N. Main St.\, Three Rivers\, MI\, 49093\, United States
CATEGORIES:DDA Event
ATTACH;FMTTYPE=image/jpeg:https://trriviera.com/wp-content/uploads/2024/11/CAT-2.avif
END:VEVENT
BEGIN:VEVENT
DTSTART;TZID=America/Detroit:20241130T120000
DTEND;TZID=America/Detroit:20241130T160000
DTSTAMP:20260419T101716
CREATED:20241118T052941Z
LAST-MODIFIED:20241118T052941Z
UID:5113-1732968000-1732982400@trriviera.com
SUMMARY:Santa visits at the Riviera!!
DESCRIPTION:Santa arrives via fire truck on noon on Saturday to hear Christmas wishes and pose for photos with young and old alike.  His chair will be set up on the stage until 4pm.  Don’t forget to explore all of the extra fun activities that the DDA has planned for Christmas Around Town this year!!
URL:https://trriviera.com/event/santa-visits-at-the-riviera-3/
LOCATION:Riviera Theatre Auditorium\, 50 N. Main St.\, Three Rivers\, MI\, 49093\, United States
CATEGORIES:DDA Event
ATTACH;FMTTYPE=image/jpeg:https://trriviera.com/wp-content/uploads/2024/11/CAT-2.avif
END:VEVENT
END:VCALENDAR